BEGIN:VCALENDAR
VERSION:2.0
PRODID:-// - ECPv6.15.20//NONSGML v1.0//EN
CALSCALE:GREGORIAN
METHOD:PUBLISH
X-ORIGINAL-URL:https://neta65.org
X-WR-CALDESC:Events for 
REFRESH-INTERVAL;VALUE=DURATION:PT1H
X-Robots-Tag:noindex
X-PUBLISHED-TTL:PT1H
BEGIN:VTIMEZONE
TZID:America/Chicago
BEGIN:DAYLIGHT
TZOFFSETFROM:-0600
TZOFFSETTO:-0500
TZNAME:CDT
DTSTART:20240310T080000
END:DAYLIGHT
BEGIN:STANDARD
TZOFFSETFROM:-0500
TZOFFSETTO:-0600
TZNAME:CST
DTSTART:20241103T070000
END:STANDARD
BEGIN:DAYLIGHT
TZOFFSETFROM:-0600
TZOFFSETTO:-0500
TZNAME:CDT
DTSTART:20250309T080000
END:DAYLIGHT
BEGIN:STANDARD
TZOFFSETFROM:-0500
TZOFFSETTO:-0600
TZNAME:CST
DTSTART:20251102T070000
END:STANDARD
BEGIN:DAYLIGHT
TZOFFSETFROM:-0600
TZOFFSETTO:-0500
TZNAME:CDT
DTSTART:20260308T080000
END:DAYLIGHT
BEGIN:STANDARD
TZOFFSETFROM:-0500
TZOFFSETTO:-0600
TZNAME:CST
DTSTART:20261101T070000
END:STANDARD
END:VTIMEZONE
BEGIN:VEVENT
DTSTART;TZID=America/Chicago:20250314T170000
DTEND;TZID=America/Chicago:20250316T123000
DTSTAMP:20260423T122622
CREATED:20241231T160058Z
LAST-MODIFIED:20250315T170952Z
UID:10000806-1741971600-1742128200@neta65.org
SUMMARY:2025 Spring Area Assembly
DESCRIPTION:Please join us for our Spring 2025. We will need your involvement in mock committees to help represent NETA65 wants for the upcoming 2025 General Service Conference! This helps keep our conference Delegate representative informed of the Area’s desires. \n\nHotel rooms at group rate available until Feb 21\, 2025 – NETA65 Booking link\nAgenda\nCommittee Reports\nZoom Info:\n\nLink to join\nMeeting ID: 893 3819 1860\nPasscode: 677962\n\n\nRegister for the assembly\n\nNote: Committee assignments will be sent out on March 8th!
URL:https://neta65.org/event/neta65-2025-spring-assembly/
LOCATION:Fairfield Inn & Suites\, 5909 Stone Creek Drive\, The Colony\, 75056\, United States
CATEGORIES:Assembly and ACM
ATTACH;FMTTYPE=image/png:https://neta65.org/wp-content/uploads/2024/12/2025-Spring-Assembly-Flyer.png
END:VEVENT
END:VCALENDAR