BEGIN:VCALENDAR
VERSION:2.0
PRODID:-// - ECPv6.15.20//NONSGML v1.0//EN
CALSCALE:GREGORIAN
METHOD:PUBLISH
X-ORIGINAL-URL:https://neta65.org
X-WR-CALDESC:Events for 
REFRESH-INTERVAL;VALUE=DURATION:PT1H
X-Robots-Tag:noindex
X-PUBLISHED-TTL:PT1H
BEGIN:VTIMEZONE
TZID:America/Chicago
BEGIN:DAYLIGHT
TZOFFSETFROM:-0600
TZOFFSETTO:-0500
TZNAME:CDT
DTSTART:20240310T080000
END:DAYLIGHT
BEGIN:STANDARD
TZOFFSETFROM:-0500
TZOFFSETTO:-0600
TZNAME:CST
DTSTART:20241103T070000
END:STANDARD
BEGIN:DAYLIGHT
TZOFFSETFROM:-0600
TZOFFSETTO:-0500
TZNAME:CDT
DTSTART:20250309T080000
END:DAYLIGHT
BEGIN:STANDARD
TZOFFSETFROM:-0500
TZOFFSETTO:-0600
TZNAME:CST
DTSTART:20251102T070000
END:STANDARD
BEGIN:DAYLIGHT
TZOFFSETFROM:-0600
TZOFFSETTO:-0500
TZNAME:CDT
DTSTART:20260308T080000
END:DAYLIGHT
BEGIN:STANDARD
TZOFFSETFROM:-0500
TZOFFSETTO:-0600
TZNAME:CST
DTSTART:20261101T070000
END:STANDARD
END:VTIMEZONE
BEGIN:VEVENT
DTSTART;TZID=America/Chicago:20250531T090000
DTEND;TZID=America/Chicago:20250531T110000
DTSTAMP:20260423T092834
CREATED:20250130T221835Z
LAST-MODIFIED:20250216T203422Z
UID:10000867-1748682000-1748689200@neta65.org
SUMMARY:Conference Connect -  BootCamp 2
DESCRIPTION:BootCamp 2:Delegate’s Conference Report – Flyer Eng| Esp\nThe Delegate will host a Delegate’s Report Back BootCamp orientation/training once each year in Panel 75 just before the Summer Assembly to help all Assembly attendees understand and prepare for their participation in the Conference Report back at the Summer Assembly. \nZoom Meeting ID : 455 571 1924 Passcode: 051617
URL:https://neta65.org/event/conference-connect-bootcamp-2/
LOCATION:
CATEGORIES:Delegate Report
ATTACH;FMTTYPE=image/png:https://neta65.org/wp-content/uploads/2025/02/Conference-Connect-2025-2.png
ORGANIZER;CN="Delegate":MAILTO:delegate@neta65.org
END:VEVENT
BEGIN:VEVENT
DTSTART;TZID=America/Chicago:20250531T190000
DTEND;TZID=America/Chicago:20250531T210000
DTSTAMP:20260423T092834
CREATED:20250518T221928Z
LAST-MODIFIED:20250518T223542Z
UID:10001179-1748718000-1748725200@neta65.org
SUMMARY:La Vina Writing Workshop (Spanish)
DESCRIPTION:La Vina Writing Workshop (in Spanish)\nWe will present a brief video about the history and Impact of the magazine on the Hispanic Community.\nHave members that were published on LV\, share their experience.\nDiscuss the guidelines for contributing to La Viña.\nHow to start writing a draft.\nOptions on how to submit your experience to the magazine.\nParticipants will also have the opportunity to share what they wrote.\nRaffle of a digital subscription.\nFood and fellowship!
URL:https://neta65.org/event/la-vina-writing-workshop-2/
LOCATION:Longview – Solo x Hoy\, 2035 South High St\, Longview\, TX\, 75602\, United States
CATEGORIES:Grapevine-LaViña
ATTACH;FMTTYPE=image/png:https://neta65.org/wp-content/uploads/2025/05/LaVina-5-31.png
END:VEVENT
END:VCALENDAR