BEGIN:VCALENDAR
VERSION:2.0
PRODID:-// - ECPv6.15.20//NONSGML v1.0//EN
CALSCALE:GREGORIAN
METHOD:PUBLISH
X-ORIGINAL-URL:https://neta65.org
X-WR-CALDESC:Events for 
REFRESH-INTERVAL;VALUE=DURATION:PT1H
X-Robots-Tag:noindex
X-PUBLISHED-TTL:PT1H
BEGIN:VTIMEZONE
TZID:America/Chicago
BEGIN:DAYLIGHT
TZOFFSETFROM:-0600
TZOFFSETTO:-0500
TZNAME:CDT
DTSTART:20240310T080000
END:DAYLIGHT
BEGIN:STANDARD
TZOFFSETFROM:-0500
TZOFFSETTO:-0600
TZNAME:CST
DTSTART:20241103T070000
END:STANDARD
BEGIN:DAYLIGHT
TZOFFSETFROM:-0600
TZOFFSETTO:-0500
TZNAME:CDT
DTSTART:20250309T080000
END:DAYLIGHT
BEGIN:STANDARD
TZOFFSETFROM:-0500
TZOFFSETTO:-0600
TZNAME:CST
DTSTART:20251102T070000
END:STANDARD
BEGIN:DAYLIGHT
TZOFFSETFROM:-0600
TZOFFSETTO:-0500
TZNAME:CDT
DTSTART:20260308T080000
END:DAYLIGHT
BEGIN:STANDARD
TZOFFSETFROM:-0500
TZOFFSETTO:-0600
TZNAME:CST
DTSTART:20261101T070000
END:STANDARD
END:VTIMEZONE
BEGIN:VEVENT
DTSTART;TZID=America/Chicago:20250602T193000
DTEND;TZID=America/Chicago:20250602T203000
DTSTAMP:20260423T064546
CREATED:20250328T140211Z
LAST-MODIFIED:20250825T193757Z
UID:10000967-1748892600-1748896200@neta65.org
SUMMARY:Area 65 Public Information Committee - Spanish
DESCRIPTION:-Spanish speaking zoom. \n\n\nArea 65 Comite de Informacion Publica07:30 PM Central Time (US and Canada)\nEvery month on the First Monday \n\nMeeting ID 839 3461 0982\n\nPasscode 623357
URL:https://neta65.org/event/area-65-comite-de-informacion-publica-2/2025-06-02/
LOCATION:https://us02web.zoom.us/j/83934610982?pwd=4WiQeNFG1kFZL71b94cENNHiNFEv39.1
END:VEVENT
END:VCALENDAR