BEGIN:VCALENDAR
VERSION:2.0
PRODID:-// - ECPv6.15.20//NONSGML v1.0//EN
CALSCALE:GREGORIAN
METHOD:PUBLISH
X-ORIGINAL-URL:https://neta65.org
X-WR-CALDESC:Events for 
REFRESH-INTERVAL;VALUE=DURATION:PT1H
X-Robots-Tag:noindex
X-PUBLISHED-TTL:PT1H
BEGIN:VTIMEZONE
TZID:America/Chicago
BEGIN:DAYLIGHT
TZOFFSETFROM:-0600
TZOFFSETTO:-0500
TZNAME:CDT
DTSTART:20240310T080000
END:DAYLIGHT
BEGIN:STANDARD
TZOFFSETFROM:-0500
TZOFFSETTO:-0600
TZNAME:CST
DTSTART:20241103T070000
END:STANDARD
BEGIN:DAYLIGHT
TZOFFSETFROM:-0600
TZOFFSETTO:-0500
TZNAME:CDT
DTSTART:20250309T080000
END:DAYLIGHT
BEGIN:STANDARD
TZOFFSETFROM:-0500
TZOFFSETTO:-0600
TZNAME:CST
DTSTART:20251102T070000
END:STANDARD
BEGIN:DAYLIGHT
TZOFFSETFROM:-0600
TZOFFSETTO:-0500
TZNAME:CDT
DTSTART:20260308T080000
END:DAYLIGHT
BEGIN:STANDARD
TZOFFSETFROM:-0500
TZOFFSETTO:-0600
TZNAME:CST
DTSTART:20261101T070000
END:STANDARD
END:VTIMEZONE
BEGIN:VEVENT
DTSTART;TZID=America/Chicago:20250621T100000
DTEND;TZID=America/Chicago:20250621T110000
DTSTAMP:20260423T064546
CREATED:20250504T224425Z
LAST-MODIFIED:20250504T224524Z
UID:10001115-1750500000-1750503600@neta65.org
SUMMARY:NETA65 CPC Committee Monthly Meeting
DESCRIPTION:Monthly CPC Committee meeting:\n3rd Saturday of the month at 10am via zoom\n\nJoin Zoom Meeting or select Link:\nMeeting ID: 916 2176 7662Passcode: 645587
URL:https://neta65.org/event/cpc-committee-meeting-26-2-2-2/2025-06-21/
LOCATION:https://zoom.us/j/91621767662?pwd=Gg2HZXV3VOGNChfX385j1DVZk6HH4k.1
END:VEVENT
BEGIN:VEVENT
DTSTART;TZID=America/Chicago:20250621T140000
DTEND;TZID=America/Chicago:20250621T170000
DTSTAMP:20260423T064546
CREATED:20250204T200205Z
LAST-MODIFIED:20250206T205950Z
UID:10000873-1750514400-1750525200@neta65.org
SUMMARY:2025 Grape-a-Thon / La Vina-Thon
DESCRIPTION:This year’s Grape-a-Thon / La Vina-Thon will be a bilingual and hybrid event. \nDate: Saturday\, June 21st\, 2pm-5pm \nAddress:\nHarbor Club\n3000 W. 5th St.\nFort Worth\, TX 76107 \nZoom/hybrid:\nMeeting ID: 949 4767 497\nPasscode: neta65
URL:https://neta65.org/event/2025-grape-a-thon-la-vina-thon/
LOCATION:Harbor Club\, 3000 W. 5th St\, Fort Worth\, TX\, 76107\, United States
CATEGORIES:Grapevine-LaViña
ATTACH;FMTTYPE=image/png:https://neta65.org/wp-content/uploads/2025/02/Flyer-7-2025-grapeathon.png
END:VEVENT
END:VCALENDAR