BEGIN:VCALENDAR
VERSION:2.0
PRODID:-// - ECPv6.15.20//NONSGML v1.0//EN
CALSCALE:GREGORIAN
METHOD:PUBLISH
X-ORIGINAL-URL:https://neta65.org
X-WR-CALDESC:Events for 
REFRESH-INTERVAL;VALUE=DURATION:PT1H
X-Robots-Tag:noindex
X-PUBLISHED-TTL:PT1H
BEGIN:VTIMEZONE
TZID:America/Chicago
BEGIN:DAYLIGHT
TZOFFSETFROM:-0600
TZOFFSETTO:-0500
TZNAME:CDT
DTSTART:20240310T080000
END:DAYLIGHT
BEGIN:STANDARD
TZOFFSETFROM:-0500
TZOFFSETTO:-0600
TZNAME:CST
DTSTART:20241103T070000
END:STANDARD
BEGIN:DAYLIGHT
TZOFFSETFROM:-0600
TZOFFSETTO:-0500
TZNAME:CDT
DTSTART:20250309T080000
END:DAYLIGHT
BEGIN:STANDARD
TZOFFSETFROM:-0500
TZOFFSETTO:-0600
TZNAME:CST
DTSTART:20251102T070000
END:STANDARD
BEGIN:DAYLIGHT
TZOFFSETFROM:-0600
TZOFFSETTO:-0500
TZNAME:CDT
DTSTART:20260308T080000
END:DAYLIGHT
BEGIN:STANDARD
TZOFFSETFROM:-0500
TZOFFSETTO:-0600
TZNAME:CST
DTSTART:20261101T070000
END:STANDARD
END:VTIMEZONE
BEGIN:VEVENT
DTSTART;TZID=America/Chicago:20250802T190000
DTEND;TZID=America/Chicago:20250802T210000
DTSTAMP:20260423T034547
CREATED:20250625T202029Z
LAST-MODIFIED:20250625T202029Z
UID:10001182-1754161200-1754168400@neta65.org
SUMMARY:Public Information Workshop English & Spanish
DESCRIPTION:Combined English and Spanish PI in person workshop. \nBe involved helping get the message to other professionals that can help those still suffering.
URL:https://neta65.org/event/public-information-workshop-english-spanish/
LOCATION:Longview – Solo x Hoy\, 2035 South High St\, Longview\, TX\, 75602\, United States
ATTACH;FMTTYPE=image/png:https://neta65.org/wp-content/uploads/2025/06/PI-wkshp-Eng-Esp.png
END:VEVENT
END:VCALENDAR