BEGIN:VCALENDAR
VERSION:2.0
PRODID:-// - ECPv6.15.20//NONSGML v1.0//EN
CALSCALE:GREGORIAN
METHOD:PUBLISH
X-ORIGINAL-URL:https://neta65.org
X-WR-CALDESC:Events for 
REFRESH-INTERVAL;VALUE=DURATION:PT1H
X-Robots-Tag:noindex
X-PUBLISHED-TTL:PT1H
BEGIN:VTIMEZONE
TZID:America/Chicago
BEGIN:DAYLIGHT
TZOFFSETFROM:-0600
TZOFFSETTO:-0500
TZNAME:CDT
DTSTART:20240310T080000
END:DAYLIGHT
BEGIN:STANDARD
TZOFFSETFROM:-0500
TZOFFSETTO:-0600
TZNAME:CST
DTSTART:20241103T070000
END:STANDARD
BEGIN:DAYLIGHT
TZOFFSETFROM:-0600
TZOFFSETTO:-0500
TZNAME:CDT
DTSTART:20250309T080000
END:DAYLIGHT
BEGIN:STANDARD
TZOFFSETFROM:-0500
TZOFFSETTO:-0600
TZNAME:CST
DTSTART:20251102T070000
END:STANDARD
BEGIN:DAYLIGHT
TZOFFSETFROM:-0600
TZOFFSETTO:-0500
TZNAME:CDT
DTSTART:20260308T080000
END:DAYLIGHT
BEGIN:STANDARD
TZOFFSETFROM:-0500
TZOFFSETTO:-0600
TZNAME:CST
DTSTART:20261101T070000
END:STANDARD
END:VTIMEZONE
BEGIN:VEVENT
DTSTART;TZID=America/Chicago:20250927T190000
DTEND;TZID=America/Chicago:20250927T210000
DTSTAMP:20260423T021826
CREATED:20250918T205347Z
LAST-MODIFIED:20250918T205436Z
UID:10001262-1758999600-1759006800@neta65.org
SUMMARY:Grapevine La Vina Monthly Meeting
DESCRIPTION:Hello GV/LV reps and all Grapevine and La Vina enthusiasts!  \nWe want to invite you to join our monthly committee meeting. \nThis Wednesday\, September 17 @ 7 pm.\nAgenda:\n \n\n\nIntroductions\n\n\nGV and LV September Magazines: Gratitude / Amor al Servicio\n\n\nMembers from Area 65 published in the September Magazines\n\n\nEditorial Calendar 2026\n\n\nEvents\n\n\nGV/LV Subscriptions\n\n\nGrapevine Workbook\n\n\nGV/LV District Reps Sharing Session\n\n\nGV/LV Group Reps Sharing Session\n\n\nQ&A\n\n\n\n\n\nZoom Info:\nID 949 476 7497\nPasscode neta65
URL:https://neta65.org/event/grapevine-la-vina-monthly-meeting/
LOCATION:https://us02web.zoom.us/j/9494767497?pwd=ZnlwNkxaRysxd3BJNUNRcWZsV3RNdz09
END:VEVENT
BEGIN:VEVENT
DTSTART;TZID=America/Chicago:20250927T200000
DTEND;TZID=America/Chicago:20250927T220000
DTSTAMP:20260423T021826
CREATED:20250818T171350Z
LAST-MODIFIED:20250904T172313Z
UID:10001257-1759003200-1759010400@neta65.org
SUMMARY:La Vina Workshop
DESCRIPTION:We have a LV writing workshop in Spanish on Saturday \, September 27 .\nGrupo último Vagon\nDistrict 86\n7-9pm\n\n2505 Oak Grove Pkwy\nOak Grove\, TX 76068\nLittle Elm
URL:https://neta65.org/event/la-vina-workshop/
LOCATION:Grupo Hay Una Solucion\, 1507 South Vine St\, Tyler\, Texas\, 75701\, United States
ATTACH;FMTTYPE=image/png:https://neta65.org/wp-content/uploads/2025/08/Lavina-9-27-Workshop.png
END:VEVENT
END:VCALENDAR