BEGIN:VCALENDAR
VERSION:2.0
PRODID:-// - ECPv6.15.20//NONSGML v1.0//EN
CALSCALE:GREGORIAN
METHOD:PUBLISH
X-ORIGINAL-URL:https://neta65.org
X-WR-CALDESC:Events for 
REFRESH-INTERVAL;VALUE=DURATION:PT1H
X-Robots-Tag:noindex
X-PUBLISHED-TTL:PT1H
BEGIN:VTIMEZONE
TZID:America/Chicago
BEGIN:DAYLIGHT
TZOFFSETFROM:-0600
TZOFFSETTO:-0500
TZNAME:CDT
DTSTART:20250309T080000
END:DAYLIGHT
BEGIN:STANDARD
TZOFFSETFROM:-0500
TZOFFSETTO:-0600
TZNAME:CST
DTSTART:20251102T070000
END:STANDARD
BEGIN:DAYLIGHT
TZOFFSETFROM:-0600
TZOFFSETTO:-0500
TZNAME:CDT
DTSTART:20260308T080000
END:DAYLIGHT
BEGIN:STANDARD
TZOFFSETFROM:-0500
TZOFFSETTO:-0600
TZNAME:CST
DTSTART:20261101T070000
END:STANDARD
BEGIN:DAYLIGHT
TZOFFSETFROM:-0600
TZOFFSETTO:-0500
TZNAME:CDT
DTSTART:20270314T080000
END:DAYLIGHT
BEGIN:STANDARD
TZOFFSETFROM:-0500
TZOFFSETTO:-0600
TZNAME:CST
DTSTART:20271107T070000
END:STANDARD
END:VTIMEZONE
BEGIN:VEVENT
DTSTART;TZID=America/Chicago:20260224T190000
DTEND;TZID=America/Chicago:20260224T200000
DTSTAMP:20260422T172315
CREATED:20260209T205647Z
LAST-MODIFIED:20260212T183700Z
UID:10001365-1771959600-1771963200@neta65.org
SUMMARY:Delegate - Conference Connect
DESCRIPTION:English pdf: CONFERENCEConnect \nSpanish pdf: CONFERENCEConnect SPN \nSharing Session 1: Final Conference Agenda Items\nAs soon as final agenda items are distributed each year in this panel\, our Delegate will have a\nZoom meeting for all members of NETA65 who wish to better understand them so they can\nshare that information with their districts and groups to become as well-informed as possible. \n 
URL:https://neta65.org/event/delegate-conference-connect/
LOCATION:https://us02web.zoom.us/j/4455711924?pwd=RDF0MTYweXFEdG5uT1hITGlsSHczUT09&omn=88181840080
CATEGORIES:Delegate Report
END:VEVENT
END:VCALENDAR