BEGIN:VCALENDAR
VERSION:2.0
PRODID:-// - ECPv6.15.20//NONSGML v1.0//EN
CALSCALE:GREGORIAN
METHOD:PUBLISH
X-ORIGINAL-URL:https://neta65.org
X-WR-CALDESC:Events for 
REFRESH-INTERVAL;VALUE=DURATION:PT1H
X-Robots-Tag:noindex
X-PUBLISHED-TTL:PT1H
BEGIN:VTIMEZONE
TZID:America/Chicago
BEGIN:DAYLIGHT
TZOFFSETFROM:-0600
TZOFFSETTO:-0500
TZNAME:CDT
DTSTART:20250309T080000
END:DAYLIGHT
BEGIN:STANDARD
TZOFFSETFROM:-0500
TZOFFSETTO:-0600
TZNAME:CST
DTSTART:20251102T070000
END:STANDARD
BEGIN:DAYLIGHT
TZOFFSETFROM:-0600
TZOFFSETTO:-0500
TZNAME:CDT
DTSTART:20260308T080000
END:DAYLIGHT
BEGIN:STANDARD
TZOFFSETFROM:-0500
TZOFFSETTO:-0600
TZNAME:CST
DTSTART:20261101T070000
END:STANDARD
BEGIN:DAYLIGHT
TZOFFSETFROM:-0600
TZOFFSETTO:-0500
TZNAME:CDT
DTSTART:20270314T080000
END:DAYLIGHT
BEGIN:STANDARD
TZOFFSETFROM:-0500
TZOFFSETTO:-0600
TZNAME:CST
DTSTART:20271107T070000
END:STANDARD
END:VTIMEZONE
BEGIN:VEVENT
DTSTART;TZID=America/Chicago:20260412T010000
DTEND;TZID=America/Chicago:20260412T170000
DTSTAMP:20260422T164755
CREATED:20260102T224217Z
LAST-MODIFIED:20260410T005938Z
UID:10001280-1775955600-1776013200@neta65.org
SUMMARY:Spring ACM - Preston Group
DESCRIPTION:Agenda \nCommittee Reports \nPlease note that the ACM will have a hard stop at 5 for another upcoming event. Everyone consider helping pack up at the end. \nMeeting ID: 835 591 2644\nPasscode: 748714
URL:https://neta65.org/event/spring-acm-preston-group/
LOCATION:Preston Group\, 8220 Westchester Dr #220\, Dallas\, TX\, 75225\, United States
CATEGORIES:Assembly and ACM
END:VEVENT
END:VCALENDAR