BEGIN:VCALENDAR
VERSION:2.0
PRODID:-// - ECPv6.15.20//NONSGML v1.0//EN
CALSCALE:GREGORIAN
METHOD:PUBLISH
X-ORIGINAL-URL:https://neta65.org
X-WR-CALDESC:Events for 
REFRESH-INTERVAL;VALUE=DURATION:PT1H
X-Robots-Tag:noindex
X-PUBLISHED-TTL:PT1H
BEGIN:VTIMEZONE
TZID:America/Chicago
BEGIN:DAYLIGHT
TZOFFSETFROM:-0600
TZOFFSETTO:-0500
TZNAME:CDT
DTSTART:20250309T080000
END:DAYLIGHT
BEGIN:STANDARD
TZOFFSETFROM:-0500
TZOFFSETTO:-0600
TZNAME:CST
DTSTART:20251102T070000
END:STANDARD
BEGIN:DAYLIGHT
TZOFFSETFROM:-0600
TZOFFSETTO:-0500
TZNAME:CDT
DTSTART:20260308T080000
END:DAYLIGHT
BEGIN:STANDARD
TZOFFSETFROM:-0500
TZOFFSETTO:-0600
TZNAME:CST
DTSTART:20261101T070000
END:STANDARD
BEGIN:DAYLIGHT
TZOFFSETFROM:-0600
TZOFFSETTO:-0500
TZNAME:CDT
DTSTART:20270314T080000
END:DAYLIGHT
BEGIN:STANDARD
TZOFFSETFROM:-0500
TZOFFSETTO:-0600
TZNAME:CST
DTSTART:20271107T070000
END:STANDARD
END:VTIMEZONE
BEGIN:VEVENT
DTSTART;TZID=America/Chicago:20260502T120000
DTEND;TZID=America/Chicago:20260502T130000
DTSTAMP:20260422T153512
CREATED:20260209T203836Z
LAST-MODIFIED:20260209T203836Z
UID:10000441-1777723200-1777726800@neta65.org
SUMMARY:NETA65 Accessibilities  Zoom Monthly Meeting
DESCRIPTION:1st Saturday each month \nZoom: 831 7605 2625 \nPswd: 205058
URL:https://neta65.org/event/neta65accessibilities-zoom-monthly-meeting-2/2026-05-02/
LOCATION:
CATEGORIES:Committee Meeting
ATTACH;FMTTYPE=image/png:https://neta65.org/wp-content/uploads/2024/09/Accessinilities-2026-meetings.png
END:VEVENT
BEGIN:VEVENT
DTSTART;TZID=America/Chicago:20260502T140000
DTEND;TZID=America/Chicago:20260502T170000
DTSTAMP:20260422T153512
CREATED:20260412T153537Z
LAST-MODIFIED:20260412T153611Z
UID:10001386-1777730400-1777741200@neta65.org
SUMMARY:Grapevine Writers Workshop
DESCRIPTION:Writer’s Workshop!\nCome learn a little history\, play some Grapevine Triva and learn\nhow to write a submission to the Grapevine and maybe win a prize or two!! \nCan’t make it in person? No problem! This is a Hybrid Workshop \n�� \nZoom ID: ID 949 476 7497 Password: neta65
URL:https://neta65.org/event/grapevine-writers-workshop/
LOCATION:Golden Triangle Group\, 540 Keller Parkway #A\, Keller\, TX\, 76248\, United States
CATEGORIES:Workshop
ATTACH;FMTTYPE=image/png:https://neta65.org/wp-content/uploads/2026/04/Grapevine-Writer-Workshop-5-2.png
END:VEVENT
END:VCALENDAR