BEGIN:VCALENDAR
VERSION:2.0
PRODID:-// - ECPv6.15.20//NONSGML v1.0//EN
CALSCALE:GREGORIAN
METHOD:PUBLISH
X-ORIGINAL-URL:https://neta65.org
X-WR-CALDESC:Events for 
REFRESH-INTERVAL;VALUE=DURATION:PT1H
X-Robots-Tag:noindex
X-PUBLISHED-TTL:PT1H
BEGIN:VTIMEZONE
TZID:America/Chicago
BEGIN:DAYLIGHT
TZOFFSETFROM:-0600
TZOFFSETTO:-0500
TZNAME:CDT
DTSTART:20250309T080000
END:DAYLIGHT
BEGIN:STANDARD
TZOFFSETFROM:-0500
TZOFFSETTO:-0600
TZNAME:CST
DTSTART:20251102T070000
END:STANDARD
BEGIN:DAYLIGHT
TZOFFSETFROM:-0600
TZOFFSETTO:-0500
TZNAME:CDT
DTSTART:20260308T080000
END:DAYLIGHT
BEGIN:STANDARD
TZOFFSETFROM:-0500
TZOFFSETTO:-0600
TZNAME:CST
DTSTART:20261101T070000
END:STANDARD
BEGIN:DAYLIGHT
TZOFFSETFROM:-0600
TZOFFSETTO:-0500
TZNAME:CDT
DTSTART:20270314T080000
END:DAYLIGHT
BEGIN:STANDARD
TZOFFSETFROM:-0500
TZOFFSETTO:-0600
TZNAME:CST
DTSTART:20271107T070000
END:STANDARD
END:VTIMEZONE
BEGIN:VEVENT
DTSTART;TZID=America/Chicago:20260512T190000
DTEND;TZID=America/Chicago:20260512T200000
DTSTAMP:20260422T170215
CREATED:20260209T223346Z
LAST-MODIFIED:20260212T183950Z
UID:10001368-1778612400-1778616000@neta65.org
SUMMARY:Delegate - Conference Connect Town Hall
DESCRIPTION:English pdf: CONFERENCEConnect \nSpanish pdf: CONFERENCEConnect SPN \nTown Halls: Conference365\nSince the GSC operates all year long\, there will be four Town Halls throughout the year to help\nall Area trusted servants who want to submit proposed agenda items to the conference\ncoordinator learn how to do that. These meetings will also be available for a “What’s On Your\nMind” regarding the Conference\, and the Delegate will report to the body any important\ninformation our SWR Trustee shares from their General Service Board (GSB) meeting reports\ngiven to all SWR Delegates and Alternate Delegates after each board meeting (if it’s available\n@ that time). \n 
URL:https://neta65.org/event/delegate-conference-connect-bootcamp-2/
LOCATION:https://us02web.zoom.us/j/4455711924?pwd=RDF0MTYweXFEdG5uT1hITGlsSHczUT09&omn=88181840080
CATEGORIES:Delegate Report
END:VEVENT
END:VCALENDAR