BEGIN:VCALENDAR
VERSION:2.0
PRODID:-// - ECPv6.15.20//NONSGML v1.0//EN
CALSCALE:GREGORIAN
METHOD:PUBLISH
X-ORIGINAL-URL:https://neta65.org
X-WR-CALDESC:Events for 
REFRESH-INTERVAL;VALUE=DURATION:PT1H
X-Robots-Tag:noindex
X-PUBLISHED-TTL:PT1H
BEGIN:VTIMEZONE
TZID:America/Chicago
BEGIN:DAYLIGHT
TZOFFSETFROM:-0600
TZOFFSETTO:-0500
TZNAME:CDT
DTSTART:20250309T080000
END:DAYLIGHT
BEGIN:STANDARD
TZOFFSETFROM:-0500
TZOFFSETTO:-0600
TZNAME:CST
DTSTART:20251102T070000
END:STANDARD
BEGIN:DAYLIGHT
TZOFFSETFROM:-0600
TZOFFSETTO:-0500
TZNAME:CDT
DTSTART:20260308T080000
END:DAYLIGHT
BEGIN:STANDARD
TZOFFSETFROM:-0500
TZOFFSETTO:-0600
TZNAME:CST
DTSTART:20261101T070000
END:STANDARD
BEGIN:DAYLIGHT
TZOFFSETFROM:-0600
TZOFFSETTO:-0500
TZNAME:CDT
DTSTART:20270314T080000
END:DAYLIGHT
BEGIN:STANDARD
TZOFFSETFROM:-0500
TZOFFSETTO:-0600
TZNAME:CST
DTSTART:20271107T070000
END:STANDARD
END:VTIMEZONE
BEGIN:VEVENT
DTSTART;TZID=America/Chicago:20260530T100000
DTEND;TZID=America/Chicago:20260530T110000
DTSTAMP:20260422T170147
CREATED:20260209T224701Z
LAST-MODIFIED:20260212T184136Z
UID:10001372-1780135200-1780138800@neta65.org
SUMMARY:Delegate - Conference Connect Boot Camp 2
DESCRIPTION:English pdf: CONFERENCEConnect \nSpanish pdf: CONFERENCEConnect SPN \nBootCamp 2: Delegate’s Conference Report\nThe Delegate will host a Delegate’s Report Back BootCamp orientation/training once each\nyear in Panel 75 just before the Summer Assembly to help all Assembly attendees understand\nand prepare for their participation in the Conference Report back at the Summer Assembly. \n 
URL:https://neta65.org/event/delegate-conference-connect-boot-camp-2/
LOCATION:https://us02web.zoom.us/j/4455711924?pwd=RDF0MTYweXFEdG5uT1hITGlsSHczUT09&omn=88181840080
CATEGORIES:Delegate Report
END:VEVENT
END:VCALENDAR