BEGIN:VCALENDAR
VERSION:2.0
PRODID:-// - ECPv6.15.20//NONSGML v1.0//EN
CALSCALE:GREGORIAN
METHOD:PUBLISH
X-ORIGINAL-URL:https://neta65.org
X-WR-CALDESC:Events for 
REFRESH-INTERVAL;VALUE=DURATION:PT1H
X-Robots-Tag:noindex
X-PUBLISHED-TTL:PT1H
BEGIN:VTIMEZONE
TZID:America/Chicago
BEGIN:DAYLIGHT
TZOFFSETFROM:-0600
TZOFFSETTO:-0500
TZNAME:CDT
DTSTART:20250309T080000
END:DAYLIGHT
BEGIN:STANDARD
TZOFFSETFROM:-0500
TZOFFSETTO:-0600
TZNAME:CST
DTSTART:20251102T070000
END:STANDARD
BEGIN:DAYLIGHT
TZOFFSETFROM:-0600
TZOFFSETTO:-0500
TZNAME:CDT
DTSTART:20260308T080000
END:DAYLIGHT
BEGIN:STANDARD
TZOFFSETFROM:-0500
TZOFFSETTO:-0600
TZNAME:CST
DTSTART:20261101T070000
END:STANDARD
BEGIN:DAYLIGHT
TZOFFSETFROM:-0600
TZOFFSETTO:-0500
TZNAME:CDT
DTSTART:20270314T080000
END:DAYLIGHT
BEGIN:STANDARD
TZOFFSETFROM:-0500
TZOFFSETTO:-0600
TZNAME:CST
DTSTART:20271107T070000
END:STANDARD
END:VTIMEZONE
BEGIN:VEVENT
DTSTART;TZID=America/Chicago:20260821T140000
DTEND;TZID=America/Chicago:20260823T120000
DTSTAMP:20260422T213413
CREATED:20260402T162731Z
LAST-MODIFIED:20260402T162837Z
UID:10001383-1787320800-1787486400@neta65.org
SUMMARY:North Texas Roundup
DESCRIPTION:Register online: www.northtexasroundup.com \nThe 2026 RoundUp will be held at the DoubleTree hotel located at 4099 Valley View Lane\, Dallas\, Texas 75244\, the weekend of August 21-23. To reserve a room at the hotel at our discounted rate of $132 per night\, please call the hotel at 800-222-8733 and use the code “North Texas Roundup” when making your reservation for special room rates. The cutoff date for room reservations is August 10\, 2026.  You can also reserve a room at the following link: \nHOTEL ROOMS \nRegistration for the RoundUp is $35.00. \nIn addition to the basic registration\, you may also purchase tickets to the Saturday Night Banquet (while supplies last)\, meal tickets\, and coffee cards (5 cups for the price of 4).  Costs for the food and beverage tickets are: \n\nSaturday Night Banquet – $50.00\nSaturday/Sunday Breakfast Buffet – $20.00\nSaturday Lunch Buffet – $20.00\nCoffee Card – $15.00
URL:https://neta65.org/event/north-texas-roundup/
LOCATION:DoubleTree Dallas\, 4099 Valley View Ln\, Dallas\, TX\, 75244\, United States
ATTACH;FMTTYPE=image/png:https://neta65.org/wp-content/uploads/2026/04/NTX-Roundup-2026.png
END:VEVENT
END:VCALENDAR