BEGIN:VCALENDAR
VERSION:2.0
PRODID:-// - ECPv6.15.20//NONSGML v1.0//EN
CALSCALE:GREGORIAN
METHOD:PUBLISH
X-ORIGINAL-URL:https://neta65.org
X-WR-CALDESC:Events for 
REFRESH-INTERVAL;VALUE=DURATION:PT1H
X-Robots-Tag:noindex
X-PUBLISHED-TTL:PT1H
BEGIN:VTIMEZONE
TZID:America/Chicago
BEGIN:DAYLIGHT
TZOFFSETFROM:-0600
TZOFFSETTO:-0500
TZNAME:CDT
DTSTART:20240310T080000
END:DAYLIGHT
BEGIN:STANDARD
TZOFFSETFROM:-0500
TZOFFSETTO:-0600
TZNAME:CST
DTSTART:20241103T070000
END:STANDARD
BEGIN:DAYLIGHT
TZOFFSETFROM:-0600
TZOFFSETTO:-0500
TZNAME:CDT
DTSTART:20250309T080000
END:DAYLIGHT
BEGIN:STANDARD
TZOFFSETFROM:-0500
TZOFFSETTO:-0600
TZNAME:CST
DTSTART:20251102T070000
END:STANDARD
BEGIN:DAYLIGHT
TZOFFSETFROM:-0600
TZOFFSETTO:-0500
TZNAME:CDT
DTSTART:20260308T080000
END:DAYLIGHT
BEGIN:STANDARD
TZOFFSETFROM:-0500
TZOFFSETTO:-0600
TZNAME:CST
DTSTART:20261101T070000
END:STANDARD
END:VTIMEZONE
BEGIN:VEVENT
DTSTART;TZID=America/Chicago:20251012T130000
DTEND;TZID=America/Chicago:20251012T170000
DTSTAMP:20260422T231042
CREATED:20250205T024858Z
LAST-MODIFIED:20251012T182237Z
UID:10000878-1760274000-1760288400@neta65.org
SUMMARY:2025 Fall Area Committee Meeting (ACM)
DESCRIPTION:2025 Fall Area Committee Meeting – ACM\nOct 12 | 1:00 – 5:00\nGroup 1 Wichita Falls\n5200 Old Jacksboro Hwy\nWichita Falls\, TX 76302\nZoom Link: Meeting ID: 869 2539 5524\nPasscode: 661196 \nAgenda \nCommittee Reports
URL:https://neta65.org/event/2025-fall-acm/
LOCATION:Group 1\, 5200 Old Jacksboro Hwy\, Wichita Falls\, TX\, 76302\, United States
CATEGORIES:Assembly and ACM
END:VEVENT
END:VCALENDAR