BEGIN:VCALENDAR
VERSION:2.0
PRODID:-// - ECPv6.15.20//NONSGML v1.0//EN
CALSCALE:GREGORIAN
METHOD:PUBLISH
X-ORIGINAL-URL:https://neta65.org
X-WR-CALDESC:Events for 
REFRESH-INTERVAL;VALUE=DURATION:PT1H
X-Robots-Tag:noindex
X-PUBLISHED-TTL:PT1H
BEGIN:VTIMEZONE
TZID:America/Chicago
BEGIN:DAYLIGHT
TZOFFSETFROM:-0600
TZOFFSETTO:-0500
TZNAME:CDT
DTSTART:20240310T080000
END:DAYLIGHT
BEGIN:STANDARD
TZOFFSETFROM:-0500
TZOFFSETTO:-0600
TZNAME:CST
DTSTART:20241103T070000
END:STANDARD
BEGIN:DAYLIGHT
TZOFFSETFROM:-0600
TZOFFSETTO:-0500
TZNAME:CDT
DTSTART:20250309T080000
END:DAYLIGHT
BEGIN:STANDARD
TZOFFSETFROM:-0500
TZOFFSETTO:-0600
TZNAME:CST
DTSTART:20251102T070000
END:STANDARD
BEGIN:DAYLIGHT
TZOFFSETFROM:-0600
TZOFFSETTO:-0500
TZNAME:CDT
DTSTART:20260308T080000
END:DAYLIGHT
BEGIN:STANDARD
TZOFFSETFROM:-0500
TZOFFSETTO:-0600
TZNAME:CST
DTSTART:20261101T070000
END:STANDARD
BEGIN:DAYLIGHT
TZOFFSETFROM:-0600
TZOFFSETTO:-0500
TZNAME:CDT
DTSTART:20270314T080000
END:DAYLIGHT
BEGIN:STANDARD
TZOFFSETFROM:-0500
TZOFFSETTO:-0600
TZNAME:CST
DTSTART:20271107T070000
END:STANDARD
END:VTIMEZONE
BEGIN:VEVENT
DTSTART;TZID=America/Chicago:20250929T193000
DTEND;TZID=America/Chicago:20250929T203000
DTSTAMP:20260423T173856
CREATED:20250220T153829Z
LAST-MODIFIED:20250825T193403Z
UID:10001079-1759174200-1759177800@neta65.org
SUMMARY:NETA 65 Literature Committee Meeting
DESCRIPTION:Hi all\, we are having our committee meetings via zoom the last Monday of every month at 7:30-8:30ish. You are welcome to attend and look forward to your participation.\nMeeting ID: 861 921 5560\nPass: 881561
URL:https://neta65.org/event/neta-65-literature-committee-meeting-2/2025-09-29/
CATEGORIES:Committee Meeting
LOCATION:
END:VEVENT
BEGIN:VEVENT
DTSTART;TZID=America/Chicago:20251015T190000
DTEND;TZID=America/Chicago:20251015T200000
DTSTAMP:20260423T173856
CREATED:20230919T022750Z
LAST-MODIFIED:20260120T155356Z
UID:10000375-1760554800-1760558400@neta65.org
SUMMARY:AA Grapevine / La Viña Committee Meeting
DESCRIPTION:3rd Wednesday of every Month 7pm – 8pm \nZoom Info:\nID 949 476 7497\nPasscode neta65
URL:https://neta65.org/event/aa-grapevine-la-vina-committee-meeting-2024-09/2025-10-15/
LOCATION:Virtual Meeting via Zoom
CATEGORIES:Committee Meeting,Grapevine-LaViña
ATTACH;FMTTYPE=image/png:https://neta65.org/wp-content/uploads/2023/09/GV-LV_Committee_Meeting.png
END:VEVENT
BEGIN:VEVENT
DTSTART;TZID=America/Chicago:20251015T200000
DTEND;TZID=America/Chicago:20251015T210000
DTSTAMP:20260423T173856
CREATED:20231008T215318Z
LAST-MODIFIED:20250825T194356Z
UID:10000257-1760558400-1760562000@neta65.org
SUMMARY:Corrections Committee Meeting
DESCRIPTION:
URL:https://neta65.org/event/corrections-committee-meeting-24-09/2025-10-15/
LOCATION:Virtual Meeting via Zoom
CATEGORIES:Committee Meeting,Corrections
ATTACH;FMTTYPE=image/png:https://neta65.org/wp-content/uploads/2023/10/2023-10-CORRECTIONS-COMMITTEE.png
END:VEVENT
BEGIN:VEVENT
DTSTART;TZID=America/Chicago:20251020T190000
DTEND;TZID=America/Chicago:20251020T203000
DTSTAMP:20260423T173856
CREATED:20250118T033830Z
LAST-MODIFIED:20250825T193924Z
UID:10000847-1760986800-1760992200@neta65.org
SUMMARY:PI Committee Meeting English
DESCRIPTION:English speaking zoom.\n\n\n\n\n\nNETA 65 PI Monthly Meeting\nJan 20\, 2025 07:00 PM Central Time (US and Canada)\nEvery month on the Third Mon\, until Dec 21\, 2026\, 24\nMeeting ID 854 4188 3616\nPasscode 329611
URL:https://neta65.org/event/pi-committee-meeting-english/2025-10-20/
CATEGORIES:Committee Meeting
LOCATION:https://us02web.zoom.us/j/85441883616?pwd=b97JBlxexLlccgpyjAovNLCZ2HQgu7.1
END:VEVENT
BEGIN:VEVENT
DTSTART;TZID=America/Chicago:20251020T193000
DTEND;TZID=America/Chicago:20251020T203000
DTSTAMP:20260423T173856
CREATED:20240408T005110Z
LAST-MODIFIED:20250825T194210Z
UID:10000989-1760988600-1760992200@neta65.org
SUMMARY:NETA65 PI Committee Monthly Meeting
DESCRIPTION:Join the PI Committee Meeting the 3rd Monday each month to share and get the lates information for area AA public information methods\, events\, and opportunities. \nMeeting ID: 889 7249 5179 \nPasscode: 089098
URL:https://neta65.org/event/pi-committee-meeting-29/2025-10-20/
CATEGORIES:Committee Meeting,PI
ATTACH;FMTTYPE=image/jpeg:https://neta65.org/wp-content/uploads/2024/04/PI-Carry-the-Message.jpg
END:VEVENT
BEGIN:VEVENT
DTSTART;TZID=America/Chicago:20251027T193000
DTEND;TZID=America/Chicago:20251027T203000
DTSTAMP:20260423T173856
CREATED:20250220T153829Z
LAST-MODIFIED:20250825T193403Z
UID:10001089-1761593400-1761597000@neta65.org
SUMMARY:NETA 65 Literature Committee Meeting
DESCRIPTION:Hi all\, we are having our committee meetings via zoom the last Monday of every month at 7:30-8:30ish. You are welcome to attend and look forward to your participation.\nMeeting ID: 861 921 5560\nPass: 881561
URL:https://neta65.org/event/neta-65-literature-committee-meeting-2/2025-10-27/
CATEGORIES:Committee Meeting
LOCATION:
END:VEVENT
BEGIN:VEVENT
DTSTART;TZID=America/Chicago:20251028T190000
DTEND;TZID=America/Chicago:20251028T200000
DTSTAMP:20260423T173856
CREATED:20241010T145049Z
LAST-MODIFIED:20250825T193635Z
UID:10000568-1761678000-1761681600@neta65.org
SUMMARY:Treatment Committee Meeting
DESCRIPTION:NETA 65 Treatment Committee Meetings\n4th TUESDAY OF EVERY MONTH\n7:00 PM \nJoin Zoom Meeting\nhttps://us02web.zoom.us/j/2123241524?pwd=TWFhaVhOUjd1Rk5uL3hJVXhtOWlKUT09 \nMeeting ID: 212 324 1524\nPasscode: 057892
URL:https://neta65.org/event/treatment-committee-meeting-03-2023-2/2025-10-28/
LOCATION:Virtual Meeting via Zoom
CATEGORIES:Committee Meeting,Treatment Committee Meeting
ATTACH;FMTTYPE=image/png:https://neta65.org/wp-content/uploads/2023/07/2023-07_TREATMENT-COMMITTEE.png
END:VEVENT
BEGIN:VEVENT
DTSTART;TZID=America/Chicago:20251117T190000
DTEND;TZID=America/Chicago:20251117T203000
DTSTAMP:20260423T173856
CREATED:20250118T033830Z
LAST-MODIFIED:20250825T193924Z
UID:10000848-1763406000-1763411400@neta65.org
SUMMARY:PI Committee Meeting English
DESCRIPTION:English speaking zoom.\n\n\n\n\n\nNETA 65 PI Monthly Meeting\nJan 20\, 2025 07:00 PM Central Time (US and Canada)\nEvery month on the Third Mon\, until Dec 21\, 2026\, 24\nMeeting ID 854 4188 3616\nPasscode 329611
URL:https://neta65.org/event/pi-committee-meeting-english/2025-11-17/
CATEGORIES:Committee Meeting
LOCATION:https://us02web.zoom.us/j/85441883616?pwd=b97JBlxexLlccgpyjAovNLCZ2HQgu7.1
END:VEVENT
BEGIN:VEVENT
DTSTART;TZID=America/Chicago:20251117T193000
DTEND;TZID=America/Chicago:20251117T203000
DTSTAMP:20260423T173856
CREATED:20240408T005110Z
LAST-MODIFIED:20250825T194210Z
UID:10000990-1763407800-1763411400@neta65.org
SUMMARY:NETA65 PI Committee Monthly Meeting
DESCRIPTION:Join the PI Committee Meeting the 3rd Monday each month to share and get the lates information for area AA public information methods\, events\, and opportunities. \nMeeting ID: 889 7249 5179 \nPasscode: 089098
URL:https://neta65.org/event/pi-committee-meeting-29/2025-11-17/
CATEGORIES:Committee Meeting,PI
ATTACH;FMTTYPE=image/jpeg:https://neta65.org/wp-content/uploads/2024/04/PI-Carry-the-Message.jpg
END:VEVENT
BEGIN:VEVENT
DTSTART;TZID=America/Chicago:20251119T190000
DTEND;TZID=America/Chicago:20251119T200000
DTSTAMP:20260423T173856
CREATED:20230919T022750Z
LAST-MODIFIED:20260120T155356Z
UID:10000376-1763578800-1763582400@neta65.org
SUMMARY:AA Grapevine / La Viña Committee Meeting
DESCRIPTION:3rd Wednesday of every Month 7pm – 8pm \nZoom Info:\nID 949 476 7497\nPasscode neta65
URL:https://neta65.org/event/aa-grapevine-la-vina-committee-meeting-2024-09/2025-11-19/
LOCATION:Virtual Meeting via Zoom
CATEGORIES:Committee Meeting,Grapevine-LaViña
ATTACH;FMTTYPE=image/png:https://neta65.org/wp-content/uploads/2023/09/GV-LV_Committee_Meeting.png
END:VEVENT
BEGIN:VEVENT
DTSTART;TZID=America/Chicago:20251119T200000
DTEND;TZID=America/Chicago:20251119T210000
DTSTAMP:20260423T173856
CREATED:20231008T215318Z
LAST-MODIFIED:20250825T194356Z
UID:10000258-1763582400-1763586000@neta65.org
SUMMARY:Corrections Committee Meeting
DESCRIPTION:
URL:https://neta65.org/event/corrections-committee-meeting-24-09/2025-11-19/
LOCATION:Virtual Meeting via Zoom
CATEGORIES:Committee Meeting,Corrections
ATTACH;FMTTYPE=image/png:https://neta65.org/wp-content/uploads/2023/10/2023-10-CORRECTIONS-COMMITTEE.png
END:VEVENT
BEGIN:VEVENT
DTSTART;TZID=America/Chicago:20251124T193000
DTEND;TZID=America/Chicago:20251124T203000
DTSTAMP:20260423T173856
CREATED:20250220T153829Z
LAST-MODIFIED:20250825T193403Z
UID:10001090-1764012600-1764016200@neta65.org
SUMMARY:NETA 65 Literature Committee Meeting
DESCRIPTION:Hi all\, we are having our committee meetings via zoom the last Monday of every month at 7:30-8:30ish. You are welcome to attend and look forward to your participation.\nMeeting ID: 861 921 5560\nPass: 881561
URL:https://neta65.org/event/neta-65-literature-committee-meeting-2/2025-11-24/
CATEGORIES:Committee Meeting
LOCATION:
END:VEVENT
BEGIN:VEVENT
DTSTART;TZID=America/Chicago:20251125T190000
DTEND;TZID=America/Chicago:20251125T200000
DTSTAMP:20260423T173856
CREATED:20241010T145049Z
LAST-MODIFIED:20250825T193635Z
UID:10000569-1764097200-1764100800@neta65.org
SUMMARY:Treatment Committee Meeting
DESCRIPTION:NETA 65 Treatment Committee Meetings\n4th TUESDAY OF EVERY MONTH\n7:00 PM \nJoin Zoom Meeting\nhttps://us02web.zoom.us/j/2123241524?pwd=TWFhaVhOUjd1Rk5uL3hJVXhtOWlKUT09 \nMeeting ID: 212 324 1524\nPasscode: 057892
URL:https://neta65.org/event/treatment-committee-meeting-03-2023-2/2025-11-25/
LOCATION:Virtual Meeting via Zoom
CATEGORIES:Committee Meeting,Treatment Committee Meeting
ATTACH;FMTTYPE=image/png:https://neta65.org/wp-content/uploads/2023/07/2023-07_TREATMENT-COMMITTEE.png
END:VEVENT
BEGIN:VEVENT
DTSTART;TZID=America/Chicago:20251215T190000
DTEND;TZID=America/Chicago:20251215T203000
DTSTAMP:20260423T173856
CREATED:20250118T033830Z
LAST-MODIFIED:20250825T193924Z
UID:10000849-1765825200-1765830600@neta65.org
SUMMARY:PI Committee Meeting English
DESCRIPTION:English speaking zoom.\n\n\n\n\n\nNETA 65 PI Monthly Meeting\nJan 20\, 2025 07:00 PM Central Time (US and Canada)\nEvery month on the Third Mon\, until Dec 21\, 2026\, 24\nMeeting ID 854 4188 3616\nPasscode 329611
URL:https://neta65.org/event/pi-committee-meeting-english/2025-12-15/
CATEGORIES:Committee Meeting
LOCATION:https://us02web.zoom.us/j/85441883616?pwd=b97JBlxexLlccgpyjAovNLCZ2HQgu7.1
END:VEVENT
BEGIN:VEVENT
DTSTART;TZID=America/Chicago:20251215T193000
DTEND;TZID=America/Chicago:20251215T203000
DTSTAMP:20260423T173856
CREATED:20240408T005110Z
LAST-MODIFIED:20250825T194210Z
UID:10000991-1765827000-1765830600@neta65.org
SUMMARY:NETA65 PI Committee Monthly Meeting
DESCRIPTION:Join the PI Committee Meeting the 3rd Monday each month to share and get the lates information for area AA public information methods\, events\, and opportunities. \nMeeting ID: 889 7249 5179 \nPasscode: 089098
URL:https://neta65.org/event/pi-committee-meeting-29/2025-12-15/
CATEGORIES:Committee Meeting,PI
ATTACH;FMTTYPE=image/jpeg:https://neta65.org/wp-content/uploads/2024/04/PI-Carry-the-Message.jpg
END:VEVENT
BEGIN:VEVENT
DTSTART;TZID=America/Chicago:20251217T190000
DTEND;TZID=America/Chicago:20251217T200000
DTSTAMP:20260423T173856
CREATED:20230919T022750Z
LAST-MODIFIED:20260120T155356Z
UID:10000377-1765998000-1766001600@neta65.org
SUMMARY:AA Grapevine / La Viña Committee Meeting
DESCRIPTION:3rd Wednesday of every Month 7pm – 8pm \nZoom Info:\nID 949 476 7497\nPasscode neta65
URL:https://neta65.org/event/aa-grapevine-la-vina-committee-meeting-2024-09/2025-12-17/
LOCATION:Virtual Meeting via Zoom
CATEGORIES:Committee Meeting,Grapevine-LaViña
ATTACH;FMTTYPE=image/png:https://neta65.org/wp-content/uploads/2023/09/GV-LV_Committee_Meeting.png
END:VEVENT
BEGIN:VEVENT
DTSTART;TZID=America/Chicago:20251217T200000
DTEND;TZID=America/Chicago:20251217T210000
DTSTAMP:20260423T173856
CREATED:20231008T215318Z
LAST-MODIFIED:20250825T194356Z
UID:10000259-1766001600-1766005200@neta65.org
SUMMARY:Corrections Committee Meeting
DESCRIPTION:
URL:https://neta65.org/event/corrections-committee-meeting-24-09/2025-12-17/
LOCATION:Virtual Meeting via Zoom
CATEGORIES:Committee Meeting,Corrections
ATTACH;FMTTYPE=image/png:https://neta65.org/wp-content/uploads/2023/10/2023-10-CORRECTIONS-COMMITTEE.png
END:VEVENT
BEGIN:VEVENT
DTSTART;TZID=America/Chicago:20251223T190000
DTEND;TZID=America/Chicago:20251223T200000
DTSTAMP:20260423T173856
CREATED:20241010T145049Z
LAST-MODIFIED:20250825T193635Z
UID:10000570-1766516400-1766520000@neta65.org
SUMMARY:Treatment Committee Meeting
DESCRIPTION:NETA 65 Treatment Committee Meetings\n4th TUESDAY OF EVERY MONTH\n7:00 PM \nJoin Zoom Meeting\nhttps://us02web.zoom.us/j/2123241524?pwd=TWFhaVhOUjd1Rk5uL3hJVXhtOWlKUT09 \nMeeting ID: 212 324 1524\nPasscode: 057892
URL:https://neta65.org/event/treatment-committee-meeting-03-2023-2/2025-12-23/
LOCATION:Virtual Meeting via Zoom
CATEGORIES:Committee Meeting,Treatment Committee Meeting
ATTACH;FMTTYPE=image/png:https://neta65.org/wp-content/uploads/2023/07/2023-07_TREATMENT-COMMITTEE.png
END:VEVENT
BEGIN:VEVENT
DTSTART;TZID=America/Chicago:20251229T193000
DTEND;TZID=America/Chicago:20251229T203000
DTSTAMP:20260423T173856
CREATED:20250220T153829Z
LAST-MODIFIED:20250825T193403Z
UID:10001080-1767036600-1767040200@neta65.org
SUMMARY:NETA 65 Literature Committee Meeting
DESCRIPTION:Hi all\, we are having our committee meetings via zoom the last Monday of every month at 7:30-8:30ish. You are welcome to attend and look forward to your participation.\nMeeting ID: 861 921 5560\nPass: 881561
URL:https://neta65.org/event/neta-65-literature-committee-meeting-2/2025-12-29/
CATEGORIES:Committee Meeting
LOCATION:
END:VEVENT
BEGIN:VEVENT
DTSTART;TZID=America/Chicago:20260119T190000
DTEND;TZID=America/Chicago:20260119T203000
DTSTAMP:20260423T173856
CREATED:20250118T033830Z
LAST-MODIFIED:20250825T193924Z
UID:10000850-1768849200-1768854600@neta65.org
SUMMARY:PI Committee Meeting English
DESCRIPTION:English speaking zoom.\n\n\n\n\n\nNETA 65 PI Monthly Meeting\nJan 20\, 2025 07:00 PM Central Time (US and Canada)\nEvery month on the Third Mon\, until Dec 21\, 2026\, 24\nMeeting ID 854 4188 3616\nPasscode 329611
URL:https://neta65.org/event/pi-committee-meeting-english/2026-01-19/
CATEGORIES:Committee Meeting
LOCATION:https://us02web.zoom.us/j/85441883616?pwd=b97JBlxexLlccgpyjAovNLCZ2HQgu7.1
END:VEVENT
BEGIN:VEVENT
DTSTART;TZID=America/Chicago:20260119T193000
DTEND;TZID=America/Chicago:20260119T203000
DTSTAMP:20260423T173856
CREATED:20240408T005110Z
LAST-MODIFIED:20250825T194210Z
UID:10000992-1768851000-1768854600@neta65.org
SUMMARY:NETA65 PI Committee Monthly Meeting
DESCRIPTION:Join the PI Committee Meeting the 3rd Monday each month to share and get the lates information for area AA public information methods\, events\, and opportunities. \nMeeting ID: 889 7249 5179 \nPasscode: 089098
URL:https://neta65.org/event/pi-committee-meeting-29/2026-01-19/
CATEGORIES:Committee Meeting,PI
ATTACH;FMTTYPE=image/jpeg:https://neta65.org/wp-content/uploads/2024/04/PI-Carry-the-Message.jpg
END:VEVENT
BEGIN:VEVENT
DTSTART;TZID=America/Chicago:20260121T190000
DTEND;TZID=America/Chicago:20260121T200000
DTSTAMP:20260423T173856
CREATED:20230919T022750Z
LAST-MODIFIED:20260120T155356Z
UID:10000378-1769022000-1769025600@neta65.org
SUMMARY:AA Grapevine / La Viña Committee Meeting
DESCRIPTION:3rd Wednesday of every Month 7pm – 8pm \nZoom Info:\nID 949 476 7497\nPasscode neta65
URL:https://neta65.org/event/aa-grapevine-la-vina-committee-meeting-2024-09/2026-01-21/
LOCATION:Virtual Meeting via Zoom
CATEGORIES:Committee Meeting,Grapevine-LaViña
ATTACH;FMTTYPE=image/png:https://neta65.org/wp-content/uploads/2023/09/GV-LV_Committee_Meeting.png
END:VEVENT
BEGIN:VEVENT
DTSTART;TZID=America/Chicago:20260121T200000
DTEND;TZID=America/Chicago:20260121T210000
DTSTAMP:20260423T173856
CREATED:20231008T215318Z
LAST-MODIFIED:20250825T194356Z
UID:10000260-1769025600-1769029200@neta65.org
SUMMARY:Corrections Committee Meeting
DESCRIPTION:
URL:https://neta65.org/event/corrections-committee-meeting-24-09/2026-01-21/
LOCATION:Virtual Meeting via Zoom
CATEGORIES:Committee Meeting,Corrections
ATTACH;FMTTYPE=image/png:https://neta65.org/wp-content/uploads/2023/10/2023-10-CORRECTIONS-COMMITTEE.png
END:VEVENT
BEGIN:VEVENT
DTSTART;TZID=America/Chicago:20260126T193000
DTEND;TZID=America/Chicago:20260126T203000
DTSTAMP:20260423T173856
CREATED:20250220T153829Z
LAST-MODIFIED:20250825T193403Z
UID:10001091-1769455800-1769459400@neta65.org
SUMMARY:NETA 65 Literature Committee Meeting
DESCRIPTION:Hi all\, we are having our committee meetings via zoom the last Monday of every month at 7:30-8:30ish. You are welcome to attend and look forward to your participation.\nMeeting ID: 861 921 5560\nPass: 881561
URL:https://neta65.org/event/neta-65-literature-committee-meeting-2/2026-01-26/
CATEGORIES:Committee Meeting
LOCATION:
END:VEVENT
BEGIN:VEVENT
DTSTART;TZID=America/Chicago:20260127T190000
DTEND;TZID=America/Chicago:20260127T200000
DTSTAMP:20260423T173856
CREATED:20241010T145049Z
LAST-MODIFIED:20250825T193635Z
UID:10000571-1769540400-1769544000@neta65.org
SUMMARY:Treatment Committee Meeting
DESCRIPTION:NETA 65 Treatment Committee Meetings\n4th TUESDAY OF EVERY MONTH\n7:00 PM \nJoin Zoom Meeting\nhttps://us02web.zoom.us/j/2123241524?pwd=TWFhaVhOUjd1Rk5uL3hJVXhtOWlKUT09 \nMeeting ID: 212 324 1524\nPasscode: 057892
URL:https://neta65.org/event/treatment-committee-meeting-03-2023-2/2026-01-27/
LOCATION:Virtual Meeting via Zoom
CATEGORIES:Committee Meeting,Treatment Committee Meeting
ATTACH;FMTTYPE=image/png:https://neta65.org/wp-content/uploads/2023/07/2023-07_TREATMENT-COMMITTEE.png
END:VEVENT
BEGIN:VEVENT
DTSTART;TZID=America/Chicago:20260216T193000
DTEND;TZID=America/Chicago:20260216T203000
DTSTAMP:20260423T173856
CREATED:20240408T005110Z
LAST-MODIFIED:20250825T194210Z
UID:10000993-1771270200-1771273800@neta65.org
SUMMARY:NETA65 PI Committee Monthly Meeting
DESCRIPTION:Join the PI Committee Meeting the 3rd Monday each month to share and get the lates information for area AA public information methods\, events\, and opportunities. \nMeeting ID: 889 7249 5179 \nPasscode: 089098
URL:https://neta65.org/event/pi-committee-meeting-29/2026-02-16/
CATEGORIES:Committee Meeting,PI
ATTACH;FMTTYPE=image/jpeg:https://neta65.org/wp-content/uploads/2024/04/PI-Carry-the-Message.jpg
END:VEVENT
BEGIN:VEVENT
DTSTART;TZID=America/Chicago:20260218T190000
DTEND;TZID=America/Chicago:20260218T200000
DTSTAMP:20260423T173856
CREATED:20230919T022750Z
LAST-MODIFIED:20260120T155356Z
UID:10000379-1771441200-1771444800@neta65.org
SUMMARY:AA Grapevine / La Viña Committee Meeting
DESCRIPTION:3rd Wednesday of every Month 7pm – 8pm \nZoom Info:\nID 949 476 7497\nPasscode neta65
URL:https://neta65.org/event/aa-grapevine-la-vina-committee-meeting-2024-09/2026-02-18/
LOCATION:Virtual Meeting via Zoom
CATEGORIES:Committee Meeting,Grapevine-LaViña
ATTACH;FMTTYPE=image/png:https://neta65.org/wp-content/uploads/2023/09/GV-LV_Committee_Meeting.png
END:VEVENT
BEGIN:VEVENT
DTSTART;TZID=America/Chicago:20260218T200000
DTEND;TZID=America/Chicago:20260218T210000
DTSTAMP:20260423T173856
CREATED:20231008T215318Z
LAST-MODIFIED:20250825T194356Z
UID:10000261-1771444800-1771448400@neta65.org
SUMMARY:Corrections Committee Meeting
DESCRIPTION:
URL:https://neta65.org/event/corrections-committee-meeting-24-09/2026-02-18/
LOCATION:Virtual Meeting via Zoom
CATEGORIES:Committee Meeting,Corrections
ATTACH;FMTTYPE=image/png:https://neta65.org/wp-content/uploads/2023/10/2023-10-CORRECTIONS-COMMITTEE.png
END:VEVENT
BEGIN:VEVENT
DTSTART;TZID=America/Chicago:20260223T193000
DTEND;TZID=America/Chicago:20260223T203000
DTSTAMP:20260423T173856
CREATED:20250220T153829Z
LAST-MODIFIED:20250825T193403Z
UID:10001092-1771875000-1771878600@neta65.org
SUMMARY:NETA 65 Literature Committee Meeting
DESCRIPTION:Hi all\, we are having our committee meetings via zoom the last Monday of every month at 7:30-8:30ish. You are welcome to attend and look forward to your participation.\nMeeting ID: 861 921 5560\nPass: 881561
URL:https://neta65.org/event/neta-65-literature-committee-meeting-2/2026-02-23/
CATEGORIES:Committee Meeting
LOCATION:
END:VEVENT
BEGIN:VEVENT
DTSTART;TZID=America/Chicago:20260224T190000
DTEND;TZID=America/Chicago:20260224T200000
DTSTAMP:20260423T173856
CREATED:20241010T145049Z
LAST-MODIFIED:20250825T193635Z
UID:10000572-1771959600-1771963200@neta65.org
SUMMARY:Treatment Committee Meeting
DESCRIPTION:NETA 65 Treatment Committee Meetings\n4th TUESDAY OF EVERY MONTH\n7:00 PM \nJoin Zoom Meeting\nhttps://us02web.zoom.us/j/2123241524?pwd=TWFhaVhOUjd1Rk5uL3hJVXhtOWlKUT09 \nMeeting ID: 212 324 1524\nPasscode: 057892
URL:https://neta65.org/event/treatment-committee-meeting-03-2023-2/2026-02-24/
LOCATION:Virtual Meeting via Zoom
CATEGORIES:Committee Meeting,Treatment Committee Meeting
ATTACH;FMTTYPE=image/png:https://neta65.org/wp-content/uploads/2023/07/2023-07_TREATMENT-COMMITTEE.png
END:VEVENT
END:VCALENDAR