BEGIN:VCALENDAR
VERSION:2.0
PRODID:-// - ECPv6.15.20//NONSGML v1.0//EN
CALSCALE:GREGORIAN
METHOD:PUBLISH
X-ORIGINAL-URL:https://neta65.org
X-WR-CALDESC:Events for 
REFRESH-INTERVAL;VALUE=DURATION:PT1H
X-Robots-Tag:noindex
X-PUBLISHED-TTL:PT1H
BEGIN:VTIMEZONE
TZID:America/Chicago
BEGIN:DAYLIGHT
TZOFFSETFROM:-0600
TZOFFSETTO:-0500
TZNAME:CDT
DTSTART:20250309T080000
END:DAYLIGHT
BEGIN:STANDARD
TZOFFSETFROM:-0500
TZOFFSETTO:-0600
TZNAME:CST
DTSTART:20251102T070000
END:STANDARD
BEGIN:DAYLIGHT
TZOFFSETFROM:-0600
TZOFFSETTO:-0500
TZNAME:CDT
DTSTART:20260308T080000
END:DAYLIGHT
BEGIN:STANDARD
TZOFFSETFROM:-0500
TZOFFSETTO:-0600
TZNAME:CST
DTSTART:20261101T070000
END:STANDARD
BEGIN:DAYLIGHT
TZOFFSETFROM:-0600
TZOFFSETTO:-0500
TZNAME:CDT
DTSTART:20270314T080000
END:DAYLIGHT
BEGIN:STANDARD
TZOFFSETFROM:-0500
TZOFFSETTO:-0600
TZNAME:CST
DTSTART:20271107T070000
END:STANDARD
END:VTIMEZONE
BEGIN:VEVENT
DTSTART;TZID=America/Chicago:20260617T190000
DTEND;TZID=America/Chicago:20260617T200000
DTSTAMP:20260422T172405
CREATED:20230919T022750Z
LAST-MODIFIED:20260120T155356Z
UID:10000383-1781722800-1781726400@neta65.org
SUMMARY:AA Grapevine / La Viña Committee Meeting
DESCRIPTION:3rd Wednesday of every Month 7pm – 8pm \nZoom Info:\nID 949 476 7497\nPasscode neta65
URL:https://neta65.org/event/aa-grapevine-la-vina-committee-meeting-2024-09/2026-06-17/
LOCATION:Virtual Meeting via Zoom
CATEGORIES:Committee Meeting,Grapevine-LaViña
ATTACH;FMTTYPE=image/png:https://neta65.org/wp-content/uploads/2023/09/GV-LV_Committee_Meeting.png
END:VEVENT
BEGIN:VEVENT
DTSTART;TZID=America/Chicago:20260617T200000
DTEND;TZID=America/Chicago:20260617T210000
DTSTAMP:20260422T172405
CREATED:20231008T215318Z
LAST-MODIFIED:20250825T194356Z
UID:10000265-1781726400-1781730000@neta65.org
SUMMARY:Corrections Committee Meeting
DESCRIPTION:
URL:https://neta65.org/event/corrections-committee-meeting-24-09/2026-06-17/
LOCATION:Virtual Meeting via Zoom
CATEGORIES:Committee Meeting,Corrections
ATTACH;FMTTYPE=image/png:https://neta65.org/wp-content/uploads/2023/10/2023-10-CORRECTIONS-COMMITTEE.png
END:VEVENT
BEGIN:VEVENT
DTSTART;TZID=America/Chicago:20260623T190000
DTEND;TZID=America/Chicago:20260623T200000
DTSTAMP:20260422T172405
CREATED:20241010T145049Z
LAST-MODIFIED:20250825T193635Z
UID:10000576-1782241200-1782244800@neta65.org
SUMMARY:Treatment Committee Meeting
DESCRIPTION:NETA 65 Treatment Committee Meetings\n4th TUESDAY OF EVERY MONTH\n7:00 PM \nJoin Zoom Meeting\nhttps://us02web.zoom.us/j/2123241524?pwd=TWFhaVhOUjd1Rk5uL3hJVXhtOWlKUT09 \nMeeting ID: 212 324 1524\nPasscode: 057892
URL:https://neta65.org/event/treatment-committee-meeting-03-2023-2/2026-06-23/
LOCATION:Virtual Meeting via Zoom
CATEGORIES:Committee Meeting,Treatment Committee Meeting
ATTACH;FMTTYPE=image/png:https://neta65.org/wp-content/uploads/2023/07/2023-07_TREATMENT-COMMITTEE.png
END:VEVENT
BEGIN:VEVENT
DTSTART;TZID=America/Chicago:20260629T193000
DTEND;TZID=America/Chicago:20260629T203000
DTSTAMP:20260422T172405
CREATED:20250220T153829Z
LAST-MODIFIED:20250825T193403Z
UID:10001082-1782761400-1782765000@neta65.org
SUMMARY:NETA 65 Literature Committee Meeting
DESCRIPTION:Hi all\, we are having our committee meetings via zoom the last Monday of every month at 7:30-8:30ish. You are welcome to attend and look forward to your participation.\nMeeting ID: 861 921 5560\nPass: 881561
URL:https://neta65.org/event/neta-65-literature-committee-meeting-2/2026-06-29/
CATEGORIES:Committee Meeting
LOCATION:
END:VEVENT
BEGIN:VEVENT
DTSTART;TZID=America/Chicago:20260704T120000
DTEND;TZID=America/Chicago:20260704T130000
DTSTAMP:20260422T172405
CREATED:20260209T203836Z
LAST-MODIFIED:20260209T203836Z
UID:10000443-1783166400-1783170000@neta65.org
SUMMARY:NETA65 Accessibilities  Zoom Monthly Meeting
DESCRIPTION:1st Saturday each month \nZoom: 831 7605 2625 \nPswd: 205058
URL:https://neta65.org/event/neta65accessibilities-zoom-monthly-meeting-2/2026-07-04/
CATEGORIES:Committee Meeting
ATTACH;FMTTYPE=image/png:https://neta65.org/wp-content/uploads/2024/09/Accessinilities-2026-meetings.png
LOCATION:
END:VEVENT
BEGIN:VEVENT
DTSTART;TZID=America/Chicago:20260715T190000
DTEND;TZID=America/Chicago:20260715T200000
DTSTAMP:20260422T172405
CREATED:20230919T022750Z
LAST-MODIFIED:20260120T155356Z
UID:10000384-1784142000-1784145600@neta65.org
SUMMARY:AA Grapevine / La Viña Committee Meeting
DESCRIPTION:3rd Wednesday of every Month 7pm – 8pm \nZoom Info:\nID 949 476 7497\nPasscode neta65
URL:https://neta65.org/event/aa-grapevine-la-vina-committee-meeting-2024-09/2026-07-15/
LOCATION:Virtual Meeting via Zoom
CATEGORIES:Committee Meeting,Grapevine-LaViña
ATTACH;FMTTYPE=image/png:https://neta65.org/wp-content/uploads/2023/09/GV-LV_Committee_Meeting.png
END:VEVENT
BEGIN:VEVENT
DTSTART;TZID=America/Chicago:20260715T200000
DTEND;TZID=America/Chicago:20260715T210000
DTSTAMP:20260422T172405
CREATED:20231008T215318Z
LAST-MODIFIED:20250825T194356Z
UID:10000266-1784145600-1784149200@neta65.org
SUMMARY:Corrections Committee Meeting
DESCRIPTION:
URL:https://neta65.org/event/corrections-committee-meeting-24-09/2026-07-15/
LOCATION:Virtual Meeting via Zoom
CATEGORIES:Committee Meeting,Corrections
ATTACH;FMTTYPE=image/png:https://neta65.org/wp-content/uploads/2023/10/2023-10-CORRECTIONS-COMMITTEE.png
END:VEVENT
BEGIN:VEVENT
DTSTART;TZID=America/Chicago:20260720T193000
DTEND;TZID=America/Chicago:20260720T203000
DTSTAMP:20260422T172405
CREATED:20240408T005110Z
LAST-MODIFIED:20250825T194210Z
UID:10000998-1784575800-1784579400@neta65.org
SUMMARY:NETA65 PI Committee Monthly Meeting
DESCRIPTION:Join the PI Committee Meeting the 3rd Monday each month to share and get the lates information for area AA public information methods\, events\, and opportunities. \nMeeting ID: 889 7249 5179 \nPasscode: 089098
URL:https://neta65.org/event/pi-committee-meeting-29/2026-07-20/
CATEGORIES:Committee Meeting,PI
ATTACH;FMTTYPE=image/jpeg:https://neta65.org/wp-content/uploads/2024/04/PI-Carry-the-Message.jpg
END:VEVENT
BEGIN:VEVENT
DTSTART;TZID=America/Chicago:20260727T193000
DTEND;TZID=America/Chicago:20260727T203000
DTSTAMP:20260422T172405
CREATED:20250220T153829Z
LAST-MODIFIED:20250825T193403Z
UID:10001095-1785180600-1785184200@neta65.org
SUMMARY:NETA 65 Literature Committee Meeting
DESCRIPTION:Hi all\, we are having our committee meetings via zoom the last Monday of every month at 7:30-8:30ish. You are welcome to attend and look forward to your participation.\nMeeting ID: 861 921 5560\nPass: 881561
URL:https://neta65.org/event/neta-65-literature-committee-meeting-2/2026-07-27/
CATEGORIES:Committee Meeting
LOCATION:
END:VEVENT
BEGIN:VEVENT
DTSTART;TZID=America/Chicago:20260728T190000
DTEND;TZID=America/Chicago:20260728T200000
DTSTAMP:20260422T172405
CREATED:20241010T145049Z
LAST-MODIFIED:20250825T193635Z
UID:10000577-1785265200-1785268800@neta65.org
SUMMARY:Treatment Committee Meeting
DESCRIPTION:NETA 65 Treatment Committee Meetings\n4th TUESDAY OF EVERY MONTH\n7:00 PM \nJoin Zoom Meeting\nhttps://us02web.zoom.us/j/2123241524?pwd=TWFhaVhOUjd1Rk5uL3hJVXhtOWlKUT09 \nMeeting ID: 212 324 1524\nPasscode: 057892
URL:https://neta65.org/event/treatment-committee-meeting-03-2023-2/2026-07-28/
LOCATION:Virtual Meeting via Zoom
CATEGORIES:Committee Meeting,Treatment Committee Meeting
ATTACH;FMTTYPE=image/png:https://neta65.org/wp-content/uploads/2023/07/2023-07_TREATMENT-COMMITTEE.png
END:VEVENT
BEGIN:VEVENT
DTSTART;TZID=America/Chicago:20260801T120000
DTEND;TZID=America/Chicago:20260801T130000
DTSTAMP:20260422T172405
CREATED:20260209T203836Z
LAST-MODIFIED:20260209T203836Z
UID:10000444-1785585600-1785589200@neta65.org
SUMMARY:NETA65 Accessibilities  Zoom Monthly Meeting
DESCRIPTION:1st Saturday each month \nZoom: 831 7605 2625 \nPswd: 205058
URL:https://neta65.org/event/neta65accessibilities-zoom-monthly-meeting-2/2026-08-01/
CATEGORIES:Committee Meeting
ATTACH;FMTTYPE=image/png:https://neta65.org/wp-content/uploads/2024/09/Accessinilities-2026-meetings.png
LOCATION:
END:VEVENT
BEGIN:VEVENT
DTSTART;TZID=America/Chicago:20260817T193000
DTEND;TZID=America/Chicago:20260817T203000
DTSTAMP:20260422T172405
CREATED:20240408T005110Z
LAST-MODIFIED:20250825T194210Z
UID:10000999-1786995000-1786998600@neta65.org
SUMMARY:NETA65 PI Committee Monthly Meeting
DESCRIPTION:Join the PI Committee Meeting the 3rd Monday each month to share and get the lates information for area AA public information methods\, events\, and opportunities. \nMeeting ID: 889 7249 5179 \nPasscode: 089098
URL:https://neta65.org/event/pi-committee-meeting-29/2026-08-17/
CATEGORIES:Committee Meeting,PI
ATTACH;FMTTYPE=image/jpeg:https://neta65.org/wp-content/uploads/2024/04/PI-Carry-the-Message.jpg
END:VEVENT
BEGIN:VEVENT
DTSTART;TZID=America/Chicago:20260819T190000
DTEND;TZID=America/Chicago:20260819T200000
DTSTAMP:20260422T172405
CREATED:20230919T022750Z
LAST-MODIFIED:20260120T155356Z
UID:10000385-1787166000-1787169600@neta65.org
SUMMARY:AA Grapevine / La Viña Committee Meeting
DESCRIPTION:3rd Wednesday of every Month 7pm – 8pm \nZoom Info:\nID 949 476 7497\nPasscode neta65
URL:https://neta65.org/event/aa-grapevine-la-vina-committee-meeting-2024-09/2026-08-19/
LOCATION:Virtual Meeting via Zoom
CATEGORIES:Committee Meeting,Grapevine-LaViña
ATTACH;FMTTYPE=image/png:https://neta65.org/wp-content/uploads/2023/09/GV-LV_Committee_Meeting.png
END:VEVENT
BEGIN:VEVENT
DTSTART;TZID=America/Chicago:20260819T200000
DTEND;TZID=America/Chicago:20260819T210000
DTSTAMP:20260422T172405
CREATED:20231008T215318Z
LAST-MODIFIED:20250825T194356Z
UID:10000267-1787169600-1787173200@neta65.org
SUMMARY:Corrections Committee Meeting
DESCRIPTION:
URL:https://neta65.org/event/corrections-committee-meeting-24-09/2026-08-19/
LOCATION:Virtual Meeting via Zoom
CATEGORIES:Committee Meeting,Corrections
ATTACH;FMTTYPE=image/png:https://neta65.org/wp-content/uploads/2023/10/2023-10-CORRECTIONS-COMMITTEE.png
END:VEVENT
BEGIN:VEVENT
DTSTART;TZID=America/Chicago:20260825T190000
DTEND;TZID=America/Chicago:20260825T200000
DTSTAMP:20260422T172405
CREATED:20241010T145049Z
LAST-MODIFIED:20250825T193635Z
UID:10000578-1787684400-1787688000@neta65.org
SUMMARY:Treatment Committee Meeting
DESCRIPTION:NETA 65 Treatment Committee Meetings\n4th TUESDAY OF EVERY MONTH\n7:00 PM \nJoin Zoom Meeting\nhttps://us02web.zoom.us/j/2123241524?pwd=TWFhaVhOUjd1Rk5uL3hJVXhtOWlKUT09 \nMeeting ID: 212 324 1524\nPasscode: 057892
URL:https://neta65.org/event/treatment-committee-meeting-03-2023-2/2026-08-25/
LOCATION:Virtual Meeting via Zoom
CATEGORIES:Committee Meeting,Treatment Committee Meeting
ATTACH;FMTTYPE=image/png:https://neta65.org/wp-content/uploads/2023/07/2023-07_TREATMENT-COMMITTEE.png
END:VEVENT
BEGIN:VEVENT
DTSTART;TZID=America/Chicago:20260831T193000
DTEND;TZID=America/Chicago:20260831T203000
DTSTAMP:20260422T172405
CREATED:20250220T153829Z
LAST-MODIFIED:20250825T193403Z
UID:10001083-1788204600-1788208200@neta65.org
SUMMARY:NETA 65 Literature Committee Meeting
DESCRIPTION:Hi all\, we are having our committee meetings via zoom the last Monday of every month at 7:30-8:30ish. You are welcome to attend and look forward to your participation.\nMeeting ID: 861 921 5560\nPass: 881561
URL:https://neta65.org/event/neta-65-literature-committee-meeting-2/2026-08-31/
CATEGORIES:Committee Meeting
LOCATION:
END:VEVENT
BEGIN:VEVENT
DTSTART;TZID=America/Chicago:20260905T120000
DTEND;TZID=America/Chicago:20260905T130000
DTSTAMP:20260422T172405
CREATED:20260209T203836Z
LAST-MODIFIED:20260209T203836Z
UID:10000445-1788609600-1788613200@neta65.org
SUMMARY:NETA65 Accessibilities  Zoom Monthly Meeting
DESCRIPTION:1st Saturday each month \nZoom: 831 7605 2625 \nPswd: 205058
URL:https://neta65.org/event/neta65accessibilities-zoom-monthly-meeting-2/2026-09-05/
CATEGORIES:Committee Meeting
ATTACH;FMTTYPE=image/png:https://neta65.org/wp-content/uploads/2024/09/Accessinilities-2026-meetings.png
LOCATION:
END:VEVENT
BEGIN:VEVENT
DTSTART;TZID=America/Chicago:20260916T190000
DTEND;TZID=America/Chicago:20260916T200000
DTSTAMP:20260422T172405
CREATED:20230919T022750Z
LAST-MODIFIED:20260120T155356Z
UID:10000386-1789585200-1789588800@neta65.org
SUMMARY:AA Grapevine / La Viña Committee Meeting
DESCRIPTION:3rd Wednesday of every Month 7pm – 8pm \nZoom Info:\nID 949 476 7497\nPasscode neta65
URL:https://neta65.org/event/aa-grapevine-la-vina-committee-meeting-2024-09/2026-09-16/
LOCATION:Virtual Meeting via Zoom
CATEGORIES:Committee Meeting,Grapevine-LaViña
ATTACH;FMTTYPE=image/png:https://neta65.org/wp-content/uploads/2023/09/GV-LV_Committee_Meeting.png
END:VEVENT
BEGIN:VEVENT
DTSTART;TZID=America/Chicago:20260916T200000
DTEND;TZID=America/Chicago:20260916T210000
DTSTAMP:20260422T172405
CREATED:20231008T215318Z
LAST-MODIFIED:20250825T194356Z
UID:10000268-1789588800-1789592400@neta65.org
SUMMARY:Corrections Committee Meeting
DESCRIPTION:
URL:https://neta65.org/event/corrections-committee-meeting-24-09/2026-09-16/
LOCATION:Virtual Meeting via Zoom
CATEGORIES:Committee Meeting,Corrections
ATTACH;FMTTYPE=image/png:https://neta65.org/wp-content/uploads/2023/10/2023-10-CORRECTIONS-COMMITTEE.png
END:VEVENT
BEGIN:VEVENT
DTSTART;TZID=America/Chicago:20260921T193000
DTEND;TZID=America/Chicago:20260921T203000
DTSTAMP:20260422T172405
CREATED:20240408T005110Z
LAST-MODIFIED:20250825T194210Z
UID:10001000-1790019000-1790022600@neta65.org
SUMMARY:NETA65 PI Committee Monthly Meeting
DESCRIPTION:Join the PI Committee Meeting the 3rd Monday each month to share and get the lates information for area AA public information methods\, events\, and opportunities. \nMeeting ID: 889 7249 5179 \nPasscode: 089098
URL:https://neta65.org/event/pi-committee-meeting-29/2026-09-21/
CATEGORIES:Committee Meeting,PI
ATTACH;FMTTYPE=image/jpeg:https://neta65.org/wp-content/uploads/2024/04/PI-Carry-the-Message.jpg
END:VEVENT
BEGIN:VEVENT
DTSTART;TZID=America/Chicago:20260922T190000
DTEND;TZID=America/Chicago:20260922T200000
DTSTAMP:20260422T172405
CREATED:20241010T145049Z
LAST-MODIFIED:20250825T193635Z
UID:10000579-1790103600-1790107200@neta65.org
SUMMARY:Treatment Committee Meeting
DESCRIPTION:NETA 65 Treatment Committee Meetings\n4th TUESDAY OF EVERY MONTH\n7:00 PM \nJoin Zoom Meeting\nhttps://us02web.zoom.us/j/2123241524?pwd=TWFhaVhOUjd1Rk5uL3hJVXhtOWlKUT09 \nMeeting ID: 212 324 1524\nPasscode: 057892
URL:https://neta65.org/event/treatment-committee-meeting-03-2023-2/2026-09-22/
LOCATION:Virtual Meeting via Zoom
CATEGORIES:Committee Meeting,Treatment Committee Meeting
ATTACH;FMTTYPE=image/png:https://neta65.org/wp-content/uploads/2023/07/2023-07_TREATMENT-COMMITTEE.png
END:VEVENT
BEGIN:VEVENT
DTSTART;TZID=America/Chicago:20260928T193000
DTEND;TZID=America/Chicago:20260928T203000
DTSTAMP:20260422T172405
CREATED:20250220T153829Z
LAST-MODIFIED:20250825T193403Z
UID:10001096-1790623800-1790627400@neta65.org
SUMMARY:NETA 65 Literature Committee Meeting
DESCRIPTION:Hi all\, we are having our committee meetings via zoom the last Monday of every month at 7:30-8:30ish. You are welcome to attend and look forward to your participation.\nMeeting ID: 861 921 5560\nPass: 881561
URL:https://neta65.org/event/neta-65-literature-committee-meeting-2/2026-09-28/
CATEGORIES:Committee Meeting
LOCATION:
END:VEVENT
BEGIN:VEVENT
DTSTART;TZID=America/Chicago:20261003T120000
DTEND;TZID=America/Chicago:20261003T130000
DTSTAMP:20260422T172405
CREATED:20260209T203836Z
LAST-MODIFIED:20260209T203836Z
UID:10000446-1791028800-1791032400@neta65.org
SUMMARY:NETA65 Accessibilities  Zoom Monthly Meeting
DESCRIPTION:1st Saturday each month \nZoom: 831 7605 2625 \nPswd: 205058
URL:https://neta65.org/event/neta65accessibilities-zoom-monthly-meeting-2/2026-10-03/
CATEGORIES:Committee Meeting
ATTACH;FMTTYPE=image/png:https://neta65.org/wp-content/uploads/2024/09/Accessinilities-2026-meetings.png
LOCATION:
END:VEVENT
BEGIN:VEVENT
DTSTART;TZID=America/Chicago:20261019T193000
DTEND;TZID=America/Chicago:20261019T203000
DTSTAMP:20260422T172405
CREATED:20240408T005110Z
LAST-MODIFIED:20250825T194210Z
UID:10001001-1792438200-1792441800@neta65.org
SUMMARY:NETA65 PI Committee Monthly Meeting
DESCRIPTION:Join the PI Committee Meeting the 3rd Monday each month to share and get the lates information for area AA public information methods\, events\, and opportunities. \nMeeting ID: 889 7249 5179 \nPasscode: 089098
URL:https://neta65.org/event/pi-committee-meeting-29/2026-10-19/
CATEGORIES:Committee Meeting,PI
ATTACH;FMTTYPE=image/jpeg:https://neta65.org/wp-content/uploads/2024/04/PI-Carry-the-Message.jpg
END:VEVENT
BEGIN:VEVENT
DTSTART;TZID=America/Chicago:20261021T190000
DTEND;TZID=America/Chicago:20261021T200000
DTSTAMP:20260422T172405
CREATED:20230919T022750Z
LAST-MODIFIED:20260120T155356Z
UID:10000387-1792609200-1792612800@neta65.org
SUMMARY:AA Grapevine / La Viña Committee Meeting
DESCRIPTION:3rd Wednesday of every Month 7pm – 8pm \nZoom Info:\nID 949 476 7497\nPasscode neta65
URL:https://neta65.org/event/aa-grapevine-la-vina-committee-meeting-2024-09/2026-10-21/
LOCATION:Virtual Meeting via Zoom
CATEGORIES:Committee Meeting,Grapevine-LaViña
ATTACH;FMTTYPE=image/png:https://neta65.org/wp-content/uploads/2023/09/GV-LV_Committee_Meeting.png
END:VEVENT
BEGIN:VEVENT
DTSTART;TZID=America/Chicago:20261021T200000
DTEND;TZID=America/Chicago:20261021T210000
DTSTAMP:20260422T172405
CREATED:20231008T215318Z
LAST-MODIFIED:20250825T194356Z
UID:10000269-1792612800-1792616400@neta65.org
SUMMARY:Corrections Committee Meeting
DESCRIPTION:
URL:https://neta65.org/event/corrections-committee-meeting-24-09/2026-10-21/
LOCATION:Virtual Meeting via Zoom
CATEGORIES:Committee Meeting,Corrections
ATTACH;FMTTYPE=image/png:https://neta65.org/wp-content/uploads/2023/10/2023-10-CORRECTIONS-COMMITTEE.png
END:VEVENT
BEGIN:VEVENT
DTSTART;TZID=America/Chicago:20261026T193000
DTEND;TZID=America/Chicago:20261026T203000
DTSTAMP:20260422T172405
CREATED:20250220T153829Z
LAST-MODIFIED:20250825T193403Z
UID:10001097-1793043000-1793046600@neta65.org
SUMMARY:NETA 65 Literature Committee Meeting
DESCRIPTION:Hi all\, we are having our committee meetings via zoom the last Monday of every month at 7:30-8:30ish. You are welcome to attend and look forward to your participation.\nMeeting ID: 861 921 5560\nPass: 881561
URL:https://neta65.org/event/neta-65-literature-committee-meeting-2/2026-10-26/
CATEGORIES:Committee Meeting
LOCATION:
END:VEVENT
BEGIN:VEVENT
DTSTART;TZID=America/Chicago:20261027T190000
DTEND;TZID=America/Chicago:20261027T200000
DTSTAMP:20260422T172405
CREATED:20241010T145049Z
LAST-MODIFIED:20250825T193635Z
UID:10000580-1793127600-1793131200@neta65.org
SUMMARY:Treatment Committee Meeting
DESCRIPTION:NETA 65 Treatment Committee Meetings\n4th TUESDAY OF EVERY MONTH\n7:00 PM \nJoin Zoom Meeting\nhttps://us02web.zoom.us/j/2123241524?pwd=TWFhaVhOUjd1Rk5uL3hJVXhtOWlKUT09 \nMeeting ID: 212 324 1524\nPasscode: 057892
URL:https://neta65.org/event/treatment-committee-meeting-03-2023-2/2026-10-27/
LOCATION:Virtual Meeting via Zoom
CATEGORIES:Committee Meeting,Treatment Committee Meeting
ATTACH;FMTTYPE=image/png:https://neta65.org/wp-content/uploads/2023/07/2023-07_TREATMENT-COMMITTEE.png
END:VEVENT
BEGIN:VEVENT
DTSTART;TZID=America/Chicago:20261107T120000
DTEND;TZID=America/Chicago:20261107T130000
DTSTAMP:20260422T172405
CREATED:20260209T203836Z
LAST-MODIFIED:20260209T203836Z
UID:10000447-1794052800-1794056400@neta65.org
SUMMARY:NETA65 Accessibilities  Zoom Monthly Meeting
DESCRIPTION:1st Saturday each month \nZoom: 831 7605 2625 \nPswd: 205058
URL:https://neta65.org/event/neta65accessibilities-zoom-monthly-meeting-2/2026-11-07/
CATEGORIES:Committee Meeting
ATTACH;FMTTYPE=image/png:https://neta65.org/wp-content/uploads/2024/09/Accessinilities-2026-meetings.png
LOCATION:
END:VEVENT
BEGIN:VEVENT
DTSTART;TZID=America/Chicago:20261116T193000
DTEND;TZID=America/Chicago:20261116T203000
DTSTAMP:20260422T172405
CREATED:20240408T005110Z
LAST-MODIFIED:20250825T194210Z
UID:10001002-1794857400-1794861000@neta65.org
SUMMARY:NETA65 PI Committee Monthly Meeting
DESCRIPTION:Join the PI Committee Meeting the 3rd Monday each month to share and get the lates information for area AA public information methods\, events\, and opportunities. \nMeeting ID: 889 7249 5179 \nPasscode: 089098
URL:https://neta65.org/event/pi-committee-meeting-29/2026-11-16/
CATEGORIES:Committee Meeting,PI
ATTACH;FMTTYPE=image/jpeg:https://neta65.org/wp-content/uploads/2024/04/PI-Carry-the-Message.jpg
END:VEVENT
END:VCALENDAR