BEGIN:VCALENDAR
VERSION:2.0
PRODID:-// - ECPv6.15.20//NONSGML v1.0//EN
CALSCALE:GREGORIAN
METHOD:PUBLISH
X-ORIGINAL-URL:https://neta65.org
X-WR-CALDESC:Events for 
REFRESH-INTERVAL;VALUE=DURATION:PT1H
X-Robots-Tag:noindex
X-PUBLISHED-TTL:PT1H
BEGIN:VTIMEZONE
TZID:America/Chicago
BEGIN:DAYLIGHT
TZOFFSETFROM:-0600
TZOFFSETTO:-0500
TZNAME:CDT
DTSTART:20250309T080000
END:DAYLIGHT
BEGIN:STANDARD
TZOFFSETFROM:-0500
TZOFFSETTO:-0600
TZNAME:CST
DTSTART:20251102T070000
END:STANDARD
BEGIN:DAYLIGHT
TZOFFSETFROM:-0600
TZOFFSETTO:-0500
TZNAME:CDT
DTSTART:20260308T080000
END:DAYLIGHT
BEGIN:STANDARD
TZOFFSETFROM:-0500
TZOFFSETTO:-0600
TZNAME:CST
DTSTART:20261101T070000
END:STANDARD
BEGIN:DAYLIGHT
TZOFFSETFROM:-0600
TZOFFSETTO:-0500
TZNAME:CDT
DTSTART:20270314T080000
END:DAYLIGHT
BEGIN:STANDARD
TZOFFSETFROM:-0500
TZOFFSETTO:-0600
TZNAME:CST
DTSTART:20271107T070000
END:STANDARD
BEGIN:DAYLIGHT
TZOFFSETFROM:-0600
TZOFFSETTO:-0500
TZNAME:CDT
DTSTART:20280312T080000
END:DAYLIGHT
BEGIN:STANDARD
TZOFFSETFROM:-0500
TZOFFSETTO:-0600
TZNAME:CST
DTSTART:20281105T070000
END:STANDARD
BEGIN:DAYLIGHT
TZOFFSETFROM:-0600
TZOFFSETTO:-0500
TZNAME:CDT
DTSTART:20290311T080000
END:DAYLIGHT
BEGIN:STANDARD
TZOFFSETFROM:-0500
TZOFFSETTO:-0600
TZNAME:CST
DTSTART:20291104T070000
END:STANDARD
BEGIN:DAYLIGHT
TZOFFSETFROM:-0600
TZOFFSETTO:-0500
TZNAME:CDT
DTSTART:20300310T080000
END:DAYLIGHT
BEGIN:STANDARD
TZOFFSETFROM:-0500
TZOFFSETTO:-0600
TZNAME:CST
DTSTART:20301103T070000
END:STANDARD
END:VTIMEZONE
BEGIN:VEVENT
DTSTART;TZID=America/Chicago:20261216T190000
DTEND;TZID=America/Chicago:20261216T200000
DTSTAMP:20260422T172438
CREATED:20230919T022750Z
LAST-MODIFIED:20260120T155356Z
UID:10000389-1797447600-1797451200@neta65.org
SUMMARY:AA Grapevine / La Viña Committee Meeting
DESCRIPTION:3rd Wednesday of every Month 7pm – 8pm \nZoom Info:\nID 949 476 7497\nPasscode neta65
URL:https://neta65.org/event/aa-grapevine-la-vina-committee-meeting-2024-09/2026-12-16/
LOCATION:Virtual Meeting via Zoom
CATEGORIES:Committee Meeting,Grapevine-LaViña
ATTACH;FMTTYPE=image/png:https://neta65.org/wp-content/uploads/2023/09/GV-LV_Committee_Meeting.png
END:VEVENT
BEGIN:VEVENT
DTSTART;TZID=America/Chicago:20270120T190000
DTEND;TZID=America/Chicago:20270120T200000
DTSTAMP:20260422T172438
CREATED:20230919T022750Z
LAST-MODIFIED:20260120T155356Z
UID:10000390-1800471600-1800475200@neta65.org
SUMMARY:AA Grapevine / La Viña Committee Meeting
DESCRIPTION:3rd Wednesday of every Month 7pm – 8pm \nZoom Info:\nID 949 476 7497\nPasscode neta65
URL:https://neta65.org/event/aa-grapevine-la-vina-committee-meeting-2024-09/2027-01-20/
LOCATION:Virtual Meeting via Zoom
CATEGORIES:Committee Meeting,Grapevine-LaViña
ATTACH;FMTTYPE=image/png:https://neta65.org/wp-content/uploads/2023/09/GV-LV_Committee_Meeting.png
END:VEVENT
BEGIN:VEVENT
DTSTART;TZID=America/Chicago:20270217T190000
DTEND;TZID=America/Chicago:20270217T200000
DTSTAMP:20260422T172438
CREATED:20230919T022750Z
LAST-MODIFIED:20260120T155356Z
UID:10000391-1802890800-1802894400@neta65.org
SUMMARY:AA Grapevine / La Viña Committee Meeting
DESCRIPTION:3rd Wednesday of every Month 7pm – 8pm \nZoom Info:\nID 949 476 7497\nPasscode neta65
URL:https://neta65.org/event/aa-grapevine-la-vina-committee-meeting-2024-09/2027-02-17/
LOCATION:Virtual Meeting via Zoom
CATEGORIES:Committee Meeting,Grapevine-LaViña
ATTACH;FMTTYPE=image/png:https://neta65.org/wp-content/uploads/2023/09/GV-LV_Committee_Meeting.png
END:VEVENT
BEGIN:VEVENT
DTSTART;TZID=America/Chicago:20270317T190000
DTEND;TZID=America/Chicago:20270317T200000
DTSTAMP:20260422T172438
CREATED:20230919T022750Z
LAST-MODIFIED:20260120T155356Z
UID:10000392-1805310000-1805313600@neta65.org
SUMMARY:AA Grapevine / La Viña Committee Meeting
DESCRIPTION:3rd Wednesday of every Month 7pm – 8pm \nZoom Info:\nID 949 476 7497\nPasscode neta65
URL:https://neta65.org/event/aa-grapevine-la-vina-committee-meeting-2024-09/2027-03-17/
LOCATION:Virtual Meeting via Zoom
CATEGORIES:Committee Meeting,Grapevine-LaViña
ATTACH;FMTTYPE=image/png:https://neta65.org/wp-content/uploads/2023/09/GV-LV_Committee_Meeting.png
END:VEVENT
BEGIN:VEVENT
DTSTART;TZID=America/Chicago:20270421T190000
DTEND;TZID=America/Chicago:20270421T200000
DTSTAMP:20260422T172438
CREATED:20230919T022750Z
LAST-MODIFIED:20260120T155356Z
UID:10000393-1808334000-1808337600@neta65.org
SUMMARY:AA Grapevine / La Viña Committee Meeting
DESCRIPTION:3rd Wednesday of every Month 7pm – 8pm \nZoom Info:\nID 949 476 7497\nPasscode neta65
URL:https://neta65.org/event/aa-grapevine-la-vina-committee-meeting-2024-09/2027-04-21/
LOCATION:Virtual Meeting via Zoom
CATEGORIES:Committee Meeting,Grapevine-LaViña
ATTACH;FMTTYPE=image/png:https://neta65.org/wp-content/uploads/2023/09/GV-LV_Committee_Meeting.png
END:VEVENT
BEGIN:VEVENT
DTSTART;TZID=America/Chicago:20270519T190000
DTEND;TZID=America/Chicago:20270519T200000
DTSTAMP:20260422T172438
CREATED:20230919T022750Z
LAST-MODIFIED:20260120T155356Z
UID:10000394-1810753200-1810756800@neta65.org
SUMMARY:AA Grapevine / La Viña Committee Meeting
DESCRIPTION:3rd Wednesday of every Month 7pm – 8pm \nZoom Info:\nID 949 476 7497\nPasscode neta65
URL:https://neta65.org/event/aa-grapevine-la-vina-committee-meeting-2024-09/2027-05-19/
LOCATION:Virtual Meeting via Zoom
CATEGORIES:Committee Meeting,Grapevine-LaViña
ATTACH;FMTTYPE=image/png:https://neta65.org/wp-content/uploads/2023/09/GV-LV_Committee_Meeting.png
END:VEVENT
BEGIN:VEVENT
DTSTART;TZID=America/Chicago:20270616T190000
DTEND;TZID=America/Chicago:20270616T200000
DTSTAMP:20260422T172438
CREATED:20230919T022750Z
LAST-MODIFIED:20260120T155356Z
UID:10000395-1813172400-1813176000@neta65.org
SUMMARY:AA Grapevine / La Viña Committee Meeting
DESCRIPTION:3rd Wednesday of every Month 7pm – 8pm \nZoom Info:\nID 949 476 7497\nPasscode neta65
URL:https://neta65.org/event/aa-grapevine-la-vina-committee-meeting-2024-09/2027-06-16/
LOCATION:Virtual Meeting via Zoom
CATEGORIES:Committee Meeting,Grapevine-LaViña
ATTACH;FMTTYPE=image/png:https://neta65.org/wp-content/uploads/2023/09/GV-LV_Committee_Meeting.png
END:VEVENT
BEGIN:VEVENT
DTSTART;TZID=America/Chicago:20270721T190000
DTEND;TZID=America/Chicago:20270721T200000
DTSTAMP:20260422T172438
CREATED:20230919T022750Z
LAST-MODIFIED:20260120T155356Z
UID:10000396-1816196400-1816200000@neta65.org
SUMMARY:AA Grapevine / La Viña Committee Meeting
DESCRIPTION:3rd Wednesday of every Month 7pm – 8pm \nZoom Info:\nID 949 476 7497\nPasscode neta65
URL:https://neta65.org/event/aa-grapevine-la-vina-committee-meeting-2024-09/2027-07-21/
LOCATION:Virtual Meeting via Zoom
CATEGORIES:Committee Meeting,Grapevine-LaViña
ATTACH;FMTTYPE=image/png:https://neta65.org/wp-content/uploads/2023/09/GV-LV_Committee_Meeting.png
END:VEVENT
BEGIN:VEVENT
DTSTART;TZID=America/Chicago:20270818T190000
DTEND;TZID=America/Chicago:20270818T200000
DTSTAMP:20260422T172438
CREATED:20230919T022750Z
LAST-MODIFIED:20260120T155356Z
UID:10000397-1818615600-1818619200@neta65.org
SUMMARY:AA Grapevine / La Viña Committee Meeting
DESCRIPTION:3rd Wednesday of every Month 7pm – 8pm \nZoom Info:\nID 949 476 7497\nPasscode neta65
URL:https://neta65.org/event/aa-grapevine-la-vina-committee-meeting-2024-09/2027-08-18/
LOCATION:Virtual Meeting via Zoom
CATEGORIES:Committee Meeting,Grapevine-LaViña
ATTACH;FMTTYPE=image/png:https://neta65.org/wp-content/uploads/2023/09/GV-LV_Committee_Meeting.png
END:VEVENT
BEGIN:VEVENT
DTSTART;TZID=America/Chicago:20270915T190000
DTEND;TZID=America/Chicago:20270915T200000
DTSTAMP:20260422T172438
CREATED:20230919T022750Z
LAST-MODIFIED:20260120T155356Z
UID:10000398-1821034800-1821038400@neta65.org
SUMMARY:AA Grapevine / La Viña Committee Meeting
DESCRIPTION:3rd Wednesday of every Month 7pm – 8pm \nZoom Info:\nID 949 476 7497\nPasscode neta65
URL:https://neta65.org/event/aa-grapevine-la-vina-committee-meeting-2024-09/2027-09-15/
LOCATION:Virtual Meeting via Zoom
CATEGORIES:Committee Meeting,Grapevine-LaViña
ATTACH;FMTTYPE=image/png:https://neta65.org/wp-content/uploads/2023/09/GV-LV_Committee_Meeting.png
END:VEVENT
BEGIN:VEVENT
DTSTART;TZID=America/Chicago:20271020T190000
DTEND;TZID=America/Chicago:20271020T200000
DTSTAMP:20260422T172438
CREATED:20230919T022750Z
LAST-MODIFIED:20260120T155356Z
UID:10000399-1824058800-1824062400@neta65.org
SUMMARY:AA Grapevine / La Viña Committee Meeting
DESCRIPTION:3rd Wednesday of every Month 7pm – 8pm \nZoom Info:\nID 949 476 7497\nPasscode neta65
URL:https://neta65.org/event/aa-grapevine-la-vina-committee-meeting-2024-09/2027-10-20/
LOCATION:Virtual Meeting via Zoom
CATEGORIES:Committee Meeting,Grapevine-LaViña
ATTACH;FMTTYPE=image/png:https://neta65.org/wp-content/uploads/2023/09/GV-LV_Committee_Meeting.png
END:VEVENT
BEGIN:VEVENT
DTSTART;TZID=America/Chicago:20271117T190000
DTEND;TZID=America/Chicago:20271117T200000
DTSTAMP:20260422T172438
CREATED:20230919T022750Z
LAST-MODIFIED:20260120T155356Z
UID:10000400-1826478000-1826481600@neta65.org
SUMMARY:AA Grapevine / La Viña Committee Meeting
DESCRIPTION:3rd Wednesday of every Month 7pm – 8pm \nZoom Info:\nID 949 476 7497\nPasscode neta65
URL:https://neta65.org/event/aa-grapevine-la-vina-committee-meeting-2024-09/2027-11-17/
LOCATION:Virtual Meeting via Zoom
CATEGORIES:Committee Meeting,Grapevine-LaViña
ATTACH;FMTTYPE=image/png:https://neta65.org/wp-content/uploads/2023/09/GV-LV_Committee_Meeting.png
END:VEVENT
BEGIN:VEVENT
DTSTART;TZID=America/Chicago:20271215T190000
DTEND;TZID=America/Chicago:20271215T200000
DTSTAMP:20260422T172438
CREATED:20230919T022750Z
LAST-MODIFIED:20260120T155356Z
UID:10000401-1828897200-1828900800@neta65.org
SUMMARY:AA Grapevine / La Viña Committee Meeting
DESCRIPTION:3rd Wednesday of every Month 7pm – 8pm \nZoom Info:\nID 949 476 7497\nPasscode neta65
URL:https://neta65.org/event/aa-grapevine-la-vina-committee-meeting-2024-09/2027-12-15/
LOCATION:Virtual Meeting via Zoom
CATEGORIES:Committee Meeting,Grapevine-LaViña
ATTACH;FMTTYPE=image/png:https://neta65.org/wp-content/uploads/2023/09/GV-LV_Committee_Meeting.png
END:VEVENT
BEGIN:VEVENT
DTSTART;TZID=America/Chicago:20280119T190000
DTEND;TZID=America/Chicago:20280119T200000
DTSTAMP:20260422T172438
CREATED:20230919T022750Z
LAST-MODIFIED:20260120T155356Z
UID:10000402-1831921200-1831924800@neta65.org
SUMMARY:AA Grapevine / La Viña Committee Meeting
DESCRIPTION:3rd Wednesday of every Month 7pm – 8pm \nZoom Info:\nID 949 476 7497\nPasscode neta65
URL:https://neta65.org/event/aa-grapevine-la-vina-committee-meeting-2024-09/2028-01-19/
LOCATION:Virtual Meeting via Zoom
CATEGORIES:Committee Meeting,Grapevine-LaViña
ATTACH;FMTTYPE=image/png:https://neta65.org/wp-content/uploads/2023/09/GV-LV_Committee_Meeting.png
END:VEVENT
BEGIN:VEVENT
DTSTART;TZID=America/Chicago:20280216T190000
DTEND;TZID=America/Chicago:20280216T200000
DTSTAMP:20260422T172438
CREATED:20230919T022750Z
LAST-MODIFIED:20260120T155356Z
UID:10000403-1834340400-1834344000@neta65.org
SUMMARY:AA Grapevine / La Viña Committee Meeting
DESCRIPTION:3rd Wednesday of every Month 7pm – 8pm \nZoom Info:\nID 949 476 7497\nPasscode neta65
URL:https://neta65.org/event/aa-grapevine-la-vina-committee-meeting-2024-09/2028-02-16/
LOCATION:Virtual Meeting via Zoom
CATEGORIES:Committee Meeting,Grapevine-LaViña
ATTACH;FMTTYPE=image/png:https://neta65.org/wp-content/uploads/2023/09/GV-LV_Committee_Meeting.png
END:VEVENT
BEGIN:VEVENT
DTSTART;TZID=America/Chicago:20280315T190000
DTEND;TZID=America/Chicago:20280315T200000
DTSTAMP:20260422T172438
CREATED:20230919T022750Z
LAST-MODIFIED:20260120T155356Z
UID:10000404-1836759600-1836763200@neta65.org
SUMMARY:AA Grapevine / La Viña Committee Meeting
DESCRIPTION:3rd Wednesday of every Month 7pm – 8pm \nZoom Info:\nID 949 476 7497\nPasscode neta65
URL:https://neta65.org/event/aa-grapevine-la-vina-committee-meeting-2024-09/2028-03-15/
LOCATION:Virtual Meeting via Zoom
CATEGORIES:Committee Meeting,Grapevine-LaViña
ATTACH;FMTTYPE=image/png:https://neta65.org/wp-content/uploads/2023/09/GV-LV_Committee_Meeting.png
END:VEVENT
BEGIN:VEVENT
DTSTART;TZID=America/Chicago:20280419T190000
DTEND;TZID=America/Chicago:20280419T200000
DTSTAMP:20260422T172438
CREATED:20230919T022750Z
LAST-MODIFIED:20260120T155356Z
UID:10000405-1839783600-1839787200@neta65.org
SUMMARY:AA Grapevine / La Viña Committee Meeting
DESCRIPTION:3rd Wednesday of every Month 7pm – 8pm \nZoom Info:\nID 949 476 7497\nPasscode neta65
URL:https://neta65.org/event/aa-grapevine-la-vina-committee-meeting-2024-09/2028-04-19/
LOCATION:Virtual Meeting via Zoom
CATEGORIES:Committee Meeting,Grapevine-LaViña
ATTACH;FMTTYPE=image/png:https://neta65.org/wp-content/uploads/2023/09/GV-LV_Committee_Meeting.png
END:VEVENT
BEGIN:VEVENT
DTSTART;TZID=America/Chicago:20280517T190000
DTEND;TZID=America/Chicago:20280517T200000
DTSTAMP:20260422T172438
CREATED:20230919T022750Z
LAST-MODIFIED:20260120T155356Z
UID:10000406-1842202800-1842206400@neta65.org
SUMMARY:AA Grapevine / La Viña Committee Meeting
DESCRIPTION:3rd Wednesday of every Month 7pm – 8pm \nZoom Info:\nID 949 476 7497\nPasscode neta65
URL:https://neta65.org/event/aa-grapevine-la-vina-committee-meeting-2024-09/2028-05-17/
LOCATION:Virtual Meeting via Zoom
CATEGORIES:Committee Meeting,Grapevine-LaViña
ATTACH;FMTTYPE=image/png:https://neta65.org/wp-content/uploads/2023/09/GV-LV_Committee_Meeting.png
END:VEVENT
BEGIN:VEVENT
DTSTART;TZID=America/Chicago:20280621T190000
DTEND;TZID=America/Chicago:20280621T200000
DTSTAMP:20260422T172438
CREATED:20230919T022750Z
LAST-MODIFIED:20260120T155356Z
UID:10000407-1845226800-1845230400@neta65.org
SUMMARY:AA Grapevine / La Viña Committee Meeting
DESCRIPTION:3rd Wednesday of every Month 7pm – 8pm \nZoom Info:\nID 949 476 7497\nPasscode neta65
URL:https://neta65.org/event/aa-grapevine-la-vina-committee-meeting-2024-09/2028-06-21/
LOCATION:Virtual Meeting via Zoom
CATEGORIES:Committee Meeting,Grapevine-LaViña
ATTACH;FMTTYPE=image/png:https://neta65.org/wp-content/uploads/2023/09/GV-LV_Committee_Meeting.png
END:VEVENT
BEGIN:VEVENT
DTSTART;TZID=America/Chicago:20280719T190000
DTEND;TZID=America/Chicago:20280719T200000
DTSTAMP:20260422T172438
CREATED:20230919T022750Z
LAST-MODIFIED:20260120T155356Z
UID:10000408-1847646000-1847649600@neta65.org
SUMMARY:AA Grapevine / La Viña Committee Meeting
DESCRIPTION:3rd Wednesday of every Month 7pm – 8pm \nZoom Info:\nID 949 476 7497\nPasscode neta65
URL:https://neta65.org/event/aa-grapevine-la-vina-committee-meeting-2024-09/2028-07-19/
LOCATION:Virtual Meeting via Zoom
CATEGORIES:Committee Meeting,Grapevine-LaViña
ATTACH;FMTTYPE=image/png:https://neta65.org/wp-content/uploads/2023/09/GV-LV_Committee_Meeting.png
END:VEVENT
BEGIN:VEVENT
DTSTART;TZID=America/Chicago:20280816T190000
DTEND;TZID=America/Chicago:20280816T200000
DTSTAMP:20260422T172438
CREATED:20230919T022750Z
LAST-MODIFIED:20260120T155356Z
UID:10000409-1850065200-1850068800@neta65.org
SUMMARY:AA Grapevine / La Viña Committee Meeting
DESCRIPTION:3rd Wednesday of every Month 7pm – 8pm \nZoom Info:\nID 949 476 7497\nPasscode neta65
URL:https://neta65.org/event/aa-grapevine-la-vina-committee-meeting-2024-09/2028-08-16/
LOCATION:Virtual Meeting via Zoom
CATEGORIES:Committee Meeting,Grapevine-LaViña
ATTACH;FMTTYPE=image/png:https://neta65.org/wp-content/uploads/2023/09/GV-LV_Committee_Meeting.png
END:VEVENT
BEGIN:VEVENT
DTSTART;TZID=America/Chicago:20280920T190000
DTEND;TZID=America/Chicago:20280920T200000
DTSTAMP:20260422T172438
CREATED:20230919T022750Z
LAST-MODIFIED:20260120T155356Z
UID:10000410-1853089200-1853092800@neta65.org
SUMMARY:AA Grapevine / La Viña Committee Meeting
DESCRIPTION:3rd Wednesday of every Month 7pm – 8pm \nZoom Info:\nID 949 476 7497\nPasscode neta65
URL:https://neta65.org/event/aa-grapevine-la-vina-committee-meeting-2024-09/2028-09-20/
LOCATION:Virtual Meeting via Zoom
CATEGORIES:Committee Meeting,Grapevine-LaViña
ATTACH;FMTTYPE=image/png:https://neta65.org/wp-content/uploads/2023/09/GV-LV_Committee_Meeting.png
END:VEVENT
BEGIN:VEVENT
DTSTART;TZID=America/Chicago:20281018T190000
DTEND;TZID=America/Chicago:20281018T200000
DTSTAMP:20260422T172438
CREATED:20230919T022750Z
LAST-MODIFIED:20260120T155356Z
UID:10000411-1855508400-1855512000@neta65.org
SUMMARY:AA Grapevine / La Viña Committee Meeting
DESCRIPTION:3rd Wednesday of every Month 7pm – 8pm \nZoom Info:\nID 949 476 7497\nPasscode neta65
URL:https://neta65.org/event/aa-grapevine-la-vina-committee-meeting-2024-09/2028-10-18/
LOCATION:Virtual Meeting via Zoom
CATEGORIES:Committee Meeting,Grapevine-LaViña
ATTACH;FMTTYPE=image/png:https://neta65.org/wp-content/uploads/2023/09/GV-LV_Committee_Meeting.png
END:VEVENT
BEGIN:VEVENT
DTSTART;TZID=America/Chicago:20281115T190000
DTEND;TZID=America/Chicago:20281115T200000
DTSTAMP:20260422T172438
CREATED:20230919T022750Z
LAST-MODIFIED:20260120T155356Z
UID:10000412-1857927600-1857931200@neta65.org
SUMMARY:AA Grapevine / La Viña Committee Meeting
DESCRIPTION:3rd Wednesday of every Month 7pm – 8pm \nZoom Info:\nID 949 476 7497\nPasscode neta65
URL:https://neta65.org/event/aa-grapevine-la-vina-committee-meeting-2024-09/2028-11-15/
LOCATION:Virtual Meeting via Zoom
CATEGORIES:Committee Meeting,Grapevine-LaViña
ATTACH;FMTTYPE=image/png:https://neta65.org/wp-content/uploads/2023/09/GV-LV_Committee_Meeting.png
END:VEVENT
BEGIN:VEVENT
DTSTART;TZID=America/Chicago:20281220T190000
DTEND;TZID=America/Chicago:20281220T200000
DTSTAMP:20260422T172438
CREATED:20230919T022750Z
LAST-MODIFIED:20260120T155356Z
UID:10000413-1860951600-1860955200@neta65.org
SUMMARY:AA Grapevine / La Viña Committee Meeting
DESCRIPTION:3rd Wednesday of every Month 7pm – 8pm \nZoom Info:\nID 949 476 7497\nPasscode neta65
URL:https://neta65.org/event/aa-grapevine-la-vina-committee-meeting-2024-09/2028-12-20/
LOCATION:Virtual Meeting via Zoom
CATEGORIES:Committee Meeting,Grapevine-LaViña
ATTACH;FMTTYPE=image/png:https://neta65.org/wp-content/uploads/2023/09/GV-LV_Committee_Meeting.png
END:VEVENT
BEGIN:VEVENT
DTSTART;TZID=America/Chicago:20290117T190000
DTEND;TZID=America/Chicago:20290117T200000
DTSTAMP:20260422T172438
CREATED:20230919T022750Z
LAST-MODIFIED:20260120T155356Z
UID:10000414-1863370800-1863374400@neta65.org
SUMMARY:AA Grapevine / La Viña Committee Meeting
DESCRIPTION:3rd Wednesday of every Month 7pm – 8pm \nZoom Info:\nID 949 476 7497\nPasscode neta65
URL:https://neta65.org/event/aa-grapevine-la-vina-committee-meeting-2024-09/2029-01-17/
LOCATION:Virtual Meeting via Zoom
CATEGORIES:Committee Meeting,Grapevine-LaViña
ATTACH;FMTTYPE=image/png:https://neta65.org/wp-content/uploads/2023/09/GV-LV_Committee_Meeting.png
END:VEVENT
BEGIN:VEVENT
DTSTART;TZID=America/Chicago:20290221T190000
DTEND;TZID=America/Chicago:20290221T200000
DTSTAMP:20260422T172438
CREATED:20230919T022750Z
LAST-MODIFIED:20260120T155356Z
UID:10000415-1866394800-1866398400@neta65.org
SUMMARY:AA Grapevine / La Viña Committee Meeting
DESCRIPTION:3rd Wednesday of every Month 7pm – 8pm \nZoom Info:\nID 949 476 7497\nPasscode neta65
URL:https://neta65.org/event/aa-grapevine-la-vina-committee-meeting-2024-09/2029-02-21/
LOCATION:Virtual Meeting via Zoom
CATEGORIES:Committee Meeting,Grapevine-LaViña
ATTACH;FMTTYPE=image/png:https://neta65.org/wp-content/uploads/2023/09/GV-LV_Committee_Meeting.png
END:VEVENT
BEGIN:VEVENT
DTSTART;TZID=America/Chicago:20290321T190000
DTEND;TZID=America/Chicago:20290321T200000
DTSTAMP:20260422T172438
CREATED:20230919T022750Z
LAST-MODIFIED:20260120T155356Z
UID:10000416-1868814000-1868817600@neta65.org
SUMMARY:AA Grapevine / La Viña Committee Meeting
DESCRIPTION:3rd Wednesday of every Month 7pm – 8pm \nZoom Info:\nID 949 476 7497\nPasscode neta65
URL:https://neta65.org/event/aa-grapevine-la-vina-committee-meeting-2024-09/2029-03-21/
LOCATION:Virtual Meeting via Zoom
CATEGORIES:Committee Meeting,Grapevine-LaViña
ATTACH;FMTTYPE=image/png:https://neta65.org/wp-content/uploads/2023/09/GV-LV_Committee_Meeting.png
END:VEVENT
BEGIN:VEVENT
DTSTART;TZID=America/Chicago:20290418T190000
DTEND;TZID=America/Chicago:20290418T200000
DTSTAMP:20260422T172438
CREATED:20230919T022750Z
LAST-MODIFIED:20260120T155356Z
UID:10000417-1871233200-1871236800@neta65.org
SUMMARY:AA Grapevine / La Viña Committee Meeting
DESCRIPTION:3rd Wednesday of every Month 7pm – 8pm \nZoom Info:\nID 949 476 7497\nPasscode neta65
URL:https://neta65.org/event/aa-grapevine-la-vina-committee-meeting-2024-09/2029-04-18/
LOCATION:Virtual Meeting via Zoom
CATEGORIES:Committee Meeting,Grapevine-LaViña
ATTACH;FMTTYPE=image/png:https://neta65.org/wp-content/uploads/2023/09/GV-LV_Committee_Meeting.png
END:VEVENT
BEGIN:VEVENT
DTSTART;TZID=America/Chicago:20290516T190000
DTEND;TZID=America/Chicago:20290516T200000
DTSTAMP:20260422T172438
CREATED:20230919T022750Z
LAST-MODIFIED:20260120T155356Z
UID:10000418-1873652400-1873656000@neta65.org
SUMMARY:AA Grapevine / La Viña Committee Meeting
DESCRIPTION:3rd Wednesday of every Month 7pm – 8pm \nZoom Info:\nID 949 476 7497\nPasscode neta65
URL:https://neta65.org/event/aa-grapevine-la-vina-committee-meeting-2024-09/2029-05-16/
LOCATION:Virtual Meeting via Zoom
CATEGORIES:Committee Meeting,Grapevine-LaViña
ATTACH;FMTTYPE=image/png:https://neta65.org/wp-content/uploads/2023/09/GV-LV_Committee_Meeting.png
END:VEVENT
END:VCALENDAR