BEGIN:VCALENDAR
VERSION:2.0
PRODID:-// - ECPv6.15.20//NONSGML v1.0//EN
CALSCALE:GREGORIAN
METHOD:PUBLISH
X-ORIGINAL-URL:https://neta65.org
X-WR-CALDESC:Events for 
REFRESH-INTERVAL;VALUE=DURATION:PT1H
X-Robots-Tag:noindex
X-PUBLISHED-TTL:PT1H
BEGIN:VTIMEZONE
TZID:America/Chicago
BEGIN:DAYLIGHT
TZOFFSETFROM:-0600
TZOFFSETTO:-0500
TZNAME:CDT
DTSTART:20260308T080000
END:DAYLIGHT
BEGIN:STANDARD
TZOFFSETFROM:-0500
TZOFFSETTO:-0600
TZNAME:CST
DTSTART:20261101T070000
END:STANDARD
BEGIN:DAYLIGHT
TZOFFSETFROM:-0600
TZOFFSETTO:-0500
TZNAME:CDT
DTSTART:20270314T080000
END:DAYLIGHT
BEGIN:STANDARD
TZOFFSETFROM:-0500
TZOFFSETTO:-0600
TZNAME:CST
DTSTART:20271107T070000
END:STANDARD
BEGIN:DAYLIGHT
TZOFFSETFROM:-0600
TZOFFSETTO:-0500
TZNAME:CDT
DTSTART:20280312T080000
END:DAYLIGHT
BEGIN:STANDARD
TZOFFSETFROM:-0500
TZOFFSETTO:-0600
TZNAME:CST
DTSTART:20281105T070000
END:STANDARD
BEGIN:DAYLIGHT
TZOFFSETFROM:-0600
TZOFFSETTO:-0500
TZNAME:CDT
DTSTART:20290311T080000
END:DAYLIGHT
BEGIN:STANDARD
TZOFFSETFROM:-0500
TZOFFSETTO:-0600
TZNAME:CST
DTSTART:20291104T070000
END:STANDARD
BEGIN:DAYLIGHT
TZOFFSETFROM:-0600
TZOFFSETTO:-0500
TZNAME:CDT
DTSTART:20300310T080000
END:DAYLIGHT
BEGIN:STANDARD
TZOFFSETFROM:-0500
TZOFFSETTO:-0600
TZNAME:CST
DTSTART:20301103T070000
END:STANDARD
END:VTIMEZONE
BEGIN:VEVENT
DTSTART;TZID=America/Chicago:20270315T193000
DTEND;TZID=America/Chicago:20270315T203000
DTSTAMP:20260422T172321
CREATED:20240408T005110Z
LAST-MODIFIED:20250825T194210Z
UID:10001006-1805139000-1805142600@neta65.org
SUMMARY:NETA65 PI Committee Monthly Meeting
DESCRIPTION:Join the PI Committee Meeting the 3rd Monday each month to share and get the lates information for area AA public information methods\, events\, and opportunities. \nMeeting ID: 889 7249 5179 \nPasscode: 089098
URL:https://neta65.org/event/pi-committee-meeting-29/2027-03-15/
CATEGORIES:Committee Meeting,PI
ATTACH;FMTTYPE=image/jpeg:https://neta65.org/wp-content/uploads/2024/04/PI-Carry-the-Message.jpg
END:VEVENT
BEGIN:VEVENT
DTSTART;TZID=America/Chicago:20270419T193000
DTEND;TZID=America/Chicago:20270419T203000
DTSTAMP:20260422T172321
CREATED:20240408T005110Z
LAST-MODIFIED:20250825T194210Z
UID:10001007-1808163000-1808166600@neta65.org
SUMMARY:NETA65 PI Committee Monthly Meeting
DESCRIPTION:Join the PI Committee Meeting the 3rd Monday each month to share and get the lates information for area AA public information methods\, events\, and opportunities. \nMeeting ID: 889 7249 5179 \nPasscode: 089098
URL:https://neta65.org/event/pi-committee-meeting-29/2027-04-19/
CATEGORIES:Committee Meeting,PI
ATTACH;FMTTYPE=image/jpeg:https://neta65.org/wp-content/uploads/2024/04/PI-Carry-the-Message.jpg
END:VEVENT
BEGIN:VEVENT
DTSTART;TZID=America/Chicago:20270517T193000
DTEND;TZID=America/Chicago:20270517T203000
DTSTAMP:20260422T172321
CREATED:20240408T005110Z
LAST-MODIFIED:20250825T194210Z
UID:10001008-1810582200-1810585800@neta65.org
SUMMARY:NETA65 PI Committee Monthly Meeting
DESCRIPTION:Join the PI Committee Meeting the 3rd Monday each month to share and get the lates information for area AA public information methods\, events\, and opportunities. \nMeeting ID: 889 7249 5179 \nPasscode: 089098
URL:https://neta65.org/event/pi-committee-meeting-29/2027-05-17/
CATEGORIES:Committee Meeting,PI
ATTACH;FMTTYPE=image/jpeg:https://neta65.org/wp-content/uploads/2024/04/PI-Carry-the-Message.jpg
END:VEVENT
BEGIN:VEVENT
DTSTART;TZID=America/Chicago:20270621T193000
DTEND;TZID=America/Chicago:20270621T203000
DTSTAMP:20260422T172321
CREATED:20240408T005110Z
LAST-MODIFIED:20250825T194210Z
UID:10001009-1813606200-1813609800@neta65.org
SUMMARY:NETA65 PI Committee Monthly Meeting
DESCRIPTION:Join the PI Committee Meeting the 3rd Monday each month to share and get the lates information for area AA public information methods\, events\, and opportunities. \nMeeting ID: 889 7249 5179 \nPasscode: 089098
URL:https://neta65.org/event/pi-committee-meeting-29/2027-06-21/
CATEGORIES:Committee Meeting,PI
ATTACH;FMTTYPE=image/jpeg:https://neta65.org/wp-content/uploads/2024/04/PI-Carry-the-Message.jpg
END:VEVENT
BEGIN:VEVENT
DTSTART;TZID=America/Chicago:20270719T193000
DTEND;TZID=America/Chicago:20270719T203000
DTSTAMP:20260422T172321
CREATED:20240408T005110Z
LAST-MODIFIED:20250825T194210Z
UID:10001010-1816025400-1816029000@neta65.org
SUMMARY:NETA65 PI Committee Monthly Meeting
DESCRIPTION:Join the PI Committee Meeting the 3rd Monday each month to share and get the lates information for area AA public information methods\, events\, and opportunities. \nMeeting ID: 889 7249 5179 \nPasscode: 089098
URL:https://neta65.org/event/pi-committee-meeting-29/2027-07-19/
CATEGORIES:Committee Meeting,PI
ATTACH;FMTTYPE=image/jpeg:https://neta65.org/wp-content/uploads/2024/04/PI-Carry-the-Message.jpg
END:VEVENT
BEGIN:VEVENT
DTSTART;TZID=America/Chicago:20270816T193000
DTEND;TZID=America/Chicago:20270816T203000
DTSTAMP:20260422T172321
CREATED:20240408T005110Z
LAST-MODIFIED:20250825T194210Z
UID:10001011-1818444600-1818448200@neta65.org
SUMMARY:NETA65 PI Committee Monthly Meeting
DESCRIPTION:Join the PI Committee Meeting the 3rd Monday each month to share and get the lates information for area AA public information methods\, events\, and opportunities. \nMeeting ID: 889 7249 5179 \nPasscode: 089098
URL:https://neta65.org/event/pi-committee-meeting-29/2027-08-16/
CATEGORIES:Committee Meeting,PI
ATTACH;FMTTYPE=image/jpeg:https://neta65.org/wp-content/uploads/2024/04/PI-Carry-the-Message.jpg
END:VEVENT
BEGIN:VEVENT
DTSTART;TZID=America/Chicago:20270920T193000
DTEND;TZID=America/Chicago:20270920T203000
DTSTAMP:20260422T172321
CREATED:20240408T005110Z
LAST-MODIFIED:20250825T194210Z
UID:10001012-1821468600-1821472200@neta65.org
SUMMARY:NETA65 PI Committee Monthly Meeting
DESCRIPTION:Join the PI Committee Meeting the 3rd Monday each month to share and get the lates information for area AA public information methods\, events\, and opportunities. \nMeeting ID: 889 7249 5179 \nPasscode: 089098
URL:https://neta65.org/event/pi-committee-meeting-29/2027-09-20/
CATEGORIES:Committee Meeting,PI
ATTACH;FMTTYPE=image/jpeg:https://neta65.org/wp-content/uploads/2024/04/PI-Carry-the-Message.jpg
END:VEVENT
BEGIN:VEVENT
DTSTART;TZID=America/Chicago:20271018T193000
DTEND;TZID=America/Chicago:20271018T203000
DTSTAMP:20260422T172321
CREATED:20240408T005110Z
LAST-MODIFIED:20250825T194210Z
UID:10001013-1823887800-1823891400@neta65.org
SUMMARY:NETA65 PI Committee Monthly Meeting
DESCRIPTION:Join the PI Committee Meeting the 3rd Monday each month to share and get the lates information for area AA public information methods\, events\, and opportunities. \nMeeting ID: 889 7249 5179 \nPasscode: 089098
URL:https://neta65.org/event/pi-committee-meeting-29/2027-10-18/
CATEGORIES:Committee Meeting,PI
ATTACH;FMTTYPE=image/jpeg:https://neta65.org/wp-content/uploads/2024/04/PI-Carry-the-Message.jpg
END:VEVENT
BEGIN:VEVENT
DTSTART;TZID=America/Chicago:20271115T193000
DTEND;TZID=America/Chicago:20271115T203000
DTSTAMP:20260422T172321
CREATED:20240408T005110Z
LAST-MODIFIED:20250825T194210Z
UID:10001014-1826307000-1826310600@neta65.org
SUMMARY:NETA65 PI Committee Monthly Meeting
DESCRIPTION:Join the PI Committee Meeting the 3rd Monday each month to share and get the lates information for area AA public information methods\, events\, and opportunities. \nMeeting ID: 889 7249 5179 \nPasscode: 089098
URL:https://neta65.org/event/pi-committee-meeting-29/2027-11-15/
CATEGORIES:Committee Meeting,PI
ATTACH;FMTTYPE=image/jpeg:https://neta65.org/wp-content/uploads/2024/04/PI-Carry-the-Message.jpg
END:VEVENT
BEGIN:VEVENT
DTSTART;TZID=America/Chicago:20271220T193000
DTEND;TZID=America/Chicago:20271220T203000
DTSTAMP:20260422T172321
CREATED:20240408T005110Z
LAST-MODIFIED:20250825T194210Z
UID:10001015-1829331000-1829334600@neta65.org
SUMMARY:NETA65 PI Committee Monthly Meeting
DESCRIPTION:Join the PI Committee Meeting the 3rd Monday each month to share and get the lates information for area AA public information methods\, events\, and opportunities. \nMeeting ID: 889 7249 5179 \nPasscode: 089098
URL:https://neta65.org/event/pi-committee-meeting-29/2027-12-20/
CATEGORIES:Committee Meeting,PI
ATTACH;FMTTYPE=image/jpeg:https://neta65.org/wp-content/uploads/2024/04/PI-Carry-the-Message.jpg
END:VEVENT
BEGIN:VEVENT
DTSTART;TZID=America/Chicago:20280117T193000
DTEND;TZID=America/Chicago:20280117T203000
DTSTAMP:20260422T172321
CREATED:20240408T005110Z
LAST-MODIFIED:20250825T194210Z
UID:10001016-1831750200-1831753800@neta65.org
SUMMARY:NETA65 PI Committee Monthly Meeting
DESCRIPTION:Join the PI Committee Meeting the 3rd Monday each month to share and get the lates information for area AA public information methods\, events\, and opportunities. \nMeeting ID: 889 7249 5179 \nPasscode: 089098
URL:https://neta65.org/event/pi-committee-meeting-29/2028-01-17/
CATEGORIES:Committee Meeting,PI
ATTACH;FMTTYPE=image/jpeg:https://neta65.org/wp-content/uploads/2024/04/PI-Carry-the-Message.jpg
END:VEVENT
BEGIN:VEVENT
DTSTART;TZID=America/Chicago:20280221T193000
DTEND;TZID=America/Chicago:20280221T203000
DTSTAMP:20260422T172321
CREATED:20240408T005110Z
LAST-MODIFIED:20250825T194210Z
UID:10001017-1834774200-1834777800@neta65.org
SUMMARY:NETA65 PI Committee Monthly Meeting
DESCRIPTION:Join the PI Committee Meeting the 3rd Monday each month to share and get the lates information for area AA public information methods\, events\, and opportunities. \nMeeting ID: 889 7249 5179 \nPasscode: 089098
URL:https://neta65.org/event/pi-committee-meeting-29/2028-02-21/
CATEGORIES:Committee Meeting,PI
ATTACH;FMTTYPE=image/jpeg:https://neta65.org/wp-content/uploads/2024/04/PI-Carry-the-Message.jpg
END:VEVENT
BEGIN:VEVENT
DTSTART;TZID=America/Chicago:20280320T193000
DTEND;TZID=America/Chicago:20280320T203000
DTSTAMP:20260422T172321
CREATED:20240408T005110Z
LAST-MODIFIED:20250825T194210Z
UID:10001018-1837193400-1837197000@neta65.org
SUMMARY:NETA65 PI Committee Monthly Meeting
DESCRIPTION:Join the PI Committee Meeting the 3rd Monday each month to share and get the lates information for area AA public information methods\, events\, and opportunities. \nMeeting ID: 889 7249 5179 \nPasscode: 089098
URL:https://neta65.org/event/pi-committee-meeting-29/2028-03-20/
CATEGORIES:Committee Meeting,PI
ATTACH;FMTTYPE=image/jpeg:https://neta65.org/wp-content/uploads/2024/04/PI-Carry-the-Message.jpg
END:VEVENT
BEGIN:VEVENT
DTSTART;TZID=America/Chicago:20280417T193000
DTEND;TZID=America/Chicago:20280417T203000
DTSTAMP:20260422T172321
CREATED:20240408T005110Z
LAST-MODIFIED:20250825T194210Z
UID:10001019-1839612600-1839616200@neta65.org
SUMMARY:NETA65 PI Committee Monthly Meeting
DESCRIPTION:Join the PI Committee Meeting the 3rd Monday each month to share and get the lates information for area AA public information methods\, events\, and opportunities. \nMeeting ID: 889 7249 5179 \nPasscode: 089098
URL:https://neta65.org/event/pi-committee-meeting-29/2028-04-17/
CATEGORIES:Committee Meeting,PI
ATTACH;FMTTYPE=image/jpeg:https://neta65.org/wp-content/uploads/2024/04/PI-Carry-the-Message.jpg
END:VEVENT
BEGIN:VEVENT
DTSTART;TZID=America/Chicago:20280515T193000
DTEND;TZID=America/Chicago:20280515T203000
DTSTAMP:20260422T172321
CREATED:20240408T005110Z
LAST-MODIFIED:20250825T194210Z
UID:10001020-1842031800-1842035400@neta65.org
SUMMARY:NETA65 PI Committee Monthly Meeting
DESCRIPTION:Join the PI Committee Meeting the 3rd Monday each month to share and get the lates information for area AA public information methods\, events\, and opportunities. \nMeeting ID: 889 7249 5179 \nPasscode: 089098
URL:https://neta65.org/event/pi-committee-meeting-29/2028-05-15/
CATEGORIES:Committee Meeting,PI
ATTACH;FMTTYPE=image/jpeg:https://neta65.org/wp-content/uploads/2024/04/PI-Carry-the-Message.jpg
END:VEVENT
BEGIN:VEVENT
DTSTART;TZID=America/Chicago:20280619T193000
DTEND;TZID=America/Chicago:20280619T203000
DTSTAMP:20260422T172321
CREATED:20240408T005110Z
LAST-MODIFIED:20250825T194210Z
UID:10001021-1845055800-1845059400@neta65.org
SUMMARY:NETA65 PI Committee Monthly Meeting
DESCRIPTION:Join the PI Committee Meeting the 3rd Monday each month to share and get the lates information for area AA public information methods\, events\, and opportunities. \nMeeting ID: 889 7249 5179 \nPasscode: 089098
URL:https://neta65.org/event/pi-committee-meeting-29/2028-06-19/
CATEGORIES:Committee Meeting,PI
ATTACH;FMTTYPE=image/jpeg:https://neta65.org/wp-content/uploads/2024/04/PI-Carry-the-Message.jpg
END:VEVENT
BEGIN:VEVENT
DTSTART;TZID=America/Chicago:20280717T193000
DTEND;TZID=America/Chicago:20280717T203000
DTSTAMP:20260422T172321
CREATED:20240408T005110Z
LAST-MODIFIED:20250825T194210Z
UID:10001022-1847475000-1847478600@neta65.org
SUMMARY:NETA65 PI Committee Monthly Meeting
DESCRIPTION:Join the PI Committee Meeting the 3rd Monday each month to share and get the lates information for area AA public information methods\, events\, and opportunities. \nMeeting ID: 889 7249 5179 \nPasscode: 089098
URL:https://neta65.org/event/pi-committee-meeting-29/2028-07-17/
CATEGORIES:Committee Meeting,PI
ATTACH;FMTTYPE=image/jpeg:https://neta65.org/wp-content/uploads/2024/04/PI-Carry-the-Message.jpg
END:VEVENT
BEGIN:VEVENT
DTSTART;TZID=America/Chicago:20280821T193000
DTEND;TZID=America/Chicago:20280821T203000
DTSTAMP:20260422T172321
CREATED:20240408T005110Z
LAST-MODIFIED:20250825T194210Z
UID:10001023-1850499000-1850502600@neta65.org
SUMMARY:NETA65 PI Committee Monthly Meeting
DESCRIPTION:Join the PI Committee Meeting the 3rd Monday each month to share and get the lates information for area AA public information methods\, events\, and opportunities. \nMeeting ID: 889 7249 5179 \nPasscode: 089098
URL:https://neta65.org/event/pi-committee-meeting-29/2028-08-21/
CATEGORIES:Committee Meeting,PI
ATTACH;FMTTYPE=image/jpeg:https://neta65.org/wp-content/uploads/2024/04/PI-Carry-the-Message.jpg
END:VEVENT
BEGIN:VEVENT
DTSTART;TZID=America/Chicago:20280918T193000
DTEND;TZID=America/Chicago:20280918T203000
DTSTAMP:20260422T172321
CREATED:20240408T005110Z
LAST-MODIFIED:20250825T194210Z
UID:10001024-1852918200-1852921800@neta65.org
SUMMARY:NETA65 PI Committee Monthly Meeting
DESCRIPTION:Join the PI Committee Meeting the 3rd Monday each month to share and get the lates information for area AA public information methods\, events\, and opportunities. \nMeeting ID: 889 7249 5179 \nPasscode: 089098
URL:https://neta65.org/event/pi-committee-meeting-29/2028-09-18/
CATEGORIES:Committee Meeting,PI
ATTACH;FMTTYPE=image/jpeg:https://neta65.org/wp-content/uploads/2024/04/PI-Carry-the-Message.jpg
END:VEVENT
BEGIN:VEVENT
DTSTART;TZID=America/Chicago:20281016T193000
DTEND;TZID=America/Chicago:20281016T203000
DTSTAMP:20260422T172321
CREATED:20240408T005110Z
LAST-MODIFIED:20250825T194210Z
UID:10001025-1855337400-1855341000@neta65.org
SUMMARY:NETA65 PI Committee Monthly Meeting
DESCRIPTION:Join the PI Committee Meeting the 3rd Monday each month to share and get the lates information for area AA public information methods\, events\, and opportunities. \nMeeting ID: 889 7249 5179 \nPasscode: 089098
URL:https://neta65.org/event/pi-committee-meeting-29/2028-10-16/
CATEGORIES:Committee Meeting,PI
ATTACH;FMTTYPE=image/jpeg:https://neta65.org/wp-content/uploads/2024/04/PI-Carry-the-Message.jpg
END:VEVENT
BEGIN:VEVENT
DTSTART;TZID=America/Chicago:20281120T193000
DTEND;TZID=America/Chicago:20281120T203000
DTSTAMP:20260422T172321
CREATED:20240408T005110Z
LAST-MODIFIED:20250825T194210Z
UID:10001026-1858361400-1858365000@neta65.org
SUMMARY:NETA65 PI Committee Monthly Meeting
DESCRIPTION:Join the PI Committee Meeting the 3rd Monday each month to share and get the lates information for area AA public information methods\, events\, and opportunities. \nMeeting ID: 889 7249 5179 \nPasscode: 089098
URL:https://neta65.org/event/pi-committee-meeting-29/2028-11-20/
CATEGORIES:Committee Meeting,PI
ATTACH;FMTTYPE=image/jpeg:https://neta65.org/wp-content/uploads/2024/04/PI-Carry-the-Message.jpg
END:VEVENT
BEGIN:VEVENT
DTSTART;TZID=America/Chicago:20281218T193000
DTEND;TZID=America/Chicago:20281218T203000
DTSTAMP:20260422T172321
CREATED:20240408T005110Z
LAST-MODIFIED:20250825T194210Z
UID:10001027-1860780600-1860784200@neta65.org
SUMMARY:NETA65 PI Committee Monthly Meeting
DESCRIPTION:Join the PI Committee Meeting the 3rd Monday each month to share and get the lates information for area AA public information methods\, events\, and opportunities. \nMeeting ID: 889 7249 5179 \nPasscode: 089098
URL:https://neta65.org/event/pi-committee-meeting-29/2028-12-18/
CATEGORIES:Committee Meeting,PI
ATTACH;FMTTYPE=image/jpeg:https://neta65.org/wp-content/uploads/2024/04/PI-Carry-the-Message.jpg
END:VEVENT
BEGIN:VEVENT
DTSTART;TZID=America/Chicago:20290115T193000
DTEND;TZID=America/Chicago:20290115T203000
DTSTAMP:20260422T172321
CREATED:20240408T005110Z
LAST-MODIFIED:20250825T194210Z
UID:10001028-1863199800-1863203400@neta65.org
SUMMARY:NETA65 PI Committee Monthly Meeting
DESCRIPTION:Join the PI Committee Meeting the 3rd Monday each month to share and get the lates information for area AA public information methods\, events\, and opportunities. \nMeeting ID: 889 7249 5179 \nPasscode: 089098
URL:https://neta65.org/event/pi-committee-meeting-29/2029-01-15/
CATEGORIES:Committee Meeting,PI
ATTACH;FMTTYPE=image/jpeg:https://neta65.org/wp-content/uploads/2024/04/PI-Carry-the-Message.jpg
END:VEVENT
BEGIN:VEVENT
DTSTART;TZID=America/Chicago:20290219T193000
DTEND;TZID=America/Chicago:20290219T203000
DTSTAMP:20260422T172321
CREATED:20240408T005110Z
LAST-MODIFIED:20250825T194210Z
UID:10001029-1866223800-1866227400@neta65.org
SUMMARY:NETA65 PI Committee Monthly Meeting
DESCRIPTION:Join the PI Committee Meeting the 3rd Monday each month to share and get the lates information for area AA public information methods\, events\, and opportunities. \nMeeting ID: 889 7249 5179 \nPasscode: 089098
URL:https://neta65.org/event/pi-committee-meeting-29/2029-02-19/
CATEGORIES:Committee Meeting,PI
ATTACH;FMTTYPE=image/jpeg:https://neta65.org/wp-content/uploads/2024/04/PI-Carry-the-Message.jpg
END:VEVENT
BEGIN:VEVENT
DTSTART;TZID=America/Chicago:20290319T193000
DTEND;TZID=America/Chicago:20290319T203000
DTSTAMP:20260422T172321
CREATED:20240408T005110Z
LAST-MODIFIED:20250825T194210Z
UID:10001030-1868643000-1868646600@neta65.org
SUMMARY:NETA65 PI Committee Monthly Meeting
DESCRIPTION:Join the PI Committee Meeting the 3rd Monday each month to share and get the lates information for area AA public information methods\, events\, and opportunities. \nMeeting ID: 889 7249 5179 \nPasscode: 089098
URL:https://neta65.org/event/pi-committee-meeting-29/2029-03-19/
CATEGORIES:Committee Meeting,PI
ATTACH;FMTTYPE=image/jpeg:https://neta65.org/wp-content/uploads/2024/04/PI-Carry-the-Message.jpg
END:VEVENT
BEGIN:VEVENT
DTSTART;TZID=America/Chicago:20290416T193000
DTEND;TZID=America/Chicago:20290416T203000
DTSTAMP:20260422T172321
CREATED:20240408T005110Z
LAST-MODIFIED:20250825T194210Z
UID:10001031-1871062200-1871065800@neta65.org
SUMMARY:NETA65 PI Committee Monthly Meeting
DESCRIPTION:Join the PI Committee Meeting the 3rd Monday each month to share and get the lates information for area AA public information methods\, events\, and opportunities. \nMeeting ID: 889 7249 5179 \nPasscode: 089098
URL:https://neta65.org/event/pi-committee-meeting-29/2029-04-16/
CATEGORIES:Committee Meeting,PI
ATTACH;FMTTYPE=image/jpeg:https://neta65.org/wp-content/uploads/2024/04/PI-Carry-the-Message.jpg
END:VEVENT
BEGIN:VEVENT
DTSTART;TZID=America/Chicago:20290521T193000
DTEND;TZID=America/Chicago:20290521T203000
DTSTAMP:20260422T172321
CREATED:20240408T005110Z
LAST-MODIFIED:20250825T194210Z
UID:10001032-1874086200-1874089800@neta65.org
SUMMARY:NETA65 PI Committee Monthly Meeting
DESCRIPTION:Join the PI Committee Meeting the 3rd Monday each month to share and get the lates information for area AA public information methods\, events\, and opportunities. \nMeeting ID: 889 7249 5179 \nPasscode: 089098
URL:https://neta65.org/event/pi-committee-meeting-29/2029-05-21/
CATEGORIES:Committee Meeting,PI
ATTACH;FMTTYPE=image/jpeg:https://neta65.org/wp-content/uploads/2024/04/PI-Carry-the-Message.jpg
END:VEVENT
BEGIN:VEVENT
DTSTART;TZID=America/Chicago:20290618T193000
DTEND;TZID=America/Chicago:20290618T203000
DTSTAMP:20260422T172321
CREATED:20240408T005110Z
LAST-MODIFIED:20250825T194210Z
UID:10001033-1876505400-1876509000@neta65.org
SUMMARY:NETA65 PI Committee Monthly Meeting
DESCRIPTION:Join the PI Committee Meeting the 3rd Monday each month to share and get the lates information for area AA public information methods\, events\, and opportunities. \nMeeting ID: 889 7249 5179 \nPasscode: 089098
URL:https://neta65.org/event/pi-committee-meeting-29/2029-06-18/
CATEGORIES:Committee Meeting,PI
ATTACH;FMTTYPE=image/jpeg:https://neta65.org/wp-content/uploads/2024/04/PI-Carry-the-Message.jpg
END:VEVENT
BEGIN:VEVENT
DTSTART;TZID=America/Chicago:20290716T193000
DTEND;TZID=America/Chicago:20290716T203000
DTSTAMP:20260422T172321
CREATED:20240408T005110Z
LAST-MODIFIED:20250825T194210Z
UID:10001034-1878924600-1878928200@neta65.org
SUMMARY:NETA65 PI Committee Monthly Meeting
DESCRIPTION:Join the PI Committee Meeting the 3rd Monday each month to share and get the lates information for area AA public information methods\, events\, and opportunities. \nMeeting ID: 889 7249 5179 \nPasscode: 089098
URL:https://neta65.org/event/pi-committee-meeting-29/2029-07-16/
CATEGORIES:Committee Meeting,PI
ATTACH;FMTTYPE=image/jpeg:https://neta65.org/wp-content/uploads/2024/04/PI-Carry-the-Message.jpg
END:VEVENT
BEGIN:VEVENT
DTSTART;TZID=America/Chicago:20290820T193000
DTEND;TZID=America/Chicago:20290820T203000
DTSTAMP:20260422T172321
CREATED:20240408T005110Z
LAST-MODIFIED:20250825T194210Z
UID:10001035-1881948600-1881952200@neta65.org
SUMMARY:NETA65 PI Committee Monthly Meeting
DESCRIPTION:Join the PI Committee Meeting the 3rd Monday each month to share and get the lates information for area AA public information methods\, events\, and opportunities. \nMeeting ID: 889 7249 5179 \nPasscode: 089098
URL:https://neta65.org/event/pi-committee-meeting-29/2029-08-20/
CATEGORIES:Committee Meeting,PI
ATTACH;FMTTYPE=image/jpeg:https://neta65.org/wp-content/uploads/2024/04/PI-Carry-the-Message.jpg
END:VEVENT
END:VCALENDAR