BEGIN:VCALENDAR
VERSION:2.0
PRODID:-// - ECPv6.15.20//NONSGML v1.0//EN
CALSCALE:GREGORIAN
METHOD:PUBLISH
X-ORIGINAL-URL:https://neta65.org
X-WR-CALDESC:Events for 
REFRESH-INTERVAL;VALUE=DURATION:PT1H
X-Robots-Tag:noindex
X-PUBLISHED-TTL:PT1H
BEGIN:VTIMEZONE
TZID:America/Chicago
BEGIN:DAYLIGHT
TZOFFSETFROM:-0600
TZOFFSETTO:-0500
TZNAME:CDT
DTSTART:20230312T080000
END:DAYLIGHT
BEGIN:STANDARD
TZOFFSETFROM:-0500
TZOFFSETTO:-0600
TZNAME:CST
DTSTART:20231105T070000
END:STANDARD
BEGIN:DAYLIGHT
TZOFFSETFROM:-0600
TZOFFSETTO:-0500
TZNAME:CDT
DTSTART:20240310T080000
END:DAYLIGHT
BEGIN:STANDARD
TZOFFSETFROM:-0500
TZOFFSETTO:-0600
TZNAME:CST
DTSTART:20241103T070000
END:STANDARD
BEGIN:DAYLIGHT
TZOFFSETFROM:-0600
TZOFFSETTO:-0500
TZNAME:CDT
DTSTART:20250309T080000
END:DAYLIGHT
BEGIN:STANDARD
TZOFFSETFROM:-0500
TZOFFSETTO:-0600
TZNAME:CST
DTSTART:20251102T070000
END:STANDARD
BEGIN:DAYLIGHT
TZOFFSETFROM:-0600
TZOFFSETTO:-0500
TZNAME:CDT
DTSTART:20260308T080000
END:DAYLIGHT
BEGIN:STANDARD
TZOFFSETFROM:-0500
TZOFFSETTO:-0600
TZNAME:CST
DTSTART:20261101T070000
END:STANDARD
BEGIN:DAYLIGHT
TZOFFSETFROM:-0600
TZOFFSETTO:-0500
TZNAME:CDT
DTSTART:20270314T080000
END:DAYLIGHT
BEGIN:STANDARD
TZOFFSETFROM:-0500
TZOFFSETTO:-0600
TZNAME:CST
DTSTART:20271107T070000
END:STANDARD
END:VTIMEZONE
BEGIN:VEVENT
DTSTART;TZID=America/Chicago:20260127T180000
DTEND;TZID=America/Chicago:20260127T183000
DTSTAMP:20260422T171923
CREATED:20250221T224856Z
LAST-MODIFIED:20250825T193521Z
UID:10001073-1769536800-1769538600@neta65.org
SUMMARY:Technology Sharing Session
DESCRIPTION:2025 is our 2nd year hosting Tech Sharing Sessions which sprung from A.A. members who attended the NAATW. Shout out to Jacob E! \nOur primary purpose is to share and communicate information on how technology is enhancing our ability to carry the A.A. message of hope in our Area’s\, Districts\, and Groups.
URL:https://neta65.org/event/technology-sharing-session/2026-01-27/
CATEGORIES:Technology
ATTACH;FMTTYPE=image/png:https://neta65.org/wp-content/uploads/2025/02/25-TSSFlyer21-3-1.png
LOCATION:https://us02web.zoom.us/j/9147699066?pwd=lnzJNQrY6hGJMYKbS0cZrUobFBrLWs.1&omn=81517809591
END:VEVENT
BEGIN:VEVENT
DTSTART;TZID=America/Chicago:20251223T180000
DTEND;TZID=America/Chicago:20251223T183000
DTSTAMP:20260422T171923
CREATED:20250221T224856Z
LAST-MODIFIED:20250825T193521Z
UID:10001072-1766512800-1766514600@neta65.org
SUMMARY:Technology Sharing Session
DESCRIPTION:2025 is our 2nd year hosting Tech Sharing Sessions which sprung from A.A. members who attended the NAATW. Shout out to Jacob E! \nOur primary purpose is to share and communicate information on how technology is enhancing our ability to carry the A.A. message of hope in our Area’s\, Districts\, and Groups.
URL:https://neta65.org/event/technology-sharing-session/2025-12-23/
CATEGORIES:Technology
ATTACH;FMTTYPE=image/png:https://neta65.org/wp-content/uploads/2025/02/25-TSSFlyer21-3-1.png
LOCATION:https://us02web.zoom.us/j/9147699066?pwd=lnzJNQrY6hGJMYKbS0cZrUobFBrLWs.1&omn=81517809591
END:VEVENT
BEGIN:VEVENT
DTSTART;TZID=America/Chicago:20251125T180000
DTEND;TZID=America/Chicago:20251125T183000
DTSTAMP:20260422T171923
CREATED:20250221T224856Z
LAST-MODIFIED:20250825T193521Z
UID:10001071-1764093600-1764095400@neta65.org
SUMMARY:Technology Sharing Session
DESCRIPTION:2025 is our 2nd year hosting Tech Sharing Sessions which sprung from A.A. members who attended the NAATW. Shout out to Jacob E! \nOur primary purpose is to share and communicate information on how technology is enhancing our ability to carry the A.A. message of hope in our Area’s\, Districts\, and Groups.
URL:https://neta65.org/event/technology-sharing-session/2025-11-25/
CATEGORIES:Technology
ATTACH;FMTTYPE=image/png:https://neta65.org/wp-content/uploads/2025/02/25-TSSFlyer21-3-1.png
LOCATION:https://us02web.zoom.us/j/9147699066?pwd=lnzJNQrY6hGJMYKbS0cZrUobFBrLWs.1&omn=81517809591
END:VEVENT
BEGIN:VEVENT
DTSTART;TZID=America/Chicago:20251028T180000
DTEND;TZID=America/Chicago:20251028T183000
DTSTAMP:20260422T171923
CREATED:20250221T224856Z
LAST-MODIFIED:20250825T193521Z
UID:10001070-1761674400-1761676200@neta65.org
SUMMARY:Technology Sharing Session
DESCRIPTION:2025 is our 2nd year hosting Tech Sharing Sessions which sprung from A.A. members who attended the NAATW. Shout out to Jacob E! \nOur primary purpose is to share and communicate information on how technology is enhancing our ability to carry the A.A. message of hope in our Area’s\, Districts\, and Groups.
URL:https://neta65.org/event/technology-sharing-session/2025-10-28/
CATEGORIES:Technology
ATTACH;FMTTYPE=image/png:https://neta65.org/wp-content/uploads/2025/02/25-TSSFlyer21-3-1.png
LOCATION:https://us02web.zoom.us/j/9147699066?pwd=lnzJNQrY6hGJMYKbS0cZrUobFBrLWs.1&omn=81517809591
END:VEVENT
BEGIN:VEVENT
DTSTART;TZID=America/Chicago:20250923T180000
DTEND;TZID=America/Chicago:20250923T183000
DTSTAMP:20260422T171923
CREATED:20250221T224856Z
LAST-MODIFIED:20250825T193521Z
UID:10001069-1758650400-1758652200@neta65.org
SUMMARY:Technology Sharing Session
DESCRIPTION:2025 is our 2nd year hosting Tech Sharing Sessions which sprung from A.A. members who attended the NAATW. Shout out to Jacob E! \nOur primary purpose is to share and communicate information on how technology is enhancing our ability to carry the A.A. message of hope in our Area’s\, Districts\, and Groups.
URL:https://neta65.org/event/technology-sharing-session/2025-09-23/
CATEGORIES:Technology
ATTACH;FMTTYPE=image/png:https://neta65.org/wp-content/uploads/2025/02/25-TSSFlyer21-3-1.png
LOCATION:https://us02web.zoom.us/j/9147699066?pwd=lnzJNQrY6hGJMYKbS0cZrUobFBrLWs.1&omn=81517809591
END:VEVENT
BEGIN:VEVENT
DTSTART;TZID=America/Chicago:20250826T180000
DTEND;TZID=America/Chicago:20250826T183000
DTSTAMP:20260422T171923
CREATED:20250221T224856Z
LAST-MODIFIED:20250825T193521Z
UID:10001068-1756231200-1756233000@neta65.org
SUMMARY:Technology Sharing Session
DESCRIPTION:2025 is our 2nd year hosting Tech Sharing Sessions which sprung from A.A. members who attended the NAATW. Shout out to Jacob E! \nOur primary purpose is to share and communicate information on how technology is enhancing our ability to carry the A.A. message of hope in our Area’s\, Districts\, and Groups.
URL:https://neta65.org/event/technology-sharing-session/2025-08-26/
CATEGORIES:Technology
ATTACH;FMTTYPE=image/png:https://neta65.org/wp-content/uploads/2025/02/25-TSSFlyer21-3-1.png
LOCATION:https://us02web.zoom.us/j/9147699066?pwd=lnzJNQrY6hGJMYKbS0cZrUobFBrLWs.1&omn=81517809591
END:VEVENT
BEGIN:VEVENT
DTSTART;TZID=America/Chicago:20250722T180000
DTEND;TZID=America/Chicago:20250722T183000
DTSTAMP:20260422T171923
CREATED:20250221T224856Z
LAST-MODIFIED:20250825T193521Z
UID:10001067-1753207200-1753209000@neta65.org
SUMMARY:Technology Sharing Session
DESCRIPTION:2025 is our 2nd year hosting Tech Sharing Sessions which sprung from A.A. members who attended the NAATW. Shout out to Jacob E! \nOur primary purpose is to share and communicate information on how technology is enhancing our ability to carry the A.A. message of hope in our Area’s\, Districts\, and Groups.
URL:https://neta65.org/event/technology-sharing-session/2025-07-22/
CATEGORIES:Technology
ATTACH;FMTTYPE=image/png:https://neta65.org/wp-content/uploads/2025/02/25-TSSFlyer21-3-1.png
LOCATION:https://us02web.zoom.us/j/9147699066?pwd=lnzJNQrY6hGJMYKbS0cZrUobFBrLWs.1&omn=81517809591
END:VEVENT
BEGIN:VEVENT
DTSTART;TZID=America/Chicago:20250624T180000
DTEND;TZID=America/Chicago:20250624T183000
DTSTAMP:20260422T171923
CREATED:20250221T224856Z
LAST-MODIFIED:20250825T193521Z
UID:10001066-1750788000-1750789800@neta65.org
SUMMARY:Technology Sharing Session
DESCRIPTION:2025 is our 2nd year hosting Tech Sharing Sessions which sprung from A.A. members who attended the NAATW. Shout out to Jacob E! \nOur primary purpose is to share and communicate information on how technology is enhancing our ability to carry the A.A. message of hope in our Area’s\, Districts\, and Groups.
URL:https://neta65.org/event/technology-sharing-session/2025-06-24/
CATEGORIES:Technology
ATTACH;FMTTYPE=image/png:https://neta65.org/wp-content/uploads/2025/02/25-TSSFlyer21-3-1.png
LOCATION:https://us02web.zoom.us/j/9147699066?pwd=lnzJNQrY6hGJMYKbS0cZrUobFBrLWs.1&omn=81517809591
END:VEVENT
BEGIN:VEVENT
DTSTART;TZID=America/Chicago:20250527T180000
DTEND;TZID=America/Chicago:20250527T183000
DTSTAMP:20260422T171923
CREATED:20250221T224856Z
LAST-MODIFIED:20250825T193521Z
UID:10001065-1748368800-1748370600@neta65.org
SUMMARY:Technology Sharing Session
DESCRIPTION:2025 is our 2nd year hosting Tech Sharing Sessions which sprung from A.A. members who attended the NAATW. Shout out to Jacob E! \nOur primary purpose is to share and communicate information on how technology is enhancing our ability to carry the A.A. message of hope in our Area’s\, Districts\, and Groups.
URL:https://neta65.org/event/technology-sharing-session/2025-05-27/
CATEGORIES:Technology
ATTACH;FMTTYPE=image/png:https://neta65.org/wp-content/uploads/2025/02/25-TSSFlyer21-3-1.png
LOCATION:https://us02web.zoom.us/j/9147699066?pwd=lnzJNQrY6hGJMYKbS0cZrUobFBrLWs.1&omn=81517809591
END:VEVENT
BEGIN:VEVENT
DTSTART;TZID=America/Chicago:20250422T180000
DTEND;TZID=America/Chicago:20250422T183000
DTSTAMP:20260422T171923
CREATED:20250221T224856Z
LAST-MODIFIED:20250825T193521Z
UID:10001064-1745344800-1745346600@neta65.org
SUMMARY:Technology Sharing Session
DESCRIPTION:2025 is our 2nd year hosting Tech Sharing Sessions which sprung from A.A. members who attended the NAATW. Shout out to Jacob E! \nOur primary purpose is to share and communicate information on how technology is enhancing our ability to carry the A.A. message of hope in our Area’s\, Districts\, and Groups.
URL:https://neta65.org/event/technology-sharing-session/2025-04-22/
CATEGORIES:Technology
ATTACH;FMTTYPE=image/png:https://neta65.org/wp-content/uploads/2025/02/25-TSSFlyer21-3-1.png
LOCATION:https://us02web.zoom.us/j/9147699066?pwd=lnzJNQrY6hGJMYKbS0cZrUobFBrLWs.1&omn=81517809591
END:VEVENT
BEGIN:VEVENT
DTSTART;TZID=America/Chicago:20250225T180000
DTEND;TZID=America/Chicago:20250225T183000
DTSTAMP:20260422T171923
CREATED:20250221T225018Z
LAST-MODIFIED:20250223T234236Z
UID:10001062-1740506400-1740508200@neta65.org
SUMMARY:Technology Sharing Session
DESCRIPTION:2025 is our 2nd year hosting Tech Sharing Sessions which sprung from A.A. members who attended the NAATW. Shout out to Jacob E! \nOur primary purpose is to share and communicate information on how technology is enhancing our ability to carry the A.A. message of hope in our Area’s\, Districts\, and Groups.\nThis month (February) we will hear from two A.A. Areas who have had success implementing technology services with AA’s Bridging the Gap Program.\nOur presenters for Tuesday\, February 25\, 2025 will be: \n\nApril B.\, from Area 34 of Western\, MI.\nCheri J.\, from Area 39 of Western\, MO.\nAfter we invite questions and sharing from others\n\nWe also invite you to join our AA Technology Sharing Session Slack Channel \nhttps://join.slack.com/t/nationaltechsharing/shared_invite/zt-2xobi1xma-OvVWqY7PYtdAMPz32OxgYQ
URL:https://neta65.org/event/technology-sharing-session-2/
CATEGORIES:Technology
ATTACH;FMTTYPE=image/png:https://neta65.org/wp-content/uploads/2025/02/25-TSSFlyer21-3-1.png
LOCATION:https://us02web.zoom.us/j/9147699066?pwd=lnzJNQrY6hGJMYKbS0cZrUobFBrLWs.1&omn=81517809591
END:VEVENT
BEGIN:VEVENT
DTSTART;TZID=America/Chicago:20241209T190000
DTEND;TZID=America/Chicago:20241209T200000
DTSTAMP:20260422T171923
CREATED:20240125T042138Z
LAST-MODIFIED:20240125T042138Z
UID:10000150-1733770800-1733774400@neta65.org
SUMMARY:NETA65 Technology Committee Monthly Meeting
DESCRIPTION:Technology Committee Monthly Meeting \nSecond Mon each month\, until Dec 9\, 2024 \nPlease download and import the following iCalendar (.ics) files to your calendar system.\nMonthly: https://us02web.zoom.us/meeting/tZUtdeCvqj8tGNKLyNz25PitNw-2-ELVMZ5y/ics?icsToken=98tyKuGprjkjHdCRtxuBRpwcAojoXe3wiClajY12sAbLGXIGUgriGPUPYP9aPO79 \nJoin Now Zoom \nMeeting ID: 810 2974 4726\nPasscode: 661771
URL:https://neta65.org/event/neta65-technology-committee-monthly-meeting-6/
LOCATION:Virtual Meeting via Zoom
CATEGORIES:Technology
END:VEVENT
BEGIN:VEVENT
DTSTART;TZID=America/Chicago:20241111T190000
DTEND;TZID=America/Chicago:20241111T200000
DTSTAMP:20260422T171923
CREATED:20240125T042047Z
LAST-MODIFIED:20241010T201021Z
UID:10000149-1731351600-1731355200@neta65.org
SUMMARY:NETA65 Technology Committee Monthly Meeting
DESCRIPTION:Technology Committee Monthly Meeting \nSecond Mon each month\, until Dec 9\, 2024 \nPlease download and import the following iCalendar (.ics) files to your calendar system.\nMonthly: https://us02web.zoom.us/meeting/tZUtdeCvqj8tGNKLyNz25PitNw-2-ELVMZ5y/ics?icsToken=98tyKuGprjkjHdCRtxuBRpwcAojoXe3wiClajY12sAbLGXIGUgriGPUPYP9aPO79 \nJoin Now Zoom \nMeeting ID: 810 2974 4726\nPasscode: 661771
URL:https://neta65.org/event/neta65-technology-committee-monthly-meeting-5/
LOCATION:Virtual Meeting via Zoom
CATEGORIES:Technology
END:VEVENT
BEGIN:VEVENT
DTSTART;TZID=America/Chicago:20241014T190000
DTEND;TZID=America/Chicago:20241014T200000
DTSTAMP:20260422T171923
CREATED:20240125T041905Z
LAST-MODIFIED:20240125T042010Z
UID:10000147-1728932400-1728936000@neta65.org
SUMMARY:NETA65 Technology Committee Monthly Meeting
DESCRIPTION:Technology Committee Monthly Meeting \nSecond Mon each month\, until Dec 9\, 2024 \nPlease download and import the following iCalendar (.ics) files to your calendar system.\nMonthly: https://us02web.zoom.us/meeting/tZUtdeCvqj8tGNKLyNz25PitNw-2-ELVMZ5y/ics?icsToken=98tyKuGprjkjHdCRtxuBRpwcAojoXe3wiClajY12sAbLGXIGUgriGPUPYP9aPO79 \nJoin Now Zoom \nMeeting ID: 810 2974 4726\nPasscode: 661771
URL:https://neta65.org/event/neta65-technology-committee-monthly-meeting-duplicate-duplicate-2/
LOCATION:Virtual Meeting via Zoom
CATEGORIES:Technology
END:VEVENT
BEGIN:VEVENT
DTSTART;TZID=America/Chicago:20240909T190000
DTEND;TZID=America/Chicago:20240909T200000
DTSTAMP:20260422T171923
CREATED:20240125T041944Z
LAST-MODIFIED:20240125T041944Z
UID:10000148-1725908400-1725912000@neta65.org
SUMMARY:NETA65 Technology Committee Monthly Meeting
DESCRIPTION:Technology Committee Monthly Meeting \nSecond Mon each month\, until Dec 9\, 2024 \nPlease download and import the following iCalendar (.ics) files to your calendar system.\nMonthly: https://us02web.zoom.us/meeting/tZUtdeCvqj8tGNKLyNz25PitNw-2-ELVMZ5y/ics?icsToken=98tyKuGprjkjHdCRtxuBRpwcAojoXe3wiClajY12sAbLGXIGUgriGPUPYP9aPO79 \nJoin Now Zoom \nMeeting ID: 810 2974 4726\nPasscode: 661771
URL:https://neta65.org/event/neta65-technology-committee-monthly-meeting-4/
LOCATION:Virtual Meeting via Zoom
CATEGORIES:Technology
END:VEVENT
BEGIN:VEVENT
DTSTART;TZID=America/Chicago:20240812T190000
DTEND;TZID=America/Chicago:20240812T200000
DTSTAMP:20260422T171923
CREATED:20240125T040955Z
LAST-MODIFIED:20240125T040955Z
UID:10000145-1723489200-1723492800@neta65.org
SUMMARY:NETA65 Technology Committee Monthly Meeting
DESCRIPTION:Technology Committee Monthly Meeting \nSecond Mon each month\, until Dec 9\, 2024 \nPlease download and import the following iCalendar (.ics) files to your calendar system.\nMonthly: https://us02web.zoom.us/meeting/tZUtdeCvqj8tGNKLyNz25PitNw-2-ELVMZ5y/ics?icsToken=98tyKuGprjkjHdCRtxuBRpwcAojoXe3wiClajY12sAbLGXIGUgriGPUPYP9aPO79 \nJoin Now Zoom \nMeeting ID: 810 2974 4726\nPasscode: 661771
URL:https://neta65.org/event/neta65-technology-committee-monthly-meeting-3/
LOCATION:Virtual Meeting via Zoom
CATEGORIES:Technology
END:VEVENT
BEGIN:VEVENT
DTSTART;TZID=America/Chicago:20240708T190000
DTEND;TZID=America/Chicago:20240708T200000
DTSTAMP:20260422T171923
CREATED:20240125T040913Z
LAST-MODIFIED:20240125T040913Z
UID:10000144-1720465200-1720468800@neta65.org
SUMMARY:NETA65 Technology Committee Monthly Meeting
DESCRIPTION:Technology Committee Monthly Meeting \nSecond Mon each month\, until Dec 9\, 2024 \nPlease download and import the following iCalendar (.ics) files to your calendar system.\nMonthly: https://us02web.zoom.us/meeting/tZUtdeCvqj8tGNKLyNz25PitNw-2-ELVMZ5y/ics?icsToken=98tyKuGprjkjHdCRtxuBRpwcAojoXe3wiClajY12sAbLGXIGUgriGPUPYP9aPO79 \nJoin Now Zoom \nMeeting ID: 810 2974 4726\nPasscode: 661771
URL:https://neta65.org/event/neta65-technology-committee-monthly-meeting-2/
LOCATION:Virtual Meeting via Zoom
CATEGORIES:Technology
END:VEVENT
BEGIN:VEVENT
DTSTART;TZID=America/Chicago:20240610T190000
DTEND;TZID=America/Chicago:20240610T200000
DTSTAMP:20260422T171923
CREATED:20240125T040756Z
LAST-MODIFIED:20240125T041728Z
UID:10000143-1718046000-1718049600@neta65.org
SUMMARY:NETA65 Technology Committee Monthly Meeting
DESCRIPTION:Technology Committee Monthly Meeting \nSecond Mon each month\, until Dec 9\, 2024 \nPlease download and import the following iCalendar (.ics) files to your calendar system.\nMonthly: https://us02web.zoom.us/meeting/tZUtdeCvqj8tGNKLyNz25PitNw-2-ELVMZ5y/ics?icsToken=98tyKuGprjkjHdCRtxuBRpwcAojoXe3wiClajY12sAbLGXIGUgriGPUPYP9aPO79 \nJoin Now Zoom \nMeeting ID: 810 2974 4726\nPasscode: 661771
URL:https://neta65.org/event/neta65-technology-committee-monthly-meeting-duplicate-duplicate-duplicate-duplicate/
LOCATION:Virtual Meeting via Zoom
CATEGORIES:Technology
END:VEVENT
BEGIN:VEVENT
DTSTART;TZID=America/Chicago:20240513T190000
DTEND;TZID=America/Chicago:20240513T200000
DTSTAMP:20260422T171923
CREATED:20240125T040626Z
LAST-MODIFIED:20240125T041711Z
UID:10000142-1715626800-1715630400@neta65.org
SUMMARY:NETA65 Technology Committee Monthly Meeting
DESCRIPTION:Technology Committee Monthly Meeting \nSecond Mon each month\, until Dec 9\, 2024 \nPlease download and import the following iCalendar (.ics) files to your calendar system.\nMonthly: https://us02web.zoom.us/meeting/tZUtdeCvqj8tGNKLyNz25PitNw-2-ELVMZ5y/ics?icsToken=98tyKuGprjkjHdCRtxuBRpwcAojoXe3wiClajY12sAbLGXIGUgriGPUPYP9aPO79 \nJoin Now Zoom \nMeeting ID: 810 2974 4726\nPasscode: 661771
URL:https://neta65.org/event/neta65-technology-committee-monthly-meeting-duplicate-duplicate-duplicate/
LOCATION:Virtual Meeting via Zoom
CATEGORIES:Technology
END:VEVENT
BEGIN:VEVENT
DTSTART;TZID=America/Chicago:20240421T200000
DTEND;TZID=America/Chicago:20240421T213000
DTSTAMP:20260422T171923
CREATED:20240408T015322Z
LAST-MODIFIED:20240408T155835Z
UID:10000168-1713729600-1713735000@neta65.org
SUMMARY:Taller de Tecnología / Area 65
DESCRIPTION:Zoom ID: 949 476 7497 \nContrasena: neta65
URL:https://neta65.org/event/taller-de-tecnologia-area-65/
LOCATION:Grupo 28\, 235 W Sixth St\, Irving\, TX\, United States
CATEGORIES:Committee Meeting,Technology
ATTACH;FMTTYPE=image/png:https://neta65.org/wp-content/uploads/2024/04/Taller-de-tecnologia.png
END:VEVENT
BEGIN:VEVENT
DTSTART;TZID=America/Chicago:20240408T190000
DTEND;TZID=America/Chicago:20240408T200000
DTSTAMP:20260422T171923
CREATED:20240125T040546Z
LAST-MODIFIED:20240125T041657Z
UID:10000141-1712602800-1712606400@neta65.org
SUMMARY:NETA65 Technology Committee Monthly Meeting
DESCRIPTION:Technology Committee Monthly Meeting \nSecond Mon each month\, until Dec 9\, 2024 \nPlease download and import the following iCalendar (.ics) files to your calendar system.\nMonthly: https://us02web.zoom.us/meeting/tZUtdeCvqj8tGNKLyNz25PitNw-2-ELVMZ5y/ics?icsToken=98tyKuGprjkjHdCRtxuBRpwcAojoXe3wiClajY12sAbLGXIGUgriGPUPYP9aPO79 \nJoin Now Zoom \nMeeting ID: 810 2974 4726\nPasscode: 661771
URL:https://neta65.org/event/neta65-technology-committee-monthly-meeting-duplicate-duplicate/
LOCATION:Virtual Meeting via Zoom
CATEGORIES:Technology
END:VEVENT
BEGIN:VEVENT
DTSTART;TZID=America/Chicago:20240311T190000
DTEND;TZID=America/Chicago:20240311T200000
DTSTAMP:20260422T171923
CREATED:20240125T040330Z
LAST-MODIFIED:20240125T041641Z
UID:10000140-1710183600-1710187200@neta65.org
SUMMARY:NETA65 Technology Committee Monthly Meeting
DESCRIPTION:Technology Committee Monthly Meeting \nSecond Mon each month\, until Dec 9\, 2024 \nPlease download and import the following iCalendar (.ics) files to your calendar system.\nMonthly: https://us02web.zoom.us/meeting/tZUtdeCvqj8tGNKLyNz25PitNw-2-ELVMZ5y/ics?icsToken=98tyKuGprjkjHdCRtxuBRpwcAojoXe3wiClajY12sAbLGXIGUgriGPUPYP9aPO79 \nJoin Now Zoom \nMeeting ID: 810 2974 4726\nPasscode: 661771
URL:https://neta65.org/event/neta65-technology-committee-monthly-meeting-duplicate/
LOCATION:Virtual Meeting via Zoom
CATEGORIES:Technology
END:VEVENT
BEGIN:VEVENT
DTSTART;TZID=America/Chicago:20240212T190000
DTEND;TZID=America/Chicago:20240212T200000
DTSTAMP:20260422T171923
CREATED:20240125T040023Z
LAST-MODIFIED:20240125T040023Z
UID:10000139-1707764400-1707768000@neta65.org
SUMMARY:NETA65 Technology Committee Monthly Meeting
DESCRIPTION:Technology Committee Monthly Meeting \nSecond Mon each month\, until Dec 9\, 2024 \nPlease download and import the following iCalendar (.ics) files to your calendar system.\nMonthly: https://us02web.zoom.us/meeting/tZUtdeCvqj8tGNKLyNz25PitNw-2-ELVMZ5y/ics?icsToken=98tyKuGprjkjHdCRtxuBRpwcAojoXe3wiClajY12sAbLGXIGUgriGPUPYP9aPO79 \nJoin Now Zoom \nMeeting ID: 810 2974 4726\nPasscode: 661771
URL:https://neta65.org/event/neta65-technology-committee-monthly-meeting/
LOCATION:Virtual Meeting via Zoom
CATEGORIES:Technology
END:VEVENT
END:VCALENDAR