BEGIN:VCALENDAR
VERSION:2.0
PRODID:-// - ECPv6.15.20//NONSGML v1.0//EN
CALSCALE:GREGORIAN
METHOD:PUBLISH
X-ORIGINAL-URL:https://neta65.org
X-WR-CALDESC:Events for 
REFRESH-INTERVAL;VALUE=DURATION:PT1H
X-Robots-Tag:noindex
X-PUBLISHED-TTL:PT1H
BEGIN:VTIMEZONE
TZID:America/Chicago
BEGIN:DAYLIGHT
TZOFFSETFROM:-0600
TZOFFSETTO:-0500
TZNAME:CDT
DTSTART:20260308T080000
END:DAYLIGHT
BEGIN:STANDARD
TZOFFSETFROM:-0500
TZOFFSETTO:-0600
TZNAME:CST
DTSTART:20261101T070000
END:STANDARD
BEGIN:DAYLIGHT
TZOFFSETFROM:-0600
TZOFFSETTO:-0500
TZNAME:CDT
DTSTART:20270314T080000
END:DAYLIGHT
BEGIN:STANDARD
TZOFFSETFROM:-0500
TZOFFSETTO:-0600
TZNAME:CST
DTSTART:20271107T070000
END:STANDARD
BEGIN:DAYLIGHT
TZOFFSETFROM:-0600
TZOFFSETTO:-0500
TZNAME:CDT
DTSTART:20280312T080000
END:DAYLIGHT
BEGIN:STANDARD
TZOFFSETFROM:-0500
TZOFFSETTO:-0600
TZNAME:CST
DTSTART:20281105T070000
END:STANDARD
BEGIN:DAYLIGHT
TZOFFSETFROM:-0600
TZOFFSETTO:-0500
TZNAME:CDT
DTSTART:20290311T080000
END:DAYLIGHT
BEGIN:STANDARD
TZOFFSETFROM:-0500
TZOFFSETTO:-0600
TZNAME:CST
DTSTART:20291104T070000
END:STANDARD
BEGIN:DAYLIGHT
TZOFFSETFROM:-0600
TZOFFSETTO:-0500
TZNAME:CDT
DTSTART:20300310T080000
END:DAYLIGHT
BEGIN:STANDARD
TZOFFSETFROM:-0500
TZOFFSETTO:-0600
TZNAME:CST
DTSTART:20301103T070000
END:STANDARD
END:VTIMEZONE
BEGIN:VEVENT
DTSTART;TZID=America/Chicago:20271123T190000
DTEND;TZID=America/Chicago:20271123T200000
DTSTAMP:20260422T172434
CREATED:20241010T145049Z
LAST-MODIFIED:20250825T193635Z
UID:10000593-1826996400-1827000000@neta65.org
SUMMARY:Treatment Committee Meeting
DESCRIPTION:NETA 65 Treatment Committee Meetings\n4th TUESDAY OF EVERY MONTH\n7:00 PM \nJoin Zoom Meeting\nhttps://us02web.zoom.us/j/2123241524?pwd=TWFhaVhOUjd1Rk5uL3hJVXhtOWlKUT09 \nMeeting ID: 212 324 1524\nPasscode: 057892
URL:https://neta65.org/event/treatment-committee-meeting-03-2023-2/2027-11-23/
LOCATION:Virtual Meeting via Zoom
CATEGORIES:Committee Meeting,Treatment Committee Meeting
ATTACH;FMTTYPE=image/png:https://neta65.org/wp-content/uploads/2023/07/2023-07_TREATMENT-COMMITTEE.png
END:VEVENT
BEGIN:VEVENT
DTSTART;TZID=America/Chicago:20271228T190000
DTEND;TZID=America/Chicago:20271228T200000
DTSTAMP:20260422T172434
CREATED:20241010T145049Z
LAST-MODIFIED:20250825T193635Z
UID:10000594-1830020400-1830024000@neta65.org
SUMMARY:Treatment Committee Meeting
DESCRIPTION:NETA 65 Treatment Committee Meetings\n4th TUESDAY OF EVERY MONTH\n7:00 PM \nJoin Zoom Meeting\nhttps://us02web.zoom.us/j/2123241524?pwd=TWFhaVhOUjd1Rk5uL3hJVXhtOWlKUT09 \nMeeting ID: 212 324 1524\nPasscode: 057892
URL:https://neta65.org/event/treatment-committee-meeting-03-2023-2/2027-12-28/
LOCATION:Virtual Meeting via Zoom
CATEGORIES:Committee Meeting,Treatment Committee Meeting
ATTACH;FMTTYPE=image/png:https://neta65.org/wp-content/uploads/2023/07/2023-07_TREATMENT-COMMITTEE.png
END:VEVENT
BEGIN:VEVENT
DTSTART;TZID=America/Chicago:20280125T190000
DTEND;TZID=America/Chicago:20280125T200000
DTSTAMP:20260422T172434
CREATED:20241010T145049Z
LAST-MODIFIED:20250825T193635Z
UID:10000595-1832439600-1832443200@neta65.org
SUMMARY:Treatment Committee Meeting
DESCRIPTION:NETA 65 Treatment Committee Meetings\n4th TUESDAY OF EVERY MONTH\n7:00 PM \nJoin Zoom Meeting\nhttps://us02web.zoom.us/j/2123241524?pwd=TWFhaVhOUjd1Rk5uL3hJVXhtOWlKUT09 \nMeeting ID: 212 324 1524\nPasscode: 057892
URL:https://neta65.org/event/treatment-committee-meeting-03-2023-2/2028-01-25/
LOCATION:Virtual Meeting via Zoom
CATEGORIES:Committee Meeting,Treatment Committee Meeting
ATTACH;FMTTYPE=image/png:https://neta65.org/wp-content/uploads/2023/07/2023-07_TREATMENT-COMMITTEE.png
END:VEVENT
BEGIN:VEVENT
DTSTART;TZID=America/Chicago:20280222T190000
DTEND;TZID=America/Chicago:20280222T200000
DTSTAMP:20260422T172434
CREATED:20241010T145049Z
LAST-MODIFIED:20250825T193635Z
UID:10000596-1834858800-1834862400@neta65.org
SUMMARY:Treatment Committee Meeting
DESCRIPTION:NETA 65 Treatment Committee Meetings\n4th TUESDAY OF EVERY MONTH\n7:00 PM \nJoin Zoom Meeting\nhttps://us02web.zoom.us/j/2123241524?pwd=TWFhaVhOUjd1Rk5uL3hJVXhtOWlKUT09 \nMeeting ID: 212 324 1524\nPasscode: 057892
URL:https://neta65.org/event/treatment-committee-meeting-03-2023-2/2028-02-22/
LOCATION:Virtual Meeting via Zoom
CATEGORIES:Committee Meeting,Treatment Committee Meeting
ATTACH;FMTTYPE=image/png:https://neta65.org/wp-content/uploads/2023/07/2023-07_TREATMENT-COMMITTEE.png
END:VEVENT
BEGIN:VEVENT
DTSTART;TZID=America/Chicago:20280328T190000
DTEND;TZID=America/Chicago:20280328T200000
DTSTAMP:20260422T172434
CREATED:20241010T145049Z
LAST-MODIFIED:20250825T193635Z
UID:10000597-1837882800-1837886400@neta65.org
SUMMARY:Treatment Committee Meeting
DESCRIPTION:NETA 65 Treatment Committee Meetings\n4th TUESDAY OF EVERY MONTH\n7:00 PM \nJoin Zoom Meeting\nhttps://us02web.zoom.us/j/2123241524?pwd=TWFhaVhOUjd1Rk5uL3hJVXhtOWlKUT09 \nMeeting ID: 212 324 1524\nPasscode: 057892
URL:https://neta65.org/event/treatment-committee-meeting-03-2023-2/2028-03-28/
LOCATION:Virtual Meeting via Zoom
CATEGORIES:Committee Meeting,Treatment Committee Meeting
ATTACH;FMTTYPE=image/png:https://neta65.org/wp-content/uploads/2023/07/2023-07_TREATMENT-COMMITTEE.png
END:VEVENT
BEGIN:VEVENT
DTSTART;TZID=America/Chicago:20280425T190000
DTEND;TZID=America/Chicago:20280425T200000
DTSTAMP:20260422T172434
CREATED:20241010T145049Z
LAST-MODIFIED:20250825T193635Z
UID:10000598-1840302000-1840305600@neta65.org
SUMMARY:Treatment Committee Meeting
DESCRIPTION:NETA 65 Treatment Committee Meetings\n4th TUESDAY OF EVERY MONTH\n7:00 PM \nJoin Zoom Meeting\nhttps://us02web.zoom.us/j/2123241524?pwd=TWFhaVhOUjd1Rk5uL3hJVXhtOWlKUT09 \nMeeting ID: 212 324 1524\nPasscode: 057892
URL:https://neta65.org/event/treatment-committee-meeting-03-2023-2/2028-04-25/
LOCATION:Virtual Meeting via Zoom
CATEGORIES:Committee Meeting,Treatment Committee Meeting
ATTACH;FMTTYPE=image/png:https://neta65.org/wp-content/uploads/2023/07/2023-07_TREATMENT-COMMITTEE.png
END:VEVENT
BEGIN:VEVENT
DTSTART;TZID=America/Chicago:20280523T190000
DTEND;TZID=America/Chicago:20280523T200000
DTSTAMP:20260422T172434
CREATED:20241010T145049Z
LAST-MODIFIED:20250825T193635Z
UID:10000599-1842721200-1842724800@neta65.org
SUMMARY:Treatment Committee Meeting
DESCRIPTION:NETA 65 Treatment Committee Meetings\n4th TUESDAY OF EVERY MONTH\n7:00 PM \nJoin Zoom Meeting\nhttps://us02web.zoom.us/j/2123241524?pwd=TWFhaVhOUjd1Rk5uL3hJVXhtOWlKUT09 \nMeeting ID: 212 324 1524\nPasscode: 057892
URL:https://neta65.org/event/treatment-committee-meeting-03-2023-2/2028-05-23/
LOCATION:Virtual Meeting via Zoom
CATEGORIES:Committee Meeting,Treatment Committee Meeting
ATTACH;FMTTYPE=image/png:https://neta65.org/wp-content/uploads/2023/07/2023-07_TREATMENT-COMMITTEE.png
END:VEVENT
BEGIN:VEVENT
DTSTART;TZID=America/Chicago:20280627T190000
DTEND;TZID=America/Chicago:20280627T200000
DTSTAMP:20260422T172434
CREATED:20241010T145049Z
LAST-MODIFIED:20250825T193635Z
UID:10000600-1845745200-1845748800@neta65.org
SUMMARY:Treatment Committee Meeting
DESCRIPTION:NETA 65 Treatment Committee Meetings\n4th TUESDAY OF EVERY MONTH\n7:00 PM \nJoin Zoom Meeting\nhttps://us02web.zoom.us/j/2123241524?pwd=TWFhaVhOUjd1Rk5uL3hJVXhtOWlKUT09 \nMeeting ID: 212 324 1524\nPasscode: 057892
URL:https://neta65.org/event/treatment-committee-meeting-03-2023-2/2028-06-27/
LOCATION:Virtual Meeting via Zoom
CATEGORIES:Committee Meeting,Treatment Committee Meeting
ATTACH;FMTTYPE=image/png:https://neta65.org/wp-content/uploads/2023/07/2023-07_TREATMENT-COMMITTEE.png
END:VEVENT
BEGIN:VEVENT
DTSTART;TZID=America/Chicago:20280725T190000
DTEND;TZID=America/Chicago:20280725T200000
DTSTAMP:20260422T172434
CREATED:20241010T145049Z
LAST-MODIFIED:20250825T193635Z
UID:10000601-1848164400-1848168000@neta65.org
SUMMARY:Treatment Committee Meeting
DESCRIPTION:NETA 65 Treatment Committee Meetings\n4th TUESDAY OF EVERY MONTH\n7:00 PM \nJoin Zoom Meeting\nhttps://us02web.zoom.us/j/2123241524?pwd=TWFhaVhOUjd1Rk5uL3hJVXhtOWlKUT09 \nMeeting ID: 212 324 1524\nPasscode: 057892
URL:https://neta65.org/event/treatment-committee-meeting-03-2023-2/2028-07-25/
LOCATION:Virtual Meeting via Zoom
CATEGORIES:Committee Meeting,Treatment Committee Meeting
ATTACH;FMTTYPE=image/png:https://neta65.org/wp-content/uploads/2023/07/2023-07_TREATMENT-COMMITTEE.png
END:VEVENT
BEGIN:VEVENT
DTSTART;TZID=America/Chicago:20280822T190000
DTEND;TZID=America/Chicago:20280822T200000
DTSTAMP:20260422T172434
CREATED:20241010T145049Z
LAST-MODIFIED:20250825T193635Z
UID:10000602-1850583600-1850587200@neta65.org
SUMMARY:Treatment Committee Meeting
DESCRIPTION:NETA 65 Treatment Committee Meetings\n4th TUESDAY OF EVERY MONTH\n7:00 PM \nJoin Zoom Meeting\nhttps://us02web.zoom.us/j/2123241524?pwd=TWFhaVhOUjd1Rk5uL3hJVXhtOWlKUT09 \nMeeting ID: 212 324 1524\nPasscode: 057892
URL:https://neta65.org/event/treatment-committee-meeting-03-2023-2/2028-08-22/
LOCATION:Virtual Meeting via Zoom
CATEGORIES:Committee Meeting,Treatment Committee Meeting
ATTACH;FMTTYPE=image/png:https://neta65.org/wp-content/uploads/2023/07/2023-07_TREATMENT-COMMITTEE.png
END:VEVENT
BEGIN:VEVENT
DTSTART;TZID=America/Chicago:20280926T190000
DTEND;TZID=America/Chicago:20280926T200000
DTSTAMP:20260422T172434
CREATED:20241010T145049Z
LAST-MODIFIED:20250825T193635Z
UID:10000603-1853607600-1853611200@neta65.org
SUMMARY:Treatment Committee Meeting
DESCRIPTION:NETA 65 Treatment Committee Meetings\n4th TUESDAY OF EVERY MONTH\n7:00 PM \nJoin Zoom Meeting\nhttps://us02web.zoom.us/j/2123241524?pwd=TWFhaVhOUjd1Rk5uL3hJVXhtOWlKUT09 \nMeeting ID: 212 324 1524\nPasscode: 057892
URL:https://neta65.org/event/treatment-committee-meeting-03-2023-2/2028-09-26/
LOCATION:Virtual Meeting via Zoom
CATEGORIES:Committee Meeting,Treatment Committee Meeting
ATTACH;FMTTYPE=image/png:https://neta65.org/wp-content/uploads/2023/07/2023-07_TREATMENT-COMMITTEE.png
END:VEVENT
BEGIN:VEVENT
DTSTART;TZID=America/Chicago:20281024T190000
DTEND;TZID=America/Chicago:20281024T200000
DTSTAMP:20260422T172434
CREATED:20241010T145049Z
LAST-MODIFIED:20250825T193635Z
UID:10000604-1856026800-1856030400@neta65.org
SUMMARY:Treatment Committee Meeting
DESCRIPTION:NETA 65 Treatment Committee Meetings\n4th TUESDAY OF EVERY MONTH\n7:00 PM \nJoin Zoom Meeting\nhttps://us02web.zoom.us/j/2123241524?pwd=TWFhaVhOUjd1Rk5uL3hJVXhtOWlKUT09 \nMeeting ID: 212 324 1524\nPasscode: 057892
URL:https://neta65.org/event/treatment-committee-meeting-03-2023-2/2028-10-24/
LOCATION:Virtual Meeting via Zoom
CATEGORIES:Committee Meeting,Treatment Committee Meeting
ATTACH;FMTTYPE=image/png:https://neta65.org/wp-content/uploads/2023/07/2023-07_TREATMENT-COMMITTEE.png
END:VEVENT
BEGIN:VEVENT
DTSTART;TZID=America/Chicago:20281128T190000
DTEND;TZID=America/Chicago:20281128T200000
DTSTAMP:20260422T172434
CREATED:20241010T145049Z
LAST-MODIFIED:20250825T193635Z
UID:10000605-1859050800-1859054400@neta65.org
SUMMARY:Treatment Committee Meeting
DESCRIPTION:NETA 65 Treatment Committee Meetings\n4th TUESDAY OF EVERY MONTH\n7:00 PM \nJoin Zoom Meeting\nhttps://us02web.zoom.us/j/2123241524?pwd=TWFhaVhOUjd1Rk5uL3hJVXhtOWlKUT09 \nMeeting ID: 212 324 1524\nPasscode: 057892
URL:https://neta65.org/event/treatment-committee-meeting-03-2023-2/2028-11-28/
LOCATION:Virtual Meeting via Zoom
CATEGORIES:Committee Meeting,Treatment Committee Meeting
ATTACH;FMTTYPE=image/png:https://neta65.org/wp-content/uploads/2023/07/2023-07_TREATMENT-COMMITTEE.png
END:VEVENT
BEGIN:VEVENT
DTSTART;TZID=America/Chicago:20281226T190000
DTEND;TZID=America/Chicago:20281226T200000
DTSTAMP:20260422T172434
CREATED:20241010T145049Z
LAST-MODIFIED:20250825T193635Z
UID:10000606-1861470000-1861473600@neta65.org
SUMMARY:Treatment Committee Meeting
DESCRIPTION:NETA 65 Treatment Committee Meetings\n4th TUESDAY OF EVERY MONTH\n7:00 PM \nJoin Zoom Meeting\nhttps://us02web.zoom.us/j/2123241524?pwd=TWFhaVhOUjd1Rk5uL3hJVXhtOWlKUT09 \nMeeting ID: 212 324 1524\nPasscode: 057892
URL:https://neta65.org/event/treatment-committee-meeting-03-2023-2/2028-12-26/
LOCATION:Virtual Meeting via Zoom
CATEGORIES:Committee Meeting,Treatment Committee Meeting
ATTACH;FMTTYPE=image/png:https://neta65.org/wp-content/uploads/2023/07/2023-07_TREATMENT-COMMITTEE.png
END:VEVENT
BEGIN:VEVENT
DTSTART;TZID=America/Chicago:20290123T190000
DTEND;TZID=America/Chicago:20290123T200000
DTSTAMP:20260422T172434
CREATED:20241010T145049Z
LAST-MODIFIED:20250825T193635Z
UID:10000607-1863889200-1863892800@neta65.org
SUMMARY:Treatment Committee Meeting
DESCRIPTION:NETA 65 Treatment Committee Meetings\n4th TUESDAY OF EVERY MONTH\n7:00 PM \nJoin Zoom Meeting\nhttps://us02web.zoom.us/j/2123241524?pwd=TWFhaVhOUjd1Rk5uL3hJVXhtOWlKUT09 \nMeeting ID: 212 324 1524\nPasscode: 057892
URL:https://neta65.org/event/treatment-committee-meeting-03-2023-2/2029-01-23/
LOCATION:Virtual Meeting via Zoom
CATEGORIES:Committee Meeting,Treatment Committee Meeting
ATTACH;FMTTYPE=image/png:https://neta65.org/wp-content/uploads/2023/07/2023-07_TREATMENT-COMMITTEE.png
END:VEVENT
BEGIN:VEVENT
DTSTART;TZID=America/Chicago:20290227T190000
DTEND;TZID=America/Chicago:20290227T200000
DTSTAMP:20260422T172434
CREATED:20241010T145049Z
LAST-MODIFIED:20250825T193635Z
UID:10000608-1866913200-1866916800@neta65.org
SUMMARY:Treatment Committee Meeting
DESCRIPTION:NETA 65 Treatment Committee Meetings\n4th TUESDAY OF EVERY MONTH\n7:00 PM \nJoin Zoom Meeting\nhttps://us02web.zoom.us/j/2123241524?pwd=TWFhaVhOUjd1Rk5uL3hJVXhtOWlKUT09 \nMeeting ID: 212 324 1524\nPasscode: 057892
URL:https://neta65.org/event/treatment-committee-meeting-03-2023-2/2029-02-27/
LOCATION:Virtual Meeting via Zoom
CATEGORIES:Committee Meeting,Treatment Committee Meeting
ATTACH;FMTTYPE=image/png:https://neta65.org/wp-content/uploads/2023/07/2023-07_TREATMENT-COMMITTEE.png
END:VEVENT
BEGIN:VEVENT
DTSTART;TZID=America/Chicago:20290327T190000
DTEND;TZID=America/Chicago:20290327T200000
DTSTAMP:20260422T172434
CREATED:20241010T145049Z
LAST-MODIFIED:20250825T193635Z
UID:10000609-1869332400-1869336000@neta65.org
SUMMARY:Treatment Committee Meeting
DESCRIPTION:NETA 65 Treatment Committee Meetings\n4th TUESDAY OF EVERY MONTH\n7:00 PM \nJoin Zoom Meeting\nhttps://us02web.zoom.us/j/2123241524?pwd=TWFhaVhOUjd1Rk5uL3hJVXhtOWlKUT09 \nMeeting ID: 212 324 1524\nPasscode: 057892
URL:https://neta65.org/event/treatment-committee-meeting-03-2023-2/2029-03-27/
LOCATION:Virtual Meeting via Zoom
CATEGORIES:Committee Meeting,Treatment Committee Meeting
ATTACH;FMTTYPE=image/png:https://neta65.org/wp-content/uploads/2023/07/2023-07_TREATMENT-COMMITTEE.png
END:VEVENT
BEGIN:VEVENT
DTSTART;TZID=America/Chicago:20290424T190000
DTEND;TZID=America/Chicago:20290424T200000
DTSTAMP:20260422T172434
CREATED:20241010T145049Z
LAST-MODIFIED:20250825T193635Z
UID:10000610-1871751600-1871755200@neta65.org
SUMMARY:Treatment Committee Meeting
DESCRIPTION:NETA 65 Treatment Committee Meetings\n4th TUESDAY OF EVERY MONTH\n7:00 PM \nJoin Zoom Meeting\nhttps://us02web.zoom.us/j/2123241524?pwd=TWFhaVhOUjd1Rk5uL3hJVXhtOWlKUT09 \nMeeting ID: 212 324 1524\nPasscode: 057892
URL:https://neta65.org/event/treatment-committee-meeting-03-2023-2/2029-04-24/
LOCATION:Virtual Meeting via Zoom
CATEGORIES:Committee Meeting,Treatment Committee Meeting
ATTACH;FMTTYPE=image/png:https://neta65.org/wp-content/uploads/2023/07/2023-07_TREATMENT-COMMITTEE.png
END:VEVENT
BEGIN:VEVENT
DTSTART;TZID=America/Chicago:20290522T190000
DTEND;TZID=America/Chicago:20290522T200000
DTSTAMP:20260422T172434
CREATED:20241010T145049Z
LAST-MODIFIED:20250825T193635Z
UID:10000611-1874170800-1874174400@neta65.org
SUMMARY:Treatment Committee Meeting
DESCRIPTION:NETA 65 Treatment Committee Meetings\n4th TUESDAY OF EVERY MONTH\n7:00 PM \nJoin Zoom Meeting\nhttps://us02web.zoom.us/j/2123241524?pwd=TWFhaVhOUjd1Rk5uL3hJVXhtOWlKUT09 \nMeeting ID: 212 324 1524\nPasscode: 057892
URL:https://neta65.org/event/treatment-committee-meeting-03-2023-2/2029-05-22/
LOCATION:Virtual Meeting via Zoom
CATEGORIES:Committee Meeting,Treatment Committee Meeting
ATTACH;FMTTYPE=image/png:https://neta65.org/wp-content/uploads/2023/07/2023-07_TREATMENT-COMMITTEE.png
END:VEVENT
BEGIN:VEVENT
DTSTART;TZID=America/Chicago:20290626T190000
DTEND;TZID=America/Chicago:20290626T200000
DTSTAMP:20260422T172434
CREATED:20241010T145049Z
LAST-MODIFIED:20250825T193635Z
UID:10000612-1877194800-1877198400@neta65.org
SUMMARY:Treatment Committee Meeting
DESCRIPTION:NETA 65 Treatment Committee Meetings\n4th TUESDAY OF EVERY MONTH\n7:00 PM \nJoin Zoom Meeting\nhttps://us02web.zoom.us/j/2123241524?pwd=TWFhaVhOUjd1Rk5uL3hJVXhtOWlKUT09 \nMeeting ID: 212 324 1524\nPasscode: 057892
URL:https://neta65.org/event/treatment-committee-meeting-03-2023-2/2029-06-26/
LOCATION:Virtual Meeting via Zoom
CATEGORIES:Committee Meeting,Treatment Committee Meeting
ATTACH;FMTTYPE=image/png:https://neta65.org/wp-content/uploads/2023/07/2023-07_TREATMENT-COMMITTEE.png
END:VEVENT
BEGIN:VEVENT
DTSTART;TZID=America/Chicago:20290724T190000
DTEND;TZID=America/Chicago:20290724T200000
DTSTAMP:20260422T172434
CREATED:20241010T145049Z
LAST-MODIFIED:20250825T193635Z
UID:10000613-1879614000-1879617600@neta65.org
SUMMARY:Treatment Committee Meeting
DESCRIPTION:NETA 65 Treatment Committee Meetings\n4th TUESDAY OF EVERY MONTH\n7:00 PM \nJoin Zoom Meeting\nhttps://us02web.zoom.us/j/2123241524?pwd=TWFhaVhOUjd1Rk5uL3hJVXhtOWlKUT09 \nMeeting ID: 212 324 1524\nPasscode: 057892
URL:https://neta65.org/event/treatment-committee-meeting-03-2023-2/2029-07-24/
LOCATION:Virtual Meeting via Zoom
CATEGORIES:Committee Meeting,Treatment Committee Meeting
ATTACH;FMTTYPE=image/png:https://neta65.org/wp-content/uploads/2023/07/2023-07_TREATMENT-COMMITTEE.png
END:VEVENT
BEGIN:VEVENT
DTSTART;TZID=America/Chicago:20290828T190000
DTEND;TZID=America/Chicago:20290828T200000
DTSTAMP:20260422T172434
CREATED:20241010T145049Z
LAST-MODIFIED:20250825T193635Z
UID:10000614-1882638000-1882641600@neta65.org
SUMMARY:Treatment Committee Meeting
DESCRIPTION:NETA 65 Treatment Committee Meetings\n4th TUESDAY OF EVERY MONTH\n7:00 PM \nJoin Zoom Meeting\nhttps://us02web.zoom.us/j/2123241524?pwd=TWFhaVhOUjd1Rk5uL3hJVXhtOWlKUT09 \nMeeting ID: 212 324 1524\nPasscode: 057892
URL:https://neta65.org/event/treatment-committee-meeting-03-2023-2/2029-08-28/
LOCATION:Virtual Meeting via Zoom
CATEGORIES:Committee Meeting,Treatment Committee Meeting
ATTACH;FMTTYPE=image/png:https://neta65.org/wp-content/uploads/2023/07/2023-07_TREATMENT-COMMITTEE.png
END:VEVENT
BEGIN:VEVENT
DTSTART;TZID=America/Chicago:20290925T190000
DTEND;TZID=America/Chicago:20290925T200000
DTSTAMP:20260422T172434
CREATED:20241010T145049Z
LAST-MODIFIED:20250825T193635Z
UID:10000615-1885057200-1885060800@neta65.org
SUMMARY:Treatment Committee Meeting
DESCRIPTION:NETA 65 Treatment Committee Meetings\n4th TUESDAY OF EVERY MONTH\n7:00 PM \nJoin Zoom Meeting\nhttps://us02web.zoom.us/j/2123241524?pwd=TWFhaVhOUjd1Rk5uL3hJVXhtOWlKUT09 \nMeeting ID: 212 324 1524\nPasscode: 057892
URL:https://neta65.org/event/treatment-committee-meeting-03-2023-2/2029-09-25/
LOCATION:Virtual Meeting via Zoom
CATEGORIES:Committee Meeting,Treatment Committee Meeting
ATTACH;FMTTYPE=image/png:https://neta65.org/wp-content/uploads/2023/07/2023-07_TREATMENT-COMMITTEE.png
END:VEVENT
END:VCALENDAR