BEGIN:VCALENDAR
VERSION:2.0
PRODID:-// - ECPv6.15.20//NONSGML v1.0//EN
CALSCALE:GREGORIAN
METHOD:PUBLISH
X-ORIGINAL-URL:https://neta65.org
X-WR-CALDESC:Events for 
REFRESH-INTERVAL;VALUE=DURATION:PT1H
X-Robots-Tag:noindex
X-PUBLISHED-TTL:PT1H
BEGIN:VTIMEZONE
TZID:America/Chicago
BEGIN:DAYLIGHT
TZOFFSETFROM:-0600
TZOFFSETTO:-0500
TZNAME:CDT
DTSTART:20240310T080000
END:DAYLIGHT
BEGIN:STANDARD
TZOFFSETFROM:-0500
TZOFFSETTO:-0600
TZNAME:CST
DTSTART:20241103T070000
END:STANDARD
BEGIN:DAYLIGHT
TZOFFSETFROM:-0600
TZOFFSETTO:-0500
TZNAME:CDT
DTSTART:20250309T080000
END:DAYLIGHT
BEGIN:STANDARD
TZOFFSETFROM:-0500
TZOFFSETTO:-0600
TZNAME:CST
DTSTART:20251102T070000
END:STANDARD
BEGIN:DAYLIGHT
TZOFFSETFROM:-0600
TZOFFSETTO:-0500
TZNAME:CDT
DTSTART:20260308T080000
END:DAYLIGHT
BEGIN:STANDARD
TZOFFSETFROM:-0500
TZOFFSETTO:-0600
TZNAME:CST
DTSTART:20261101T070000
END:STANDARD
END:VTIMEZONE
BEGIN:VEVENT
DTSTART;TZID=America/Chicago:20251114T170000
DTEND;TZID=America/Chicago:20251114T190000
DTSTAMP:20260422T195117
CREATED:20251124T164400Z
LAST-MODIFIED:20251124T164400Z
UID:10001272-1763139600-1763146800@neta65.org
SUMMARY:Grapevine/LaVina
DESCRIPTION:Grupo Quinta Tradicion District 87\n\nFun and Fellowship\nQuestions for collaborating with La Vina\nHow to write about your experience\nAA members share about being published in LV\nRaffle\nQuestions and Answers
URL:https://neta65.org/event/grapevine-lavina/
LOCATION:Grupo Quinta Tradicion\, 1110 N Hwy 175 Ste 1\, Seagoville\, TX\, 75159\, United States
CATEGORIES:Workshop
ATTACH;FMTTYPE=image/jpeg:https://neta65.org/wp-content/uploads/2025/11/Flyer-Taller-Escritura-Grupo-Quinta-Tradicion.jpg
END:VEVENT
END:VCALENDAR