BEGIN:VCALENDAR
VERSION:2.0
PRODID:-// - ECPv6.15.20//NONSGML v1.0//EN
CALSCALE:GREGORIAN
METHOD:PUBLISH
X-ORIGINAL-URL:https://neta65.org
X-WR-CALDESC:Events for 
REFRESH-INTERVAL;VALUE=DURATION:PT1H
X-Robots-Tag:noindex
X-PUBLISHED-TTL:PT1H
BEGIN:VTIMEZONE
TZID:America/Chicago
BEGIN:DAYLIGHT
TZOFFSETFROM:-0600
TZOFFSETTO:-0500
TZNAME:CDT
DTSTART:20250309T080000
END:DAYLIGHT
BEGIN:STANDARD
TZOFFSETFROM:-0500
TZOFFSETTO:-0600
TZNAME:CST
DTSTART:20251102T070000
END:STANDARD
BEGIN:DAYLIGHT
TZOFFSETFROM:-0600
TZOFFSETTO:-0500
TZNAME:CDT
DTSTART:20260308T080000
END:DAYLIGHT
BEGIN:STANDARD
TZOFFSETFROM:-0500
TZOFFSETTO:-0600
TZNAME:CST
DTSTART:20261101T070000
END:STANDARD
BEGIN:DAYLIGHT
TZOFFSETFROM:-0600
TZOFFSETTO:-0500
TZNAME:CDT
DTSTART:20270314T080000
END:DAYLIGHT
BEGIN:STANDARD
TZOFFSETFROM:-0500
TZOFFSETTO:-0600
TZNAME:CST
DTSTART:20271107T070000
END:STANDARD
END:VTIMEZONE
BEGIN:VEVENT
DTSTART;TZID=America/Chicago:20260131T130000
DTEND;TZID=America/Chicago:20260131T150000
DTSTAMP:20260422T170315
CREATED:20251202T234315Z
LAST-MODIFIED:20251202T234332Z
UID:10001277-1769864400-1769871600@neta65.org
SUMMARY:Grapevine/La Vina Workshop
DESCRIPTION:Join us for: \n\nFun and Fellowship Questions for collaborating with La Vina\nHow to write about your experience\nAA members share about being published in LV\nQuestions and Answers
URL:https://neta65.org/event/grapevine-la-vina/
LOCATION:Rowlett Group\, 362 Oak Trail # 162\, Garland\, TX\, 75043\, United States
CATEGORIES:Workshop
ATTACH;FMTTYPE=image/jpeg:https://neta65.org/wp-content/uploads/2025/12/Rowlett-Group-GV-Writing-Workshop.jpeg
END:VEVENT
END:VCALENDAR