BEGIN:VCALENDAR
VERSION:2.0
PRODID:-// - ECPv6.15.20//NONSGML v1.0//EN
CALSCALE:GREGORIAN
METHOD:PUBLISH
X-ORIGINAL-URL:https://neta65.org
X-WR-CALDESC:Events for 
REFRESH-INTERVAL;VALUE=DURATION:PT1H
X-Robots-Tag:noindex
X-PUBLISHED-TTL:PT1H
BEGIN:VTIMEZONE
TZID:America/Chicago
BEGIN:DAYLIGHT
TZOFFSETFROM:-0600
TZOFFSETTO:-0500
TZNAME:CDT
DTSTART:20230312T080000
END:DAYLIGHT
BEGIN:STANDARD
TZOFFSETFROM:-0500
TZOFFSETTO:-0600
TZNAME:CST
DTSTART:20231105T070000
END:STANDARD
BEGIN:DAYLIGHT
TZOFFSETFROM:-0600
TZOFFSETTO:-0500
TZNAME:CDT
DTSTART:20240310T080000
END:DAYLIGHT
BEGIN:STANDARD
TZOFFSETFROM:-0500
TZOFFSETTO:-0600
TZNAME:CST
DTSTART:20241103T070000
END:STANDARD
BEGIN:DAYLIGHT
TZOFFSETFROM:-0600
TZOFFSETTO:-0500
TZNAME:CDT
DTSTART:20250309T080000
END:DAYLIGHT
BEGIN:STANDARD
TZOFFSETFROM:-0500
TZOFFSETTO:-0600
TZNAME:CST
DTSTART:20251102T070000
END:STANDARD
END:VTIMEZONE
BEGIN:VEVENT
DTSTART;TZID=America/Chicago:20241218T200000
DTEND;TZID=America/Chicago:20241218T210000
DTSTAMP:20260424T080737
CREATED:20231008T215318Z
LAST-MODIFIED:20250825T194356Z
UID:10000247-1734552000-1734555600@neta65.org
SUMMARY:Corrections Committee Meeting
DESCRIPTION:
URL:https://neta65.org/event/corrections-committee-meeting-24-09/2024-12-18/
LOCATION:Virtual Meeting via Zoom
CATEGORIES:Committee Meeting,Corrections
ATTACH;FMTTYPE=image/png:https://neta65.org/wp-content/uploads/2023/10/2023-10-CORRECTIONS-COMMITTEE.png
END:VEVENT
BEGIN:VEVENT
DTSTART;TZID=America/Chicago:20241216T193000
DTEND;TZID=America/Chicago:20241216T203000
DTSTAMP:20260424T080737
CREATED:20240408T005110Z
LAST-MODIFIED:20250825T194210Z
UID:10000979-1734377400-1734381000@neta65.org
SUMMARY:NETA65 PI Committee Monthly Meeting
DESCRIPTION:Join the PI Committee Meeting the 3rd Monday each month to share and get the lates information for area AA public information methods\, events\, and opportunities. \nMeeting ID: 889 7249 5179 \nPasscode: 089098
URL:https://neta65.org/event/pi-committee-meeting-29/2024-12-16/
LOCATION:TX
CATEGORIES:Committee Meeting,PI
ATTACH;FMTTYPE=image/jpeg:https://neta65.org/wp-content/uploads/2024/04/PI-Carry-the-Message.jpg
END:VEVENT
BEGIN:VEVENT
DTSTART;TZID=America/Chicago:20241209T190000
DTEND;TZID=America/Chicago:20241209T200000
DTSTAMP:20260424T080737
CREATED:20240125T042138Z
LAST-MODIFIED:20240125T042138Z
UID:10000150-1733770800-1733774400@neta65.org
SUMMARY:NETA65 Technology Committee Monthly Meeting
DESCRIPTION:Technology Committee Monthly Meeting \nSecond Mon each month\, until Dec 9\, 2024 \nPlease download and import the following iCalendar (.ics) files to your calendar system.\nMonthly: https://us02web.zoom.us/meeting/tZUtdeCvqj8tGNKLyNz25PitNw-2-ELVMZ5y/ics?icsToken=98tyKuGprjkjHdCRtxuBRpwcAojoXe3wiClajY12sAbLGXIGUgriGPUPYP9aPO79 \nJoin Now Zoom \nMeeting ID: 810 2974 4726\nPasscode: 661771
URL:https://neta65.org/event/neta65-technology-committee-monthly-meeting-6/
LOCATION:Virtual Meeting via Zoom
CATEGORIES:Technology
END:VEVENT
BEGIN:VEVENT
DTSTART;TZID=America/Chicago:20241207T190000
DTEND;TZID=America/Chicago:20241207T203000
DTSTAMP:20260424T080737
CREATED:20241125T131422Z
LAST-MODIFIED:20241125T131709Z
UID:10000801-1733598000-1733603400@neta65.org
SUMMARY:Stepping Stones - Virtual Tour of Bill & Lois Wilson
DESCRIPTION:Bilingual Hybrid Journey from the Archives Committee \nZoom 889 6593 9639: Pass 826575
URL:https://neta65.org/event/stepping-stones-virtual-tour-of-bill-lois-wilson/
LOCATION:Ultimo Refugio\, 2301 North Collins St\, Ste 238\, Arlington\, TX\, 76011\, United States
CATEGORIES:Archives
ATTACH;FMTTYPE=image/png:https://neta65.org/wp-content/uploads/2024/11/Stepping-Stones-2.png
END:VEVENT
BEGIN:VEVENT
DTSTART;TZID=America/Chicago:20241126T190000
DTEND;TZID=America/Chicago:20241126T200000
DTSTAMP:20260424T080737
CREATED:20241010T145049Z
LAST-MODIFIED:20250825T193635Z
UID:10000557-1732647600-1732651200@neta65.org
SUMMARY:Treatment Committee Meeting
DESCRIPTION:NETA 65 Treatment Committee Meetings\n4th TUESDAY OF EVERY MONTH\n7:00 PM \nJoin Zoom Meeting\nhttps://us02web.zoom.us/j/2123241524?pwd=TWFhaVhOUjd1Rk5uL3hJVXhtOWlKUT09 \nMeeting ID: 212 324 1524\nPasscode: 057892
URL:https://neta65.org/event/treatment-committee-meeting-03-2023-2/2024-11-26/
LOCATION:Virtual Meeting via Zoom
CATEGORIES:Committee Meeting,Treatment Committee Meeting
ATTACH;FMTTYPE=image/png:https://neta65.org/wp-content/uploads/2023/07/2023-07_TREATMENT-COMMITTEE.png
END:VEVENT
BEGIN:VEVENT
DTSTART;TZID=America/Chicago:20241124T190000
DTEND;TZID=America/Chicago:20241124T200000
DTSTAMP:20260424T080737
CREATED:20240618T121246Z
LAST-MODIFIED:20241117T204138Z
UID:10000177-1732474800-1732478400@neta65.org
SUMMARY:NETA65 Finance Committee Meeting
DESCRIPTION:Topic: NETA65 Finance Committee Meeting\nTime: Nov 24\, 2024 07:00 PM Central Time (US and Canada) \nJoin Zoom Meeting\nhttps://us02web.zoom.us/j/87846866514?pwd=5NRyl8dsCwJUKkSMFmKKB4g0qBlYGK.1 \nMeeting ID: 878 4686 6514\nPasscode: 432987
URL:https://neta65.org/event/neta65-finance-committee-meeting-3/
LOCATION:TX
CATEGORIES:Committee Meeting
END:VEVENT
BEGIN:VEVENT
DTSTART;TZID=America/Chicago:20241120T200000
DTEND;TZID=America/Chicago:20241120T210000
DTSTAMP:20260424T080737
CREATED:20231008T215318Z
LAST-MODIFIED:20250825T194356Z
UID:10000246-1732132800-1732136400@neta65.org
SUMMARY:Corrections Committee Meeting
DESCRIPTION:
URL:https://neta65.org/event/corrections-committee-meeting-24-09/2024-11-20/
LOCATION:Virtual Meeting via Zoom
CATEGORIES:Committee Meeting,Corrections
ATTACH;FMTTYPE=image/png:https://neta65.org/wp-content/uploads/2023/10/2023-10-CORRECTIONS-COMMITTEE.png
END:VEVENT
BEGIN:VEVENT
DTSTART;TZID=America/Chicago:20241119T190000
DTEND;TZID=America/Chicago:20241119T203000
DTSTAMP:20260424T080737
CREATED:20240108T031638Z
LAST-MODIFIED:20240130T031027Z
UID:10000134-1732042800-1732048200@neta65.org
SUMMARY:Delegate Sharing Session
DESCRIPTION:Online via Zoom\nMeeting ID: 445 571 1924\nPasscode: 051617 \n\nTuesday\, January 23\, 2024\nProposed Agenda Items (PAIs) & Trustee’s Literature Committee Feedback Request\n7:00pm-8:30pm CT \nTuesday\, February 20\, 2024\nFinal Agenda Items (FAIs)\n7:00pm-8:30pm CT \nTuesday\, March 5\, 2024\nSpring Assembly Mock Committees\n7:00pm-8:30pm CT \nTuesday\, May 21\, 2024\nPost Conference Sneak Peek\n7:00pm-8:30pm CT \nTuesday\, August 27\, 2024\nGeneral Questions About the GSC\n7:00pm-8:30pm CT \nTuesday\,  November 19\, 2024\nGeneral Questions About the GSC\n7:00pm-8:30pm CT
URL:https://neta65.org/event/delegate-sharing-session-11-19/
LOCATION:TX
ATTACH;FMTTYPE=image/png:https://neta65.org/wp-content/uploads/2024/01/2024-DelegatesSharing.png
END:VEVENT
BEGIN:VEVENT
DTSTART;TZID=America/Chicago:20241118T193000
DTEND;TZID=America/Chicago:20241118T203000
DTSTAMP:20260424T080737
CREATED:20240408T005110Z
LAST-MODIFIED:20250825T194210Z
UID:10000978-1731958200-1731961800@neta65.org
SUMMARY:NETA65 PI Committee Monthly Meeting
DESCRIPTION:Join the PI Committee Meeting the 3rd Monday each month to share and get the lates information for area AA public information methods\, events\, and opportunities. \nMeeting ID: 889 7249 5179 \nPasscode: 089098
URL:https://neta65.org/event/pi-committee-meeting-29/2024-11-18/
LOCATION:TX
CATEGORIES:Committee Meeting,PI
ATTACH;FMTTYPE=image/jpeg:https://neta65.org/wp-content/uploads/2024/04/PI-Carry-the-Message.jpg
END:VEVENT
BEGIN:VEVENT
DTSTART;TZID=America/Chicago:20241117T123000
DTEND;TZID=America/Chicago:20241117T143000
DTSTAMP:20260424T080737
CREATED:20240922T150832Z
LAST-MODIFIED:20240922T150832Z
UID:10000540-1731846600-1731853800@neta65.org
SUMMARY:Expect A Miracle - Safety Meeting Workshop
DESCRIPTION:Expect A Miracle \nHosted by the Lewisville Group \n1305 State Highway 121 Business\nSuite 105\nLewisville\, TX 75067\n972-436-4516 \nTwo Guest Panelists! \nPlease\, no smoking in the front or in store front parking!
URL:https://neta65.org/event/expect-a-miracle-safety-meeting-workshop/
LOCATION:TX
END:VEVENT
BEGIN:VEVENT
DTSTART;TZID=America/Chicago:20241116T100000
DTEND;TZID=America/Chicago:20241116T110000
DTSTAMP:20260424T080737
CREATED:20241010T185814Z
LAST-MODIFIED:20250101T193328Z
UID:10000737-1731751200-1731754800@neta65.org
SUMMARY:NETA65 CPC Committee Monthly Meeting
DESCRIPTION:Monthly CPC Committee meeting:\n3rd Saturday of the month at 10am via zoom\n\nJoin Zoom Meeting or select Link:\nMeeting ID: 564 920 3162\nPasscode: 328586
URL:https://neta65.org/event/cpc-committee-meeting-26/2024-11-16/
LOCATION:https://zoom.us/j/5649203162?pwd=BnHqr4dGgH32hHyod7aG6lhIcZ1D2H.1&omn=98908871665
END:VEVENT
BEGIN:VEVENT
DTSTART;TZID=America/Chicago:20241111T190000
DTEND;TZID=America/Chicago:20241111T200000
DTSTAMP:20260424T080737
CREATED:20240125T042047Z
LAST-MODIFIED:20241010T201021Z
UID:10000149-1731351600-1731355200@neta65.org
SUMMARY:NETA65 Technology Committee Monthly Meeting
DESCRIPTION:Technology Committee Monthly Meeting \nSecond Mon each month\, until Dec 9\, 2024 \nPlease download and import the following iCalendar (.ics) files to your calendar system.\nMonthly: https://us02web.zoom.us/meeting/tZUtdeCvqj8tGNKLyNz25PitNw-2-ELVMZ5y/ics?icsToken=98tyKuGprjkjHdCRtxuBRpwcAojoXe3wiClajY12sAbLGXIGUgriGPUPYP9aPO79 \nJoin Now Zoom \nMeeting ID: 810 2974 4726\nPasscode: 661771
URL:https://neta65.org/event/neta65-technology-committee-monthly-meeting-5/
LOCATION:Virtual Meeting via Zoom
CATEGORIES:Technology
END:VEVENT
BEGIN:VEVENT
DTSTART;TZID=America/Chicago:20241023T200000
DTEND;TZID=America/Chicago:20241023T210000
DTSTAMP:20260424T080737
CREATED:20241002T151020Z
LAST-MODIFIED:20241010T134833Z
UID:10000549-1729713600-1729717200@neta65.org
SUMMARY:Literature Pamphlet Study
DESCRIPTION:
URL:https://neta65.org/event/literature-pamphlet-study-2/2024-10-23/
LOCATION:TX
CATEGORIES:Committee Meeting
ATTACH;FMTTYPE=image/jpeg:https://neta65.org/wp-content/uploads/2024/09/Lit-Pamphlet-study.jpg
END:VEVENT
BEGIN:VEVENT
DTSTART;TZID=America/Chicago:20241022T190000
DTEND;TZID=America/Chicago:20241022T200000
DTSTAMP:20260424T080737
CREATED:20241010T145049Z
LAST-MODIFIED:20250825T193635Z
UID:10000556-1729623600-1729627200@neta65.org
SUMMARY:Treatment Committee Meeting
DESCRIPTION:NETA 65 Treatment Committee Meetings\n4th TUESDAY OF EVERY MONTH\n7:00 PM \nJoin Zoom Meeting\nhttps://us02web.zoom.us/j/2123241524?pwd=TWFhaVhOUjd1Rk5uL3hJVXhtOWlKUT09 \nMeeting ID: 212 324 1524\nPasscode: 057892
URL:https://neta65.org/event/treatment-committee-meeting-03-2023-2/2024-10-22/
LOCATION:Virtual Meeting via Zoom
CATEGORIES:Committee Meeting,Treatment Committee Meeting
ATTACH;FMTTYPE=image/png:https://neta65.org/wp-content/uploads/2023/07/2023-07_TREATMENT-COMMITTEE.png
END:VEVENT
BEGIN:VEVENT
DTSTART;TZID=America/Chicago:20241021T193000
DTEND;TZID=America/Chicago:20241021T203000
DTSTAMP:20260424T080737
CREATED:20240408T005110Z
LAST-MODIFIED:20250825T194210Z
UID:10000977-1729539000-1729542600@neta65.org
SUMMARY:NETA65 PI Committee Monthly Meeting
DESCRIPTION:Join the PI Committee Meeting the 3rd Monday each month to share and get the lates information for area AA public information methods\, events\, and opportunities. \nMeeting ID: 889 7249 5179 \nPasscode: 089098
URL:https://neta65.org/event/pi-committee-meeting-29/2024-10-21/
LOCATION:TX
CATEGORIES:Committee Meeting,PI
ATTACH;FMTTYPE=image/jpeg:https://neta65.org/wp-content/uploads/2024/04/PI-Carry-the-Message.jpg
END:VEVENT
BEGIN:VEVENT
DTSTART;TZID=America/Chicago:20241020T130000
DTEND;TZID=America/Chicago:20241020T170000
DTSTAMP:20260424T080737
CREATED:20240820T020157Z
LAST-MODIFIED:20241017T171642Z
UID:10000183-1729429200-1729443600@neta65.org
SUMMARY:2024 Fall Area Committee Meeting (ACM)
DESCRIPTION:Location: Grupo Amigo\, 2415 S. Collins St.\, Arlington\, TX 76014\nZoom: Direct link Meeting ID: 865 7406 1185 Passcode: 861160 \n\n\nAgenda English | Español
URL:https://neta65.org/event/fall-acm/
LOCATION:Grupo Amigo\, 2415 S. Collins St\, Arlington\, TX\, 76014\, United States
CATEGORIES:Assembly and ACM
END:VEVENT
BEGIN:VEVENT
DTSTART;TZID=America/Chicago:20241019T100000
DTEND;TZID=America/Chicago:20241019T110000
DTSTAMP:20260424T080737
CREATED:20241010T185814Z
LAST-MODIFIED:20250101T193328Z
UID:10000736-1729332000-1729335600@neta65.org
SUMMARY:NETA65 CPC Committee Monthly Meeting
DESCRIPTION:Monthly CPC Committee meeting:\n3rd Saturday of the month at 10am via zoom\n\nJoin Zoom Meeting or select Link:\nMeeting ID: 564 920 3162\nPasscode: 328586
URL:https://neta65.org/event/cpc-committee-meeting-26/2024-10-19/
LOCATION:https://zoom.us/j/5649203162?pwd=BnHqr4dGgH32hHyod7aG6lhIcZ1D2H.1&omn=98908871665
END:VEVENT
BEGIN:VEVENT
DTSTART;TZID=America/Chicago:20241016T200000
DTEND;TZID=America/Chicago:20241016T210000
DTSTAMP:20260424T080737
CREATED:20241002T151020Z
LAST-MODIFIED:20241010T134833Z
UID:10000548-1729108800-1729112400@neta65.org
SUMMARY:Literature Pamphlet Study
DESCRIPTION:
URL:https://neta65.org/event/literature-pamphlet-study-2/2024-10-16/
LOCATION:TX
CATEGORIES:Committee Meeting
ATTACH;FMTTYPE=image/jpeg:https://neta65.org/wp-content/uploads/2024/09/Lit-Pamphlet-study.jpg
END:VEVENT
BEGIN:VEVENT
DTSTART;TZID=America/Chicago:20241016T200000
DTEND;TZID=America/Chicago:20241016T210000
DTSTAMP:20260424T080737
CREATED:20231008T215318Z
LAST-MODIFIED:20250825T194356Z
UID:10000245-1729108800-1729112400@neta65.org
SUMMARY:Corrections Committee Meeting
DESCRIPTION:
URL:https://neta65.org/event/corrections-committee-meeting-24-09/2024-10-16/
LOCATION:Virtual Meeting via Zoom
CATEGORIES:Committee Meeting,Corrections
ATTACH;FMTTYPE=image/png:https://neta65.org/wp-content/uploads/2023/10/2023-10-CORRECTIONS-COMMITTEE.png
END:VEVENT
BEGIN:VEVENT
DTSTART;TZID=America/Chicago:20241014T190000
DTEND;TZID=America/Chicago:20241014T200000
DTSTAMP:20260424T080737
CREATED:20240125T041905Z
LAST-MODIFIED:20240125T042010Z
UID:10000147-1728932400-1728936000@neta65.org
SUMMARY:NETA65 Technology Committee Monthly Meeting
DESCRIPTION:Technology Committee Monthly Meeting \nSecond Mon each month\, until Dec 9\, 2024 \nPlease download and import the following iCalendar (.ics) files to your calendar system.\nMonthly: https://us02web.zoom.us/meeting/tZUtdeCvqj8tGNKLyNz25PitNw-2-ELVMZ5y/ics?icsToken=98tyKuGprjkjHdCRtxuBRpwcAojoXe3wiClajY12sAbLGXIGUgriGPUPYP9aPO79 \nJoin Now Zoom \nMeeting ID: 810 2974 4726\nPasscode: 661771
URL:https://neta65.org/event/neta65-technology-committee-monthly-meeting-duplicate-duplicate-2/
LOCATION:Virtual Meeting via Zoom
CATEGORIES:Technology
END:VEVENT
BEGIN:VEVENT
DTSTART;VALUE=DATE:20241011
DTEND;VALUE=DATE:20241014
DTSTAMP:20260424T080737
CREATED:20231212T124706Z
LAST-MODIFIED:20240108T003130Z
UID:10000128-1728604800-1728863999@neta65.org
SUMMARY:SWRAASA 2024 - Area 65
DESCRIPTION:
URL:https://neta65.org/event/swraasa-2024-area-65/
LOCATION:Renaissance Dallas Richardson Hotel\, 900 E Lookout Drive\, Richardson\, TX\, 75082\, United States
CATEGORIES:Featured,SWRAASA Committee Meeting
ATTACH;FMTTYPE=image/png:https://neta65.org/wp-content/uploads/2023/12/SWRAASA-2024-img.png
END:VEVENT
BEGIN:VEVENT
DTSTART;TZID=America/Chicago:20241009T200000
DTEND;TZID=America/Chicago:20241009T210000
DTSTAMP:20260424T080737
CREATED:20241002T151020Z
LAST-MODIFIED:20241010T134833Z
UID:10000547-1728504000-1728507600@neta65.org
SUMMARY:Literature Pamphlet Study
DESCRIPTION:
URL:https://neta65.org/event/literature-pamphlet-study-2/2024-10-09/
LOCATION:TX
CATEGORIES:Committee Meeting
ATTACH;FMTTYPE=image/jpeg:https://neta65.org/wp-content/uploads/2024/09/Lit-Pamphlet-study.jpg
END:VEVENT
BEGIN:VEVENT
DTSTART;TZID=America/Chicago:20241002T200000
DTEND;TZID=America/Chicago:20241002T210000
DTSTAMP:20260424T080737
CREATED:20241002T151020Z
LAST-MODIFIED:20241010T134833Z
UID:10000546-1727899200-1727902800@neta65.org
SUMMARY:Literature Pamphlet Study
DESCRIPTION:
URL:https://neta65.org/event/literature-pamphlet-study-2/2024-10-02/
LOCATION:TX
CATEGORIES:Committee Meeting
ATTACH;FMTTYPE=image/jpeg:https://neta65.org/wp-content/uploads/2024/09/Lit-Pamphlet-study.jpg
END:VEVENT
BEGIN:VEVENT
DTSTART;TZID=America/Chicago:20240925T200000
DTEND;TZID=America/Chicago:20240925T210000
DTSTAMP:20260424T080737
CREATED:20240918T121132Z
LAST-MODIFIED:20241002T150859Z
UID:10000483-1727294400-1727298000@neta65.org
SUMMARY:Literature Pamphlet Study
DESCRIPTION:
URL:https://neta65.org/event/literature-pamphlet-study/2024-09-25/
LOCATION:TX
CATEGORIES:Committee Meeting
ATTACH;FMTTYPE=image/jpeg:https://neta65.org/wp-content/uploads/2024/09/Lit-Pamphlet-study.jpg
END:VEVENT
BEGIN:VEVENT
DTSTART;TZID=America/Chicago:20240924T190000
DTEND;TZID=America/Chicago:20240924T200000
DTSTAMP:20260424T080737
CREATED:20241010T145049Z
LAST-MODIFIED:20250825T193635Z
UID:10000555-1727204400-1727208000@neta65.org
SUMMARY:Treatment Committee Meeting
DESCRIPTION:NETA 65 Treatment Committee Meetings\n4th TUESDAY OF EVERY MONTH\n7:00 PM \nJoin Zoom Meeting\nhttps://us02web.zoom.us/j/2123241524?pwd=TWFhaVhOUjd1Rk5uL3hJVXhtOWlKUT09 \nMeeting ID: 212 324 1524\nPasscode: 057892
URL:https://neta65.org/event/treatment-committee-meeting-03-2023-2/2024-09-24/
LOCATION:Virtual Meeting via Zoom
CATEGORIES:Committee Meeting,Treatment Committee Meeting
ATTACH;FMTTYPE=image/png:https://neta65.org/wp-content/uploads/2023/07/2023-07_TREATMENT-COMMITTEE.png
END:VEVENT
BEGIN:VEVENT
DTSTART;TZID=America/Chicago:20240920T050000
DTEND;TZID=America/Chicago:20240922T120000
DTSTAMP:20260424T080737
CREATED:20240615T192942Z
LAST-MODIFIED:20240824T231405Z
UID:10000174-1726808400-1727006400@neta65.org
SUMMARY:2024 NETA65 Fall Assembly
DESCRIPTION:September 20-22\, 2024\nBooking Link Room price $119; rate good till 8/19/24\nAssembly Link Mtg ID: 831 6745 0065 Pass: 998595\nService Resume also under Forms page
URL:https://neta65.org/event/2024-neta65-fall-assembly/
LOCATION:Radisson North Fossil Creek\, 2540 Meacham Boulevard\, Fort Worth\, Texas\, 76106
CATEGORIES:Assembly and ACM
END:VEVENT
BEGIN:VEVENT
DTSTART;TZID=America/Chicago:20240918T200000
DTEND;TZID=America/Chicago:20240918T210000
DTSTAMP:20260424T080737
CREATED:20240918T121132Z
LAST-MODIFIED:20241002T150859Z
UID:10000482-1726689600-1726693200@neta65.org
SUMMARY:Literature Pamphlet Study
DESCRIPTION:
URL:https://neta65.org/event/literature-pamphlet-study/2024-09-18/
LOCATION:TX
CATEGORIES:Committee Meeting
ATTACH;FMTTYPE=image/jpeg:https://neta65.org/wp-content/uploads/2024/09/Lit-Pamphlet-study.jpg
END:VEVENT
BEGIN:VEVENT
DTSTART;TZID=America/Chicago:20240909T190000
DTEND;TZID=America/Chicago:20240909T200000
DTSTAMP:20260424T080737
CREATED:20240125T041944Z
LAST-MODIFIED:20240125T041944Z
UID:10000148-1725908400-1725912000@neta65.org
SUMMARY:NETA65 Technology Committee Monthly Meeting
DESCRIPTION:Technology Committee Monthly Meeting \nSecond Mon each month\, until Dec 9\, 2024 \nPlease download and import the following iCalendar (.ics) files to your calendar system.\nMonthly: https://us02web.zoom.us/meeting/tZUtdeCvqj8tGNKLyNz25PitNw-2-ELVMZ5y/ics?icsToken=98tyKuGprjkjHdCRtxuBRpwcAojoXe3wiClajY12sAbLGXIGUgriGPUPYP9aPO79 \nJoin Now Zoom \nMeeting ID: 810 2974 4726\nPasscode: 661771
URL:https://neta65.org/event/neta65-technology-committee-monthly-meeting-4/
LOCATION:Virtual Meeting via Zoom
CATEGORIES:Technology
END:VEVENT
BEGIN:VEVENT
DTSTART;TZID=America/Chicago:20240830T180000
DTEND;TZID=America/Chicago:20240901T100000
DTSTAMP:20260424T080737
CREATED:20240617T144306Z
LAST-MODIFIED:20240617T144306Z
UID:10000176-1725040800-1725184800@neta65.org
SUMMARY:39th Annual Big Country Conference
DESCRIPTION:Included 4 speakers over 2.5 days and AA meetings.
URL:https://neta65.org/event/39th-annual-big-country-conference/
LOCATION:Mesquite Event Center – Abilene\, 201 Mesquite St\, Abilene\, TX\, 79601\, United States
CATEGORIES:Featured
ATTACH;FMTTYPE=image/png:https://neta65.org/wp-content/uploads/2024/06/39-th-Annual-Big-Country-Conference.png
END:VEVENT
BEGIN:VEVENT
DTSTART;TZID=America/Chicago:20240827T190000
DTEND;TZID=America/Chicago:20240827T203000
DTSTAMP:20260424T080737
CREATED:20240108T030855Z
LAST-MODIFIED:20240130T030909Z
UID:10000133-1724785200-1724790600@neta65.org
SUMMARY:Delegate Sharing Session
DESCRIPTION:Online via Zoom\nMeeting ID: 445 571 1924\nPasscode: 051617 \n\nTuesday\, January 23\, 2024\nProposed Agenda Items (PAIs) & Trustee’s Literature Committee Feedback Request\n7:00pm-8:30pm CT \nTuesday\, February 20\, 2024\nFinal Agenda Items (FAIs)\n7:00pm-8:30pm CT \nTuesday\, March 5\, 2024\nSpring Assembly Mock Committees\n7:00pm-8:30pm CT \nTuesday\, May 21\, 2024\nPost Conference Sneak Peek\n7:00pm-8:30pm CT \nTuesday\, August 27\, 2024\nGeneral Questions About the GSC\n7:00pm-8:30pm CT \nTuesday\,  November 19\, 2024\nGeneral Questions About the GSC\n7:00pm-8:30pm CT
URL:https://neta65.org/event/delegate-sharing-session-08-27/
LOCATION:TX
CATEGORIES:Delegate Report
ATTACH;FMTTYPE=image/png:https://neta65.org/wp-content/uploads/2024/01/2024-DelegatesSharing.png
END:VEVENT
END:VCALENDAR