BEGIN:VCALENDAR
VERSION:2.0
PRODID:-// - ECPv6.15.20//NONSGML v1.0//EN
CALSCALE:GREGORIAN
METHOD:PUBLISH
X-ORIGINAL-URL:https://neta65.org
X-WR-CALDESC:Events for 
REFRESH-INTERVAL;VALUE=DURATION:PT1H
X-Robots-Tag:noindex
X-PUBLISHED-TTL:PT1H
BEGIN:VTIMEZONE
TZID:America/Chicago
BEGIN:DAYLIGHT
TZOFFSETFROM:-0600
TZOFFSETTO:-0500
TZNAME:CDT
DTSTART:20240310T080000
END:DAYLIGHT
BEGIN:STANDARD
TZOFFSETFROM:-0500
TZOFFSETTO:-0600
TZNAME:CST
DTSTART:20241103T070000
END:STANDARD
BEGIN:DAYLIGHT
TZOFFSETFROM:-0600
TZOFFSETTO:-0500
TZNAME:CDT
DTSTART:20250309T080000
END:DAYLIGHT
BEGIN:STANDARD
TZOFFSETFROM:-0500
TZOFFSETTO:-0600
TZNAME:CST
DTSTART:20251102T070000
END:STANDARD
BEGIN:DAYLIGHT
TZOFFSETFROM:-0600
TZOFFSETTO:-0500
TZNAME:CDT
DTSTART:20260308T080000
END:DAYLIGHT
BEGIN:STANDARD
TZOFFSETFROM:-0500
TZOFFSETTO:-0600
TZNAME:CST
DTSTART:20261101T070000
END:STANDARD
END:VTIMEZONE
BEGIN:VEVENT
DTSTART;TZID=America/Chicago:20250513T190000
DTEND;TZID=America/Chicago:20250513T203000
DTSTAMP:20260423T110603
CREATED:20250216T202815Z
LAST-MODIFIED:20250513T235529Z
UID:10000869-1747162800-1747168200@neta65.org
SUMMARY:Town Hall
DESCRIPTION:Town Halls: Conference365 – Flyer Eng | Esp\nSince the GSC operates all year long\, there will be four Town Halls throughout the year to help all Area trusted servants who want to submit proposed agenda items to the conference coordinator learn how to do that.\nThese meetings will also be available for a “What’s On Your Mind” regarding the Conference\, and the Delegate will report to the body any important information our SWR Trustee shares from their General Service Board (GSB) meeting reports given to all SWR Delegates and Alternate Delegates after each board meeting (if it’s available @ that time).\nZoom Meeting ID : 445 571 1924 Passcode: 051617
URL:https://neta65.org/event/town-hall-3/
LOCATION:
CATEGORIES:Delegate Report
ATTACH;FMTTYPE=image/png:https://neta65.org/wp-content/uploads/2025/02/Conference-Connect-2025-2.png
ORGANIZER;CN="Delegate":MAILTO:delegate@neta65.org
END:VEVENT
BEGIN:VEVENT
DTSTART;TZID=America/Chicago:20250511T173000
DTEND;TZID=America/Chicago:20250511T203000
DTSTAMP:20260423T110603
CREATED:20250501T225045Z
LAST-MODIFIED:20250501T225045Z
UID:10001175-1746984600-1746995400@neta65.org
SUMMARY:CityWide Dallas Anniversary
DESCRIPTION:As you may know\, CityWide Dallas is a monthly open AA speaker meeting\, held on the second Saturday of each month. We would like to invite you to attend and set up a table to help spread the word about general service and inform our attendees about NETA 65—who you are and what you do.\nSeveral of you have already been in touch and are planning to attend—we sincerely thank you for your support. If you’ve never been to CityWide\, we’d love to have you join us. Our monthly attendance typically ranges between 350 and 400 people\, offering a wonderful opportunity for outreach and connection. \nOur May event is our 11th Anniversary! \nCityWide Dallas \nLover’s Lane United Methodist Church\n9200 Inwood Road\nDallas\, Texas 75220\nPotluck Dinner starts at 5:30 PM\nSpeaker Meeting starts at 7:00 PM and ends by 8:30 PM. \n  \nGSO defines us as a Type 1 special meeting or convention.
URL:https://neta65.org/event/citywide-dallas-anniversary/
LOCATION:CityWide-United Methodist Church\, 9200 Inwood Rd\, Dallas\, TX\, 75220\, United States
CATEGORIES:Featured
ATTACH;FMTTYPE=image/png:https://neta65.org/wp-content/uploads/2025/05/CityWide-11th-Anniversary.png
END:VEVENT
BEGIN:VEVENT
DTSTART;TZID=America/Chicago:20250510T140000
DTEND;TZID=America/Chicago:20250510T160000
DTSTAMP:20260423T110603
CREATED:20250223T222755Z
LAST-MODIFIED:20250223T223915Z
UID:10001074-1746885600-1746892800@neta65.org
SUMMARY:Grapevine/La Vina Writing Workshop
DESCRIPTION:Join us for a Grapevine Writing Workshop!\nWe will be discussing the importance of writing our experience\, submission guidelines\, suggestions and tips to write your draft. We will have a member sharing her experience on being published\, Grapevine Trivia\, fun and fellowship!
URL:https://neta65.org/event/grapevine-la-vina-writing-workshop-2/
LOCATION:3405 Taft Blvd Wichita Falls\, TX 76308
ATTACH;FMTTYPE=image/png:https://neta65.org/wp-content/uploads/2025/02/Flyer-Writing-Workshop-Wichita.png
END:VEVENT
BEGIN:VEVENT
DTSTART;TZID=America/Chicago:20250510T123000
DTEND;TZID=America/Chicago:20250510T150000
DTSTAMP:20260423T110603
CREATED:20250414T173044Z
LAST-MODIFIED:20250414T173044Z
UID:10001113-1746880200-1746889200@neta65.org
SUMMARY:Tri-City Fiesta Picnic
DESCRIPTION:
URL:https://neta65.org/event/tri-city-fiesta-picnic/
LOCATION:TX
CATEGORIES:Featured
ATTACH;FMTTYPE=image/png:https://neta65.org/wp-content/uploads/2025/04/Tri-City-Cinco-de-Mayo-2025.png
END:VEVENT
BEGIN:VEVENT
DTSTART;TZID=America/Chicago:20250507T200000
DTEND;TZID=America/Chicago:20250507T220000
DTSTAMP:20260423T110603
CREATED:20250430T195226Z
LAST-MODIFIED:20250430T195226Z
UID:10001174-1746648000-1746655200@neta65.org
SUMMARY:Taller de Escritura La Vina
DESCRIPTION:Taller de Escritura de La Viña (en español)\nPresentaremos un breve video sobre la historia y el impacto de la revista en la comunidad hispana.\nTener miembros que fueron publicados en LV\, compartir su experiencia.\nAnalice las pautas para contribuir a La Viña.\nCómo empezar a escribir un borrador.\nOpciones sobre cómo enviar tu experiencia a la revista.\nLos participantes también tendrán la oportunidad de compartir lo que escribieron.\nSorteo de una suscripción digital.\n¡Comida y compañerismo!\n  \nLa Vina Writing Workshop (in Spanish)\nWe will present a brief video about the history and Impact of the magazine on the Hispanic Community.\nHave members that were published on LV\, share their experience.\nDiscuss the guidelines for contributing to La Viña.\nHow to start writing a draft.\nOptions on how to submit your experience to the magazine.\nParticipants will also have the opportunity to share what they wrote.\nRaffle of a digital subscription.\nFood and fellowship!
URL:https://neta65.org/event/taller-de-escritura-la-vina-2/
LOCATION:Grupo Paz y Fortaleza\, 2516 Oakland Blvd\, Suite 1\, Fort Worth\, Texas\, 76103\, United States
ATTACH;FMTTYPE=image/png:https://neta65.org/wp-content/uploads/2025/04/Flyer-Taller-de-Escritura-Paz-y-Fortaleza.png
END:VEVENT
BEGIN:VEVENT
DTSTART;TZID=America/Chicago:20250505T193000
DTEND;TZID=America/Chicago:20250505T203000
DTSTAMP:20260423T110603
CREATED:20250328T140211Z
LAST-MODIFIED:20250825T193757Z
UID:10000966-1746473400-1746477000@neta65.org
SUMMARY:Area 65 Public Information Committee - Spanish
DESCRIPTION:-Spanish speaking zoom. \n\n\nArea 65 Comite de Informacion Publica07:30 PM Central Time (US and Canada)\nEvery month on the First Monday \n\nMeeting ID 839 3461 0982\n\nPasscode 623357
URL:https://neta65.org/event/area-65-comite-de-informacion-publica-2/2025-05-05/
LOCATION:https://us02web.zoom.us/j/83934610982?pwd=4WiQeNFG1kFZL71b94cENNHiNFEv39.1
END:VEVENT
BEGIN:VEVENT
DTSTART;TZID=America/Chicago:20250503T190000
DTEND;TZID=America/Chicago:20250503T210000
DTSTAMP:20260423T110603
CREATED:20250417T125803Z
LAST-MODIFIED:20250417T125803Z
UID:10001173-1746298800-1746306000@neta65.org
SUMMARY:La Vina Writing Workshop
DESCRIPTION:Taller de Escritura de La Viña (en español)\nPresentaremos un breve video sobre la historia y el impacto de la revista en la comunidad hispana. Invitaremos a miembros que publicaron en La Viña a compartir su experiencia. Se discutirán las pautas para contribuir a La Viña\, cómo empezar a escribir un borrador y las opciones para enviar su experiencia a la revista. Los participantes también tendrán la oportunidad de compartir sus escritos. ¡Sorteo de una suscripción digital\, comida y compañerismo! \n  \nLa Vina Writing Workshop (in Spanish)\nWe will present a brief video about the history and Impact of the magazine on the Hispanic Community. Have members that were published on LV\, share their experience. Discuss the guidelines for contributing to La Viña. How to start writing a draft. Options on how to submit your experience to the magazine. Participants will also have the opportunity to share what they wrote. Raffle of a digital subscription\, Food and fellowship!
URL:https://neta65.org/event/la-vina-writing-workshop/
LOCATION:Grupo Nueva Esperanza\, 3401 E Belknap\, Fort Worth\, TX\, 76111\, United States
ATTACH;FMTTYPE=image/png:https://neta65.org/wp-content/uploads/2025/04/Flyer-Taller-de-Escritura-La-Nueva-Esperanza.png
END:VEVENT
BEGIN:VEVENT
DTSTART;TZID=America/Chicago:20250428T193000
DTEND;TZID=America/Chicago:20250428T203000
DTSTAMP:20260423T110603
CREATED:20250220T153829Z
LAST-MODIFIED:20250825T193403Z
UID:10001085-1745868600-1745872200@neta65.org
SUMMARY:NETA 65 Literature Committee Meeting
DESCRIPTION:Hi all\, we are having our committee meetings via zoom the last Monday of every month at 7:30-8:30ish. You are welcome to attend and look forward to your participation.\nMeeting ID: 861 921 5560\nPass: 881561
URL:https://neta65.org/event/neta-65-literature-committee-meeting-2/2025-04-28/
LOCATION:
CATEGORIES:Committee Meeting
END:VEVENT
BEGIN:VEVENT
DTSTART;TZID=America/Chicago:20250426T190000
DTEND;TZID=America/Chicago:20250426T210000
DTSTAMP:20260423T110603
CREATED:20250412T223517Z
LAST-MODIFIED:20250414T174650Z
UID:10001112-1745694000-1745701200@neta65.org
SUMMARY:La Vina Writing Workshop
DESCRIPTION:La Vina Writing Workshop (in Spanish)\nLa Vina’s History and Impact on the Hispanic Community\nExperience of members published in La Viña\nGuidelines for Contributing to La Viña\nHow to start writing a draft\nHow to submit your experience to LV\nOpportunity to share what you wrote\nRaffle for a digital subscription\nFood and fellowship
URL:https://neta65.org/event/taller-de-escritura-la-vina/
LOCATION:Grupo Nuevo Horizonte\, 3302 North Main St\, Fort Worth\, TX\, 76106\, United States
CATEGORIES:Workshop
ATTACH;FMTTYPE=image/png:https://neta65.org/wp-content/uploads/2025/04/Taller-de-Escritura.png
END:VEVENT
BEGIN:VEVENT
DTSTART;TZID=America/Chicago:20250422T190000
DTEND;TZID=America/Chicago:20250422T200000
DTSTAMP:20260423T110603
CREATED:20241010T145049Z
LAST-MODIFIED:20250825T193635Z
UID:10000562-1745348400-1745352000@neta65.org
SUMMARY:Treatment Committee Meeting
DESCRIPTION:NETA 65 Treatment Committee Meetings\n4th TUESDAY OF EVERY MONTH\n7:00 PM \nJoin Zoom Meeting\nhttps://us02web.zoom.us/j/2123241524?pwd=TWFhaVhOUjd1Rk5uL3hJVXhtOWlKUT09 \nMeeting ID: 212 324 1524\nPasscode: 057892
URL:https://neta65.org/event/treatment-committee-meeting-03-2023-2/2025-04-22/
LOCATION:Virtual Meeting via Zoom
CATEGORIES:Committee Meeting,Treatment Committee Meeting
ATTACH;FMTTYPE=image/png:https://neta65.org/wp-content/uploads/2023/07/2023-07_TREATMENT-COMMITTEE.png
END:VEVENT
BEGIN:VEVENT
DTSTART;TZID=America/Chicago:20250422T180000
DTEND;TZID=America/Chicago:20250422T183000
DTSTAMP:20260423T110603
CREATED:20250221T224856Z
LAST-MODIFIED:20250825T193521Z
UID:10001064-1745344800-1745346600@neta65.org
SUMMARY:Technology Sharing Session
DESCRIPTION:2025 is our 2nd year hosting Tech Sharing Sessions which sprung from A.A. members who attended the NAATW. Shout out to Jacob E! \nOur primary purpose is to share and communicate information on how technology is enhancing our ability to carry the A.A. message of hope in our Area’s\, Districts\, and Groups.
URL:https://neta65.org/event/technology-sharing-session/2025-04-22/
LOCATION:https://us02web.zoom.us/j/9147699066?pwd=lnzJNQrY6hGJMYKbS0cZrUobFBrLWs.1&omn=81517809591
CATEGORIES:Technology
ATTACH;FMTTYPE=image/png:https://neta65.org/wp-content/uploads/2025/02/25-TSSFlyer21-3-1.png
END:VEVENT
BEGIN:VEVENT
DTSTART;TZID=America/Chicago:20250421T193000
DTEND;TZID=America/Chicago:20250421T203000
DTSTAMP:20260423T110603
CREATED:20240408T005110Z
LAST-MODIFIED:20250825T194210Z
UID:10000983-1745263800-1745267400@neta65.org
SUMMARY:NETA65 PI Committee Monthly Meeting
DESCRIPTION:Join the PI Committee Meeting the 3rd Monday each month to share and get the lates information for area AA public information methods\, events\, and opportunities. \nMeeting ID: 889 7249 5179 \nPasscode: 089098
URL:https://neta65.org/event/pi-committee-meeting-29/2025-04-21/
LOCATION:TX
CATEGORIES:Committee Meeting,PI
ATTACH;FMTTYPE=image/jpeg:https://neta65.org/wp-content/uploads/2024/04/PI-Carry-the-Message.jpg
END:VEVENT
BEGIN:VEVENT
DTSTART;TZID=America/Chicago:20250421T190000
DTEND;TZID=America/Chicago:20250421T203000
DTSTAMP:20260423T110603
CREATED:20250118T033830Z
LAST-MODIFIED:20250825T193924Z
UID:10000841-1745262000-1745267400@neta65.org
SUMMARY:PI Committee Meeting English
DESCRIPTION:English speaking zoom.\n\n\n\n\n\nNETA 65 PI Monthly Meeting\nJan 20\, 2025 07:00 PM Central Time (US and Canada)\nEvery month on the Third Mon\, until Dec 21\, 2026\, 24\nMeeting ID 854 4188 3616\nPasscode 329611
URL:https://neta65.org/event/pi-committee-meeting-english/2025-04-21/
LOCATION:https://us02web.zoom.us/j/85441883616?pwd=b97JBlxexLlccgpyjAovNLCZ2HQgu7.1
CATEGORIES:Committee Meeting
END:VEVENT
BEGIN:VEVENT
DTSTART;TZID=America/Chicago:20250419T100000
DTEND;TZID=America/Chicago:20250419T110000
DTSTAMP:20260423T110603
CREATED:20250414T225129Z
LAST-MODIFIED:20250414T225129Z
UID:10000900-1745056800-1745060400@neta65.org
SUMMARY:NETA65 CPC Committee Monthly Meeting
DESCRIPTION:Monthly CPC Committee meeting:\n3rd Saturday of the month at 10am via zoom\n\nJoin Zoom Meeting or select Link:\nMeeting ID: 564 920 3162\nPasscode: 328586
URL:https://neta65.org/event/cpc-committee-meeting-26-2-2/
LOCATION:https://zoom.us/j/5649203162?pwd=BnHqr4dGgH32hHyod7aG6lhIcZ1D2H.1&omn=98908871665
END:VEVENT
BEGIN:VEVENT
DTSTART;TZID=America/Chicago:20250416T200000
DTEND;TZID=America/Chicago:20250416T210000
DTSTAMP:20260423T110603
CREATED:20231008T215318Z
LAST-MODIFIED:20250825T194356Z
UID:10000251-1744833600-1744837200@neta65.org
SUMMARY:Corrections Committee Meeting
DESCRIPTION:
URL:https://neta65.org/event/corrections-committee-meeting-24-09/2025-04-16/
LOCATION:Virtual Meeting via Zoom
CATEGORIES:Committee Meeting,Corrections
ATTACH;FMTTYPE=image/png:https://neta65.org/wp-content/uploads/2023/10/2023-10-CORRECTIONS-COMMITTEE.png
END:VEVENT
BEGIN:VEVENT
DTSTART;TZID=America/Chicago:20250406T133000
DTEND;TZID=America/Chicago:20250406T173000
DTSTAMP:20260423T110603
CREATED:20250205T023152Z
LAST-MODIFIED:20250406T154225Z
UID:10000875-1743946200-1743960600@neta65.org
SUMMARY:2025 Spring Area Committee Meeting (ACM)
DESCRIPTION:ACM will be hybrid held at the Lewisville Group\n1305 S State Hwy 121 ste 105\, Lewisville Tx 75067 \nAgenda and Reports \nZoom link is available for quick connect \nAlso meeting ID 838 5120 3224 pswd 338044
URL:https://neta65.org/event/2025-spring-acm/
LOCATION:Lewisville Group\, 1305 S State Hwy 121\, Bldg A\, Suite 105\, Lewisville\, TX\, 75057\, United States
CATEGORIES:Assembly and ACM
END:VEVENT
BEGIN:VEVENT
DTSTART;TZID=America/Chicago:20250403T200000
DTEND;TZID=America/Chicago:20250403T220000
DTSTAMP:20260423T110603
CREATED:20250401T150842Z
LAST-MODIFIED:20250401T150857Z
UID:10001110-1743710400-1743717600@neta65.org
SUMMARY:Taller de Informacion Grapevine y La Vina
DESCRIPTION:Evento en Español \n– Historia de Grapevine\n– Historia de La Viña\n– AA Grapevine Inc.\n– Comité Permanente de La La Viña\n– Comité de Grapevine / La La Viña Area 65
URL:https://neta65.org/event/taller-de-informacion-grapevine-y-la-vina-2/
LOCATION:Grupo Serenidad\, 383 Huffines Plaza Suite 200-A\, Lewisville\, TX\, 75057\, United States
ATTACH;FMTTYPE=image/png:https://neta65.org/wp-content/uploads/2025/03/Flyer-Serenidad.png
END:VEVENT
BEGIN:VEVENT
DTSTART;TZID=America/Chicago:20250403T200000
DTEND;TZID=America/Chicago:20250403T220000
DTSTAMP:20260423T110603
CREATED:20250329T193905Z
LAST-MODIFIED:20250331T132804Z
UID:10001109-1743710400-1743717600@neta65.org
SUMMARY:Information Workshop Grapevine and La Vina
DESCRIPTION:Event in Spanish \n– Grapevine History\n– History of La Viña\n– AA Grapevine Inc.\n– La Viña Standing Committee\n– Grapevine Committee / La La Viña Area 65
URL:https://neta65.org/event/taller-de-informacion-grapevine-y-la-vina/
LOCATION:Grupo Serenidad\, 383 Huffines Plaza Suite 200-A\, Lewisville\, TX\, 75057\, United States
ATTACH;FMTTYPE=image/png:https://neta65.org/wp-content/uploads/2025/03/Flyer-Serenidad.png
END:VEVENT
BEGIN:VEVENT
DTSTART;TZID=America/Chicago:20250329T140000
DTEND;TZID=America/Chicago:20250329T160000
DTSTAMP:20260423T110603
CREATED:20250301T123511Z
LAST-MODIFIED:20250301T123542Z
UID:10001076-1743256800-1743264000@neta65.org
SUMMARY:CPC Workshop
DESCRIPTION:Please join us: \nCooperation with the Professional Community Workshop
URL:https://neta65.org/event/cpc-workshop/
LOCATION:Addison Group\, 4839 Keller Springs Road\, Addison\, TX\, 75002\, United States
CATEGORIES:Workshop
ATTACH;FMTTYPE=image/png:https://neta65.org/wp-content/uploads/2025/03/CPC-2025-Workshop-Flyer-1.png
END:VEVENT
BEGIN:VEVENT
DTSTART;TZID=America/Chicago:20250325T190000
DTEND;TZID=America/Chicago:20250325T200000
DTSTAMP:20260423T110603
CREATED:20241010T145049Z
LAST-MODIFIED:20250825T193635Z
UID:10000561-1742929200-1742932800@neta65.org
SUMMARY:Treatment Committee Meeting
DESCRIPTION:NETA 65 Treatment Committee Meetings\n4th TUESDAY OF EVERY MONTH\n7:00 PM \nJoin Zoom Meeting\nhttps://us02web.zoom.us/j/2123241524?pwd=TWFhaVhOUjd1Rk5uL3hJVXhtOWlKUT09 \nMeeting ID: 212 324 1524\nPasscode: 057892
URL:https://neta65.org/event/treatment-committee-meeting-03-2023-2/2025-03-25/
LOCATION:Virtual Meeting via Zoom
CATEGORIES:Committee Meeting,Treatment Committee Meeting
ATTACH;FMTTYPE=image/png:https://neta65.org/wp-content/uploads/2023/07/2023-07_TREATMENT-COMMITTEE.png
END:VEVENT
BEGIN:VEVENT
DTSTART;TZID=America/Chicago:20250324T200000
DTEND;TZID=America/Chicago:20250324T220000
DTSTAMP:20260423T110603
CREATED:20250223T223721Z
LAST-MODIFIED:20250223T223721Z
UID:10001075-1742846400-1742853600@neta65.org
SUMMARY:Taller de escritura Grapevine
DESCRIPTION:La Vina writing workshop \nEvent in Spanish \nMonday\, March 24\, 2025\n8-10 pm \nGrupo El Último Refugio District 93
URL:https://neta65.org/event/taller-de-escritura-grapevine/
LOCATION:2301 Collins St Suite 238 Arlington\, TX 76011\, 2301 Collins St Suite 238\, Arlington\, 76011\, United States
ATTACH;FMTTYPE=image/jpeg:https://neta65.org/wp-content/uploads/2025/02/Flyer-taller-de-escritura-el-ultimo-refugio.jpeg
END:VEVENT
BEGIN:VEVENT
DTSTART;TZID=America/Chicago:20250322T100000
DTEND;TZID=America/Chicago:20250322T110000
DTSTAMP:20260423T110603
CREATED:20250217T040501Z
LAST-MODIFIED:20250217T040501Z
UID:10000741-1742637600-1742641200@neta65.org
SUMMARY:NETA65 CPC Committee Monthly Meeting
DESCRIPTION:Monthly CPC Committee meeting:\n3rd Saturday of the month at 10am via zoom\n\nJoin Zoom Meeting or select Link:\nMeeting ID: 564 920 3162\nPasscode: 328586
URL:https://neta65.org/event/cpc-committee-meeting-26-2/
LOCATION:https://zoom.us/j/5649203162?pwd=BnHqr4dGgH32hHyod7aG6lhIcZ1D2H.1&omn=98908871665
END:VEVENT
BEGIN:VEVENT
DTSTART;TZID=America/Chicago:20250319T200000
DTEND;TZID=America/Chicago:20250319T210000
DTSTAMP:20260423T110603
CREATED:20231008T215318Z
LAST-MODIFIED:20250825T194356Z
UID:10000250-1742414400-1742418000@neta65.org
SUMMARY:Corrections Committee Meeting
DESCRIPTION:
URL:https://neta65.org/event/corrections-committee-meeting-24-09/2025-03-19/
LOCATION:Virtual Meeting via Zoom
CATEGORIES:Committee Meeting,Corrections
ATTACH;FMTTYPE=image/png:https://neta65.org/wp-content/uploads/2023/10/2023-10-CORRECTIONS-COMMITTEE.png
END:VEVENT
BEGIN:VEVENT
DTSTART;TZID=America/Chicago:20250317T193000
DTEND;TZID=America/Chicago:20250317T203000
DTSTAMP:20260423T110603
CREATED:20240408T005110Z
LAST-MODIFIED:20250825T194210Z
UID:10000982-1742239800-1742243400@neta65.org
SUMMARY:NETA65 PI Committee Monthly Meeting
DESCRIPTION:Join the PI Committee Meeting the 3rd Monday each month to share and get the lates information for area AA public information methods\, events\, and opportunities. \nMeeting ID: 889 7249 5179 \nPasscode: 089098
URL:https://neta65.org/event/pi-committee-meeting-29/2025-03-17/
LOCATION:TX
CATEGORIES:Committee Meeting,PI
ATTACH;FMTTYPE=image/jpeg:https://neta65.org/wp-content/uploads/2024/04/PI-Carry-the-Message.jpg
END:VEVENT
BEGIN:VEVENT
DTSTART;TZID=America/Chicago:20250317T190000
DTEND;TZID=America/Chicago:20250317T203000
DTSTAMP:20260423T110603
CREATED:20250118T033830Z
LAST-MODIFIED:20250825T193924Z
UID:10000840-1742238000-1742243400@neta65.org
SUMMARY:PI Committee Meeting English
DESCRIPTION:English speaking zoom.\n\n\n\n\n\nNETA 65 PI Monthly Meeting\nJan 20\, 2025 07:00 PM Central Time (US and Canada)\nEvery month on the Third Mon\, until Dec 21\, 2026\, 24\nMeeting ID 854 4188 3616\nPasscode 329611
URL:https://neta65.org/event/pi-committee-meeting-english/2025-03-17/
LOCATION:https://us02web.zoom.us/j/85441883616?pwd=b97JBlxexLlccgpyjAovNLCZ2HQgu7.1
CATEGORIES:Committee Meeting
END:VEVENT
BEGIN:VEVENT
DTSTART;TZID=America/Chicago:20250314T170000
DTEND;TZID=America/Chicago:20250316T123000
DTSTAMP:20260423T110603
CREATED:20241231T160058Z
LAST-MODIFIED:20250315T170952Z
UID:10000806-1741971600-1742128200@neta65.org
SUMMARY:2025 Spring Area Assembly
DESCRIPTION:Please join us for our Spring 2025. We will need your involvement in mock committees to help represent NETA65 wants for the upcoming 2025 General Service Conference! This helps keep our conference Delegate representative informed of the Area’s desires. \n\nHotel rooms at group rate available until Feb 21\, 2025 – NETA65 Booking link\nAgenda\nCommittee Reports\nZoom Info:\n\nLink to join\nMeeting ID: 893 3819 1860\nPasscode: 677962\n\n\nRegister for the assembly\n\nNote: Committee assignments will be sent out on March 8th!
URL:https://neta65.org/event/neta65-2025-spring-assembly/
LOCATION:Fairfield Inn & Suites\, 5909 Stone Creek Drive\, The Colony\, 75056\, United States
CATEGORIES:Assembly and ACM
ATTACH;FMTTYPE=image/png:https://neta65.org/wp-content/uploads/2024/12/2025-Spring-Assembly-Flyer.png
END:VEVENT
BEGIN:VEVENT
DTSTART;TZID=America/Chicago:20250303T193000
DTEND;TZID=America/Chicago:20250303T203000
DTSTAMP:20260423T110603
CREATED:20250118T034921Z
LAST-MODIFIED:20250219T015811Z
UID:10000964-1741030200-1741033800@neta65.org
SUMMARY:Area 65 Comite de Informacion Publica
DESCRIPTION:-Spanish speaking zoom. \n\n\nArea 65 Comite de Informacion Publica07:30 PM Central Time (US and Canada)\nEvery month on the First Monday \n\nMeeting ID 839 3461 0982\n\nPasscode 623357
URL:https://neta65.org/event/area-65-comite-de-informacion-publica/2025-03-03/
LOCATION:https://us02web.zoom.us/j/83934610982?pwd=4WiQeNFG1kFZL71b94cENNHiNFEv39.1
END:VEVENT
BEGIN:VEVENT
DTSTART;TZID=America/Chicago:20250301T130000
DTEND;TZID=America/Chicago:20250301T150000
DTSTAMP:20260423T110603
CREATED:20250130T221521Z
LAST-MODIFIED:20250216T201725Z
UID:10000866-1740834000-1740841200@neta65.org
SUMMARY:Conference Connect - Orientation/Training
DESCRIPTION:Orientation/Training: Mock Committee Chairs / Co-Chairs / Scribes – Flyer ENG | Esp\nWorking in concert with the Delegate\, the Alternate Delegate will have oversight of a Spring\nAssembly mock committee training program. This pre‐Assembly training for trusted servants selected by the Delegate to serve as mock committee Chairs\, Co‐Chairs\, and Scribes\, is designed to review expectations for their service prior to and during the mock committees at the Assembly.\nAttendance is strongly suggested for trusted servants asked to lead and execute these mock committees so the Area may deliver a consistent mock committee experience for all attendees.
URL:https://neta65.org/event/conference-connect-orientation-training/
LOCATION:
CATEGORIES:Delegate Report
ATTACH;FMTTYPE=image/png:https://neta65.org/wp-content/uploads/2025/02/Conference-Connect-2025-2.png
ORGANIZER;CN="Delegate":MAILTO:delegate@neta65.org
END:VEVENT
BEGIN:VEVENT
DTSTART;TZID=America/Chicago:20250301T120000
DTEND;TZID=America/Chicago:20250301T130000
DTSTAMP:20260423T110603
CREATED:20250218T152122Z
LAST-MODIFIED:20250218T153619Z
UID:10000958-1740830400-1740834000@neta65.org
SUMMARY:Accessibilities Quarterly Speaker
DESCRIPTION:You are invited to join NETA65 Accessibility 1st Quarterly Speaker Meeting! \nWe are honored to hear from Glenn R. Sobriety 5-14-2017\, from South Macomb Group in Detroit MI\,\nwho will be speaking on his accessibility to the 3-sides of our Triangle: Recovery (AA Steps)\, Unity (Meetings) and Service (Service Work) during his paraplegic incident! \nEvent Flyer with Zoom info
URL:https://neta65.org/event/accessibilities-quarterly-speaker/
LOCATION:TX
ATTACH;FMTTYPE=image/png:https://neta65.org/wp-content/uploads/2025/02/Flyer-Neta65-Accessibilities-Speaker-2025-03-01.png
END:VEVENT
BEGIN:VEVENT
DTSTART;TZID=America/Chicago:20250301T100000
DTEND;TZID=America/Chicago:20250301T113000
DTSTAMP:20260423T110603
CREATED:20250130T221150Z
LAST-MODIFIED:20250223T164504Z
UID:10000865-1740823200-1740828600@neta65.org
SUMMARY:Conference Connect - BootCamp 1
DESCRIPTION:BootCamp 1: Mock Committees Flyer\nThe Delegate will host a Mock Committee BootCamp orientation/training once each year in Panel 75 just before the Spring Assembly to help all Assembly attendees understand and prepare for their participation in the Mock Committee Process at the spring Assembly.
URL:https://neta65.org/event/conference-connect-bootcamp-1/
LOCATION:
CATEGORIES:Delegate Report
ATTACH;FMTTYPE=image/png:https://neta65.org/wp-content/uploads/2025/02/Conference-Connect-2025-2.png
ORGANIZER;CN="Delegate":MAILTO:delegate@neta65.org
END:VEVENT
END:VCALENDAR