BEGIN:VCALENDAR
VERSION:2.0
PRODID:-// - ECPv6.15.20//NONSGML v1.0//EN
CALSCALE:GREGORIAN
METHOD:PUBLISH
X-ORIGINAL-URL:https://neta65.org
X-WR-CALDESC:Events for 
REFRESH-INTERVAL;VALUE=DURATION:PT1H
X-Robots-Tag:noindex
X-PUBLISHED-TTL:PT1H
BEGIN:VTIMEZONE
TZID:America/Chicago
BEGIN:DAYLIGHT
TZOFFSETFROM:-0600
TZOFFSETTO:-0500
TZNAME:CDT
DTSTART:20240310T080000
END:DAYLIGHT
BEGIN:STANDARD
TZOFFSETFROM:-0500
TZOFFSETTO:-0600
TZNAME:CST
DTSTART:20241103T070000
END:STANDARD
BEGIN:DAYLIGHT
TZOFFSETFROM:-0600
TZOFFSETTO:-0500
TZNAME:CDT
DTSTART:20250309T080000
END:DAYLIGHT
BEGIN:STANDARD
TZOFFSETFROM:-0500
TZOFFSETTO:-0600
TZNAME:CST
DTSTART:20251102T070000
END:STANDARD
BEGIN:DAYLIGHT
TZOFFSETFROM:-0600
TZOFFSETTO:-0500
TZNAME:CDT
DTSTART:20260308T080000
END:DAYLIGHT
BEGIN:STANDARD
TZOFFSETFROM:-0500
TZOFFSETTO:-0600
TZNAME:CST
DTSTART:20261101T070000
END:STANDARD
END:VTIMEZONE
BEGIN:VEVENT
DTSTART;TZID=America/Chicago:20251018T110000
DTEND;TZID=America/Chicago:20251018T150000
DTSTAMP:20260423T040304
CREATED:20250917T175300Z
LAST-MODIFIED:20250917T175300Z
UID:10001260-1760785200-1760799600@neta65.org
SUMMARY:District 41 Annual Picnic
DESCRIPTION:
URL:https://neta65.org/event/district-41-annual-picnic/
LOCATION:TX
ATTACH;FMTTYPE=image/png:https://neta65.org/wp-content/uploads/2025/09/2025-picnic-flyer-dist-41-1.png
END:VEVENT
BEGIN:VEVENT
DTSTART;TZID=America/Chicago:20251015T200000
DTEND;TZID=America/Chicago:20251015T210000
DTSTAMP:20260423T040304
CREATED:20231008T215318Z
LAST-MODIFIED:20250825T194356Z
UID:10000257-1760558400-1760562000@neta65.org
SUMMARY:Corrections Committee Meeting
DESCRIPTION:
URL:https://neta65.org/event/corrections-committee-meeting-24-09/2025-10-15/
LOCATION:Virtual Meeting via Zoom
CATEGORIES:Committee Meeting,Corrections
ATTACH;FMTTYPE=image/png:https://neta65.org/wp-content/uploads/2023/10/2023-10-CORRECTIONS-COMMITTEE.png
END:VEVENT
BEGIN:VEVENT
DTSTART;TZID=America/Chicago:20251015T190000
DTEND;TZID=America/Chicago:20251015T200000
DTSTAMP:20260423T040304
CREATED:20230919T022750Z
LAST-MODIFIED:20260120T155356Z
UID:10000375-1760554800-1760558400@neta65.org
SUMMARY:AA Grapevine / La Viña Committee Meeting
DESCRIPTION:3rd Wednesday of every Month 7pm – 8pm \nZoom Info:\nID 949 476 7497\nPasscode neta65
URL:https://neta65.org/event/aa-grapevine-la-vina-committee-meeting-2024-09/2025-10-15/
LOCATION:Virtual Meeting via Zoom
CATEGORIES:Committee Meeting,Grapevine-LaViña
ATTACH;FMTTYPE=image/png:https://neta65.org/wp-content/uploads/2023/09/GV-LV_Committee_Meeting.png
END:VEVENT
BEGIN:VEVENT
DTSTART;TZID=America/Chicago:20251012T130000
DTEND;TZID=America/Chicago:20251012T170000
DTSTAMP:20260423T040304
CREATED:20250205T024858Z
LAST-MODIFIED:20251012T182237Z
UID:10000878-1760274000-1760288400@neta65.org
SUMMARY:2025 Fall Area Committee Meeting (ACM)
DESCRIPTION:2025 Fall Area Committee Meeting – ACM\nOct 12 | 1:00 – 5:00\nGroup 1 Wichita Falls\n5200 Old Jacksboro Hwy\nWichita Falls\, TX 76302\nZoom Link: Meeting ID: 869 2539 5524\nPasscode: 661196 \nAgenda \nCommittee Reports
URL:https://neta65.org/event/2025-fall-acm/
LOCATION:Group 1\, 5200 Old Jacksboro Hwy\, Wichita Falls\, TX\, 76302\, United States
CATEGORIES:Assembly and ACM
END:VEVENT
BEGIN:VEVENT
DTSTART;VALUE=DATE:20251010
DTEND;VALUE=DATE:20251012
DTSTAMP:20260423T040304
CREATED:20250629T145728Z
LAST-MODIFIED:20250629T154723Z
UID:10001186-1760054400-1760227199@neta65.org
SUMMARY:40th Heart of Texas Conference
DESCRIPTION:Experience the fellowship in full glory at the 40th annual Heart of Texas Conference!\n\n\nhttps://heartoftexasconference.com \n  \nHeart of Texas Conference Registration\n\n\nDon’t miss out on the Heart of Texas Conference! Register now\, pay your registration fee online\, and skip the money exchange hassle at the door! \n\n\nRegister & Pay ($25)\n\nLocation:\nCrestview Church of Christ\n129 Delhi Road\, Waco\, TX 76712 \n\nHeart of Texas Conference Registration\n\n\nDon’t miss out on the Heart of Texas Conference! Register now\, pay your registration fee online\, and skip the money exchange hassle at the door! \n\n\nRegister & Pay
URL:https://neta65.org/event/40th-heart-of-texas-conference/
LOCATION:Crestview Church of Christ\, 129 Delhi Road\, Waco\, TX\, 76712\, United States
ATTACH;FMTTYPE=image/webp:https://neta65.org/wp-content/uploads/2025/06/rsw_1280h_1707.webp
END:VEVENT
BEGIN:VEVENT
DTSTART;TZID=America/Chicago:20251006T193000
DTEND;TZID=America/Chicago:20251006T203000
DTSTAMP:20260423T040304
CREATED:20250328T140211Z
LAST-MODIFIED:20250825T193757Z
UID:10000971-1759779000-1759782600@neta65.org
SUMMARY:Area 65 Public Information Committee - Spanish
DESCRIPTION:-Spanish speaking zoom. \n\n\nArea 65 Comite de Informacion Publica07:30 PM Central Time (US and Canada)\nEvery month on the First Monday \n\nMeeting ID 839 3461 0982\n\nPasscode 623357
URL:https://neta65.org/event/area-65-comite-de-informacion-publica-2/2025-10-06/
LOCATION:https://us02web.zoom.us/j/83934610982?pwd=4WiQeNFG1kFZL71b94cENNHiNFEv39.1
END:VEVENT
BEGIN:VEVENT
DTSTART;TZID=America/Chicago:20251004T190000
DTEND;TZID=America/Chicago:20251004T210000
DTSTAMP:20260423T040304
CREATED:20250904T172754Z
LAST-MODIFIED:20250904T173008Z
UID:10001259-1759604400-1759611600@neta65.org
SUMMARY:La Vina - Workshop
DESCRIPTION:  \nGrupo Hay Una Solucion\n1507 S Vine St\, Tyler Texas
URL:https://neta65.org/event/20424/
LOCATION:TX
ATTACH;FMTTYPE=image/png:https://neta65.org/wp-content/uploads/2025/09/La-Vina-10-4-Workshop.png
END:VEVENT
BEGIN:VEVENT
DTSTART;TZID=America/Chicago:20251004T120000
DTEND;TZID=America/Chicago:20251004T130000
DTSTAMP:20260423T040304
CREATED:20240906T180328Z
LAST-MODIFIED:20250825T194114Z
UID:10000434-1759579200-1759582800@neta65.org
SUMMARY:NETA65 Accessibilities  Zoom Monthly Meeting
DESCRIPTION:1st Saturday each month \nZoom: 831 7605 2625 \nPswd: 205058
URL:https://neta65.org/event/neta65accessibilities-zoom-monthly-meeting/2025-10-04/
LOCATION:
ATTACH;FMTTYPE=image/png:https://neta65.org/wp-content/uploads/2025/02/image.png
END:VEVENT
BEGIN:VEVENT
DTSTART;TZID=America/Chicago:20250929T193000
DTEND;TZID=America/Chicago:20250929T203000
DTSTAMP:20260423T040304
CREATED:20250220T153829Z
LAST-MODIFIED:20250825T193403Z
UID:10001079-1759174200-1759177800@neta65.org
SUMMARY:NETA 65 Literature Committee Meeting
DESCRIPTION:Hi all\, we are having our committee meetings via zoom the last Monday of every month at 7:30-8:30ish. You are welcome to attend and look forward to your participation.\nMeeting ID: 861 921 5560\nPass: 881561
URL:https://neta65.org/event/neta-65-literature-committee-meeting-2/2025-09-29/
LOCATION:
CATEGORIES:Committee Meeting
END:VEVENT
BEGIN:VEVENT
DTSTART;TZID=America/Chicago:20250928T190000
DTEND;TZID=America/Chicago:20250928T210000
DTSTAMP:20260423T040304
CREATED:20250918T204947Z
LAST-MODIFIED:20250918T205011Z
UID:10001261-1759086000-1759093200@neta65.org
SUMMARY:La Vina Workshop
DESCRIPTION:
URL:https://neta65.org/event/la-vina-workshop-2/
LOCATION:Groupo Neuva Dia\, 302 S Mill St\, Cleburne\, TX\, 76033\, United States
ATTACH;FMTTYPE=image/png:https://neta65.org/wp-content/uploads/2025/09/La-vina-9-28.png
END:VEVENT
BEGIN:VEVENT
DTSTART;TZID=America/Chicago:20250927T200000
DTEND;TZID=America/Chicago:20250927T220000
DTSTAMP:20260423T040304
CREATED:20250818T171350Z
LAST-MODIFIED:20250904T172313Z
UID:10001257-1759003200-1759010400@neta65.org
SUMMARY:La Vina Workshop
DESCRIPTION:We have a LV writing workshop in Spanish on Saturday \, September 27 .\nGrupo último Vagon\nDistrict 86\n7-9pm\n\n2505 Oak Grove Pkwy\nOak Grove\, TX 76068\nLittle Elm
URL:https://neta65.org/event/la-vina-workshop/
LOCATION:Grupo Hay Una Solucion\, 1507 South Vine St\, Tyler\, Texas\, 75701\, United States
ATTACH;FMTTYPE=image/png:https://neta65.org/wp-content/uploads/2025/08/Lavina-9-27-Workshop.png
END:VEVENT
BEGIN:VEVENT
DTSTART;TZID=America/Chicago:20250927T190000
DTEND;TZID=America/Chicago:20250927T210000
DTSTAMP:20260423T040304
CREATED:20250918T205347Z
LAST-MODIFIED:20250918T205436Z
UID:10001262-1758999600-1759006800@neta65.org
SUMMARY:Grapevine La Vina Monthly Meeting
DESCRIPTION:Hello GV/LV reps and all Grapevine and La Vina enthusiasts!  \nWe want to invite you to join our monthly committee meeting. \nThis Wednesday\, September 17 @ 7 pm.\nAgenda:\n \n\n\nIntroductions\n\n\nGV and LV September Magazines: Gratitude / Amor al Servicio\n\n\nMembers from Area 65 published in the September Magazines\n\n\nEditorial Calendar 2026\n\n\nEvents\n\n\nGV/LV Subscriptions\n\n\nGrapevine Workbook\n\n\nGV/LV District Reps Sharing Session\n\n\nGV/LV Group Reps Sharing Session\n\n\nQ&A\n\n\n\n\n\nZoom Info:\nID 949 476 7497\nPasscode neta65
URL:https://neta65.org/event/grapevine-la-vina-monthly-meeting/
LOCATION:https://us02web.zoom.us/j/9494767497?pwd=ZnlwNkxaRysxd3BJNUNRcWZsV3RNdz09
END:VEVENT
BEGIN:VEVENT
DTSTART;TZID=America/Chicago:20250923T190000
DTEND;TZID=America/Chicago:20250923T200000
DTSTAMP:20260423T040304
CREATED:20241010T145049Z
LAST-MODIFIED:20250825T193635Z
UID:10000567-1758654000-1758657600@neta65.org
SUMMARY:Treatment Committee Meeting
DESCRIPTION:NETA 65 Treatment Committee Meetings\n4th TUESDAY OF EVERY MONTH\n7:00 PM \nJoin Zoom Meeting\nhttps://us02web.zoom.us/j/2123241524?pwd=TWFhaVhOUjd1Rk5uL3hJVXhtOWlKUT09 \nMeeting ID: 212 324 1524\nPasscode: 057892
URL:https://neta65.org/event/treatment-committee-meeting-03-2023-2/2025-09-23/
LOCATION:Virtual Meeting via Zoom
CATEGORIES:Committee Meeting,Treatment Committee Meeting
ATTACH;FMTTYPE=image/png:https://neta65.org/wp-content/uploads/2023/07/2023-07_TREATMENT-COMMITTEE.png
END:VEVENT
BEGIN:VEVENT
DTSTART;TZID=America/Chicago:20250923T180000
DTEND;TZID=America/Chicago:20250923T183000
DTSTAMP:20260423T040304
CREATED:20250221T224856Z
LAST-MODIFIED:20250825T193521Z
UID:10001069-1758650400-1758652200@neta65.org
SUMMARY:Technology Sharing Session
DESCRIPTION:2025 is our 2nd year hosting Tech Sharing Sessions which sprung from A.A. members who attended the NAATW. Shout out to Jacob E! \nOur primary purpose is to share and communicate information on how technology is enhancing our ability to carry the A.A. message of hope in our Area’s\, Districts\, and Groups.
URL:https://neta65.org/event/technology-sharing-session/2025-09-23/
LOCATION:https://us02web.zoom.us/j/9147699066?pwd=lnzJNQrY6hGJMYKbS0cZrUobFBrLWs.1&omn=81517809591
CATEGORIES:Technology
ATTACH;FMTTYPE=image/png:https://neta65.org/wp-content/uploads/2025/02/25-TSSFlyer21-3-1.png
END:VEVENT
BEGIN:VEVENT
DTSTART;TZID=America/Chicago:20250920T153000
DTEND;TZID=America/Chicago:20250920T170000
DTSTAMP:20260423T040304
CREATED:20250827T213259Z
LAST-MODIFIED:20250827T213259Z
UID:10001258-1758382200-1758387600@neta65.org
SUMMARY:Assembly GV/LaVina Workshop
DESCRIPTION:
URL:https://neta65.org/event/assembly-gv-lavina-workshop/
LOCATION:TX
ATTACH;FMTTYPE=image/png:https://neta65.org/wp-content/uploads/2025/08/GV-LaVina-Assembly-2025.png
END:VEVENT
BEGIN:VEVENT
DTSTART;TZID=America/Chicago:20250920T150000
DTEND;TZID=America/Chicago:20250920T170000
DTSTAMP:20260423T040304
CREATED:20250714T191422Z
LAST-MODIFIED:20250714T191825Z
UID:10001195-1758380400-1758387600@neta65.org
SUMMARY:PI Workshop
DESCRIPTION:
URL:https://neta65.org/event/pi-workshop-2/
LOCATION:Texarkana Intergroup\, 2013 S Ann St\, Texarkana\, TX\, United States
CATEGORIES:Workshop
ATTACH;FMTTYPE=image/png:https://neta65.org/wp-content/uploads/2025/07/PI-Workshop-Texarkana.png
END:VEVENT
BEGIN:VEVENT
DTSTART;TZID=America/Chicago:20250920T080000
DTEND;TZID=America/Chicago:20250920T080000
DTSTAMP:20260423T040304
CREATED:20250205T024042Z
LAST-MODIFIED:20250904T171135Z
UID:10000877-1758355200-1758355200@neta65.org
SUMMARY:2025 Fall Area Assembly
DESCRIPTION:Fall Assembly |September 20\nSpringhill Suites Denton\n1434 Centre Place\, Denton\, TX\nPre-Registration \nZoom Info:\nMeeting ID: 871 3146 9644\nPasscode: 817759 \nThis year’s Fall Assembly will be a one-day event! \nFull agenda and hotel info to come as event approaches.\n2026 Proposed Budget\nAgenda\nCommittee Reports \nBook your group rate for NETA65  Deadline for special rate is 8/19/25\n\nSpecial room rates from 119.00 USD – 129.00 USD per night are available both Friday (19th) and Saturday (20th) for anyone from out of town that needs to stay both nights. \nPlease book your room early. If the room block is full\, please can contact Jenny L. at convention@neta65.org so she can add more rooms to the block. If it gets close to the deadline\, she may not be able to add them. 
URL:https://neta65.org/event/2025-fall-assembly/
LOCATION:Springhill Suites Denton\, 1434 Centre Place\, Denton\, TX\, United States
CATEGORIES:Assembly and ACM
END:VEVENT
BEGIN:VEVENT
DTSTART;TZID=America/Chicago:20250917T200000
DTEND;TZID=America/Chicago:20250917T210000
DTSTAMP:20260423T040304
CREATED:20231008T215318Z
LAST-MODIFIED:20250825T194356Z
UID:10000256-1758139200-1758142800@neta65.org
SUMMARY:Corrections Committee Meeting
DESCRIPTION:
URL:https://neta65.org/event/corrections-committee-meeting-24-09/2025-09-17/
LOCATION:Virtual Meeting via Zoom
CATEGORIES:Committee Meeting,Corrections
ATTACH;FMTTYPE=image/png:https://neta65.org/wp-content/uploads/2023/10/2023-10-CORRECTIONS-COMMITTEE.png
END:VEVENT
BEGIN:VEVENT
DTSTART;TZID=America/Chicago:20250917T190000
DTEND;TZID=America/Chicago:20250917T200000
DTSTAMP:20260423T040304
CREATED:20230919T022750Z
LAST-MODIFIED:20260120T155356Z
UID:10000374-1758135600-1758139200@neta65.org
SUMMARY:AA Grapevine / La Viña Committee Meeting
DESCRIPTION:3rd Wednesday of every Month 7pm – 8pm \nZoom Info:\nID 949 476 7497\nPasscode neta65
URL:https://neta65.org/event/aa-grapevine-la-vina-committee-meeting-2024-09/2025-09-17/
LOCATION:Virtual Meeting via Zoom
CATEGORIES:Committee Meeting,Grapevine-LaViña
ATTACH;FMTTYPE=image/png:https://neta65.org/wp-content/uploads/2023/09/GV-LV_Committee_Meeting.png
END:VEVENT
BEGIN:VEVENT
DTSTART;TZID=America/Chicago:20250915T193000
DTEND;TZID=America/Chicago:20250915T203000
DTSTAMP:20260423T040304
CREATED:20240408T005110Z
LAST-MODIFIED:20250825T194210Z
UID:10000988-1757964600-1757968200@neta65.org
SUMMARY:NETA65 PI Committee Monthly Meeting
DESCRIPTION:Join the PI Committee Meeting the 3rd Monday each month to share and get the lates information for area AA public information methods\, events\, and opportunities. \nMeeting ID: 889 7249 5179 \nPasscode: 089098
URL:https://neta65.org/event/pi-committee-meeting-29/2025-09-15/
LOCATION:TX
CATEGORIES:Committee Meeting,PI
ATTACH;FMTTYPE=image/jpeg:https://neta65.org/wp-content/uploads/2024/04/PI-Carry-the-Message.jpg
END:VEVENT
BEGIN:VEVENT
DTSTART;TZID=America/Chicago:20250915T190000
DTEND;TZID=America/Chicago:20250915T203000
DTSTAMP:20260423T040304
CREATED:20250118T033830Z
LAST-MODIFIED:20250825T193924Z
UID:10000846-1757962800-1757968200@neta65.org
SUMMARY:PI Committee Meeting English
DESCRIPTION:English speaking zoom.\n\n\n\n\n\nNETA 65 PI Monthly Meeting\nJan 20\, 2025 07:00 PM Central Time (US and Canada)\nEvery month on the Third Mon\, until Dec 21\, 2026\, 24\nMeeting ID 854 4188 3616\nPasscode 329611
URL:https://neta65.org/event/pi-committee-meeting-english/2025-09-15/
LOCATION:https://us02web.zoom.us/j/85441883616?pwd=b97JBlxexLlccgpyjAovNLCZ2HQgu7.1
CATEGORIES:Committee Meeting
END:VEVENT
BEGIN:VEVENT
DTSTART;TZID=America/Chicago:20250906T120000
DTEND;TZID=America/Chicago:20250906T130000
DTSTAMP:20260423T040304
CREATED:20240906T180328Z
LAST-MODIFIED:20250825T194114Z
UID:10000433-1757160000-1757163600@neta65.org
SUMMARY:NETA65 Accessibilities  Zoom Monthly Meeting
DESCRIPTION:1st Saturday each month \nZoom: 831 7605 2625 \nPswd: 205058
URL:https://neta65.org/event/neta65accessibilities-zoom-monthly-meeting/2025-09-06/
LOCATION:
ATTACH;FMTTYPE=image/png:https://neta65.org/wp-content/uploads/2025/02/image.png
END:VEVENT
BEGIN:VEVENT
DTSTART;TZID=America/Chicago:20250901T193000
DTEND;TZID=America/Chicago:20250901T203000
DTSTAMP:20260423T040304
CREATED:20250328T140211Z
LAST-MODIFIED:20250825T193757Z
UID:10000970-1756755000-1756758600@neta65.org
SUMMARY:Area 65 Public Information Committee - Spanish
DESCRIPTION:-Spanish speaking zoom. \n\n\nArea 65 Comite de Informacion Publica07:30 PM Central Time (US and Canada)\nEvery month on the First Monday \n\nMeeting ID 839 3461 0982\n\nPasscode 623357
URL:https://neta65.org/event/area-65-comite-de-informacion-publica-2/2025-09-01/
LOCATION:https://us02web.zoom.us/j/83934610982?pwd=4WiQeNFG1kFZL71b94cENNHiNFEv39.1
END:VEVENT
BEGIN:VEVENT
DTSTART;TZID=America/Chicago:20250829T170000
DTEND;TZID=America/Chicago:20250831T120000
DTSTAMP:20260423T040304
CREATED:20250716T143638Z
LAST-MODIFIED:20250716T143638Z
UID:10001197-1756486800-1756641600@neta65.org
SUMMARY:Big Country AA Conference
DESCRIPTION:
URL:https://neta65.org/event/big-country-aa-conference/
LOCATION:TX
CATEGORIES:Area Supported - Other
ATTACH;FMTTYPE=image/png:https://neta65.org/wp-content/uploads/2025/07/Big-Country-AA-Conference.png
END:VEVENT
BEGIN:VEVENT
DTSTART;TZID=America/Chicago:20250826T190000
DTEND;TZID=America/Chicago:20250826T200000
DTSTAMP:20260423T040304
CREATED:20241010T145049Z
LAST-MODIFIED:20250825T193635Z
UID:10000566-1756234800-1756238400@neta65.org
SUMMARY:Treatment Committee Meeting
DESCRIPTION:NETA 65 Treatment Committee Meetings\n4th TUESDAY OF EVERY MONTH\n7:00 PM \nJoin Zoom Meeting\nhttps://us02web.zoom.us/j/2123241524?pwd=TWFhaVhOUjd1Rk5uL3hJVXhtOWlKUT09 \nMeeting ID: 212 324 1524\nPasscode: 057892
URL:https://neta65.org/event/treatment-committee-meeting-03-2023-2/2025-08-26/
LOCATION:Virtual Meeting via Zoom
CATEGORIES:Committee Meeting,Treatment Committee Meeting
ATTACH;FMTTYPE=image/png:https://neta65.org/wp-content/uploads/2023/07/2023-07_TREATMENT-COMMITTEE.png
END:VEVENT
BEGIN:VEVENT
DTSTART;TZID=America/Chicago:20250826T180000
DTEND;TZID=America/Chicago:20250826T183000
DTSTAMP:20260423T040304
CREATED:20250221T224856Z
LAST-MODIFIED:20250825T193521Z
UID:10001068-1756231200-1756233000@neta65.org
SUMMARY:Technology Sharing Session
DESCRIPTION:2025 is our 2nd year hosting Tech Sharing Sessions which sprung from A.A. members who attended the NAATW. Shout out to Jacob E! \nOur primary purpose is to share and communicate information on how technology is enhancing our ability to carry the A.A. message of hope in our Area’s\, Districts\, and Groups.
URL:https://neta65.org/event/technology-sharing-session/2025-08-26/
LOCATION:https://us02web.zoom.us/j/9147699066?pwd=lnzJNQrY6hGJMYKbS0cZrUobFBrLWs.1&omn=81517809591
CATEGORIES:Technology
ATTACH;FMTTYPE=image/png:https://neta65.org/wp-content/uploads/2025/02/25-TSSFlyer21-3-1.png
END:VEVENT
BEGIN:VEVENT
DTSTART;TZID=America/Chicago:20250825T193000
DTEND;TZID=America/Chicago:20250825T203000
DTSTAMP:20260423T040304
CREATED:20250220T153829Z
LAST-MODIFIED:20250825T193403Z
UID:10001088-1756150200-1756153800@neta65.org
SUMMARY:NETA 65 Literature Committee Meeting
DESCRIPTION:Hi all\, we are having our committee meetings via zoom the last Monday of every month at 7:30-8:30ish. You are welcome to attend and look forward to your participation.\nMeeting ID: 861 921 5560\nPass: 881561
URL:https://neta65.org/event/neta-65-literature-committee-meeting-2/2025-08-25/
LOCATION:
CATEGORIES:Committee Meeting
END:VEVENT
BEGIN:VEVENT
DTSTART;TZID=America/Chicago:20250823T130000
DTEND;TZID=America/Chicago:20250823T150000
DTSTAMP:20260423T040304
CREATED:20250714T191134Z
LAST-MODIFIED:20250714T191134Z
UID:10001194-1755954000-1755961200@neta65.org
SUMMARY:PI Workshop
DESCRIPTION:
URL:https://neta65.org/event/pi-workshop/
LOCATION:Longview – Greggton Group\, 4614 W Loop 281\, Longview\, TX\, 75604\, United States
CATEGORIES:Workshop
ATTACH;FMTTYPE=image/png:https://neta65.org/wp-content/uploads/2025/07/PI-Workshop-Greggton-Longview.png
END:VEVENT
BEGIN:VEVENT
DTSTART;VALUE=DATE:20250822
DTEND;VALUE=DATE:20250825
DTSTAMP:20260423T040304
CREATED:20250629T144227Z
LAST-MODIFIED:20250629T154803Z
UID:10001185-1755820800-1756079999@neta65.org
SUMMARY:Capital of Texas Conference
DESCRIPTION:Join Us for the 2025 Capital of Texas Conference!\nMark your calendars for an unforgettable weekend with the Capital of Texas Conference! This uplifting event brings together a community of recovery with inspiring speakers\, warm hospitality\, a fun-filled ice cream social\, and a special performance of Wicked: The Boozicle—a creative\, musical take on the recovery journey that you won’t want to miss! Join us in Austin for powerful messages\, meaningful connection\, and plenty of laughter. Recovery never looked so good!  \nEvent Details\n\n\nWebsite: https://www.capitaloftexasconference.org \n\n\nDate: August 22-24\, 2025 \n\nRegistration cost: $35\n\nLocation: Holiday Inn Austin Midtown \n\n\nHighlights\n\n\nSpeakers \n\n\nWorkshops \n\n\nFellowship \n\n\nWicked: The Boozicle \n\n\nAccommodations\nThe best way to get the most out of the conference is to stay in the hotel so you don’t have to fight traffic!  \nClick here to take advantage of discounts offered to conference attendees. There is limited availability\, so act fast. \n\n\nFREE breakfast \n\n\nFREE internet \n\n\nFREE parking \n\n\n  \n\n\n\n  \n 
URL:https://neta65.org/event/capital-of-texas-conference/
LOCATION:Holiday Inn Austin Midtown\, 6000 Middle Fiskville Road\, Austin\, TX\, 78752\, United States
ATTACH;FMTTYPE=image/avif:https://neta65.org/wp-content/uploads/2025/06/CTC-Original-Logo_edited.avif
END:VEVENT
BEGIN:VEVENT
DTSTART;VALUE=DATE:20250822
DTEND;VALUE=DATE:20250825
DTSTAMP:20260423T040304
CREATED:20250629T142532Z
LAST-MODIFIED:20250629T154840Z
UID:10001184-1755820800-1756079999@neta65.org
SUMMARY:North Texas Round-Up
DESCRIPTION:North Texas Round-Up –”A Vision for You” |\nAugust 22 – 24\, 2025 | $30.00\nhttps://northtexasroundup.com \nThe 2025 RoundUp will be held at the DoubleTree hotel located at 4099 Valley View Lane\, Dallas\, Texas 75244 the weekend of August 22-24. To reserve a room at the hotel at the discounted rate\, call the hotel at (972) 385-9000 and mention “NTR” when making your reservation for special room rates. You can also reserve a room at the following link: \nHOTEL ROOMS \nLocation – Dallas\, Texas\nDouble Tree by Hilton\n4099 Valley View Lane\, Dallas\, TX 75244\nPh: 972-385-9000 \nFlyer \nRegistration \n 
URL:https://neta65.org/event/north-texas-round-up/
LOCATION:Double Tree by Hilton – Dallas\, 4099 Valley View Lane\, Prosper\, TX\, 75244\, United States
ATTACH;FMTTYPE=image/png:https://neta65.org/wp-content/uploads/2025/06/NTR-.png
END:VEVENT
END:VCALENDAR