BEGIN:VCALENDAR
VERSION:2.0
PRODID:-// - ECPv6.15.20//NONSGML v1.0//EN
CALSCALE:GREGORIAN
METHOD:PUBLISH
X-ORIGINAL-URL:https://neta65.org
X-WR-CALDESC:Events for 
REFRESH-INTERVAL;VALUE=DURATION:PT1H
X-Robots-Tag:noindex
X-PUBLISHED-TTL:PT1H
BEGIN:VTIMEZONE
TZID:America/Chicago
BEGIN:DAYLIGHT
TZOFFSETFROM:-0600
TZOFFSETTO:-0500
TZNAME:CDT
DTSTART:20220313T080000
END:DAYLIGHT
BEGIN:STANDARD
TZOFFSETFROM:-0500
TZOFFSETTO:-0600
TZNAME:CST
DTSTART:20221106T070000
END:STANDARD
BEGIN:DAYLIGHT
TZOFFSETFROM:-0600
TZOFFSETTO:-0500
TZNAME:CDT
DTSTART:20230312T080000
END:DAYLIGHT
BEGIN:STANDARD
TZOFFSETFROM:-0500
TZOFFSETTO:-0600
TZNAME:CST
DTSTART:20231105T070000
END:STANDARD
BEGIN:DAYLIGHT
TZOFFSETFROM:-0600
TZOFFSETTO:-0500
TZNAME:CDT
DTSTART:20240310T080000
END:DAYLIGHT
BEGIN:STANDARD
TZOFFSETFROM:-0500
TZOFFSETTO:-0600
TZNAME:CST
DTSTART:20241103T070000
END:STANDARD
BEGIN:DAYLIGHT
TZOFFSETFROM:-0600
TZOFFSETTO:-0500
TZNAME:CDT
DTSTART:20250309T080000
END:DAYLIGHT
BEGIN:STANDARD
TZOFFSETFROM:-0500
TZOFFSETTO:-0600
TZNAME:CST
DTSTART:20251102T070000
END:STANDARD
END:VTIMEZONE
BEGIN:VEVENT
DTSTART;TZID=America/Chicago:20240427T130000
DTEND;TZID=America/Chicago:20240427T150000
DTSTAMP:20260425T082413
CREATED:20240309T174512Z
LAST-MODIFIED:20240309T175449Z
UID:10000156-1714222800-1714230000@neta65.org
SUMMARY:CPC Training
DESCRIPTION:How to be Friendly with Friends\nIdentify professional groups!\nShare where we are.\nWhat we can and cannot do?\n 
URL:https://neta65.org/event/cpc-training/
LOCATION:SoSo Park/Community Bldg\, 316 Prarie St\, Timpson\, TX\, 75975\, United States
CATEGORIES:CPC Event
ATTACH;FMTTYPE=image/jpeg:https://neta65.org/wp-content/uploads/2024/03/CPC-2024-Friendly-with-friends.jpg
END:VEVENT
BEGIN:VEVENT
DTSTART;TZID=America/Chicago:20240423T190000
DTEND;TZID=America/Chicago:20240423T200000
DTSTAMP:20260425T082413
CREATED:20241010T145049Z
LAST-MODIFIED:20250825T193635Z
UID:10000550-1713898800-1713902400@neta65.org
SUMMARY:Treatment Committee Meeting
DESCRIPTION:NETA 65 Treatment Committee Meetings\n4th TUESDAY OF EVERY MONTH\n7:00 PM \nJoin Zoom Meeting\nhttps://us02web.zoom.us/j/2123241524?pwd=TWFhaVhOUjd1Rk5uL3hJVXhtOWlKUT09 \nMeeting ID: 212 324 1524\nPasscode: 057892
URL:https://neta65.org/event/treatment-committee-meeting-03-2023-2/2024-04-23/
LOCATION:Virtual Meeting via Zoom
CATEGORIES:Committee Meeting,Treatment Committee Meeting
ATTACH;FMTTYPE=image/png:https://neta65.org/wp-content/uploads/2023/07/2023-07_TREATMENT-COMMITTEE.png
END:VEVENT
BEGIN:VEVENT
DTSTART;TZID=America/Chicago:20240421T200000
DTEND;TZID=America/Chicago:20240421T213000
DTSTAMP:20260425T082413
CREATED:20240408T015322Z
LAST-MODIFIED:20240408T155835Z
UID:10000168-1713729600-1713735000@neta65.org
SUMMARY:Taller de Tecnología / Area 65
DESCRIPTION:Zoom ID: 949 476 7497 \nContrasena: neta65
URL:https://neta65.org/event/taller-de-tecnologia-area-65/
LOCATION:Grupo 28\, 235 W Sixth St\, Irving\, TX\, United States
CATEGORIES:Committee Meeting,Technology
ATTACH;FMTTYPE=image/png:https://neta65.org/wp-content/uploads/2024/04/Taller-de-tecnologia.png
END:VEVENT
BEGIN:VEVENT
DTSTART;TZID=America/Chicago:20240408T190000
DTEND;TZID=America/Chicago:20240408T200000
DTSTAMP:20260425T082413
CREATED:20240125T040546Z
LAST-MODIFIED:20240125T041657Z
UID:10000141-1712602800-1712606400@neta65.org
SUMMARY:NETA65 Technology Committee Monthly Meeting
DESCRIPTION:Technology Committee Monthly Meeting \nSecond Mon each month\, until Dec 9\, 2024 \nPlease download and import the following iCalendar (.ics) files to your calendar system.\nMonthly: https://us02web.zoom.us/meeting/tZUtdeCvqj8tGNKLyNz25PitNw-2-ELVMZ5y/ics?icsToken=98tyKuGprjkjHdCRtxuBRpwcAojoXe3wiClajY12sAbLGXIGUgriGPUPYP9aPO79 \nJoin Now Zoom \nMeeting ID: 810 2974 4726\nPasscode: 661771
URL:https://neta65.org/event/neta65-technology-committee-monthly-meeting-duplicate-duplicate/
LOCATION:Virtual Meeting via Zoom
CATEGORIES:Technology
END:VEVENT
BEGIN:VEVENT
DTSTART;TZID=America/Chicago:20240407T133000
DTEND;TZID=America/Chicago:20240407T173000
DTSTAMP:20260425T082413
CREATED:20240317T183855Z
LAST-MODIFIED:20241017T013003Z
UID:10000157-1712496600-1712511000@neta65.org
SUMMARY:2024 Spring Area Committee Meeting (ACM)
DESCRIPTION:Spring ACM hosted by the Waxahachie Group \nMeeting ID 850 1307 8611 \nPswd: 729707 \nHybrid Link
URL:https://neta65.org/event/spring-area-committee-meeting-acm/
LOCATION:Waxahachie Group\, 301 John Arden Dr\, Waxahachie\, TX\, 75165\, United States
CATEGORIES:Assembly and ACM
END:VEVENT
BEGIN:VEVENT
DTSTART;TZID=America/Chicago:20240311T190000
DTEND;TZID=America/Chicago:20240311T200000
DTSTAMP:20260425T082413
CREATED:20240125T040330Z
LAST-MODIFIED:20240125T041641Z
UID:10000140-1710183600-1710187200@neta65.org
SUMMARY:NETA65 Technology Committee Monthly Meeting
DESCRIPTION:Technology Committee Monthly Meeting \nSecond Mon each month\, until Dec 9\, 2024 \nPlease download and import the following iCalendar (.ics) files to your calendar system.\nMonthly: https://us02web.zoom.us/meeting/tZUtdeCvqj8tGNKLyNz25PitNw-2-ELVMZ5y/ics?icsToken=98tyKuGprjkjHdCRtxuBRpwcAojoXe3wiClajY12sAbLGXIGUgriGPUPYP9aPO79 \nJoin Now Zoom \nMeeting ID: 810 2974 4726\nPasscode: 661771
URL:https://neta65.org/event/neta65-technology-committee-monthly-meeting-duplicate/
LOCATION:Virtual Meeting via Zoom
CATEGORIES:Technology
END:VEVENT
BEGIN:VEVENT
DTSTART;TZID=America/Chicago:20240305T190000
DTEND;TZID=America/Chicago:20240305T203000
DTSTAMP:20260425T082413
CREATED:20240108T025631Z
LAST-MODIFIED:20240130T030742Z
UID:10000131-1709665200-1709670600@neta65.org
SUMMARY:Delegate Sharing Session
DESCRIPTION:Online via Zoom\nMeeting ID: 445 571 1924\nPasscode: 051617 \n\nTuesday\, January 23\, 2024\nProposed Agenda Items (PAIs) & Trustee’s Literature Committee Feedback Request\n7:00pm-8:30pm CT \nTuesday\, February 20\, 2024\nFinal Agenda Items (FAIs)\n7:00pm-8:30pm CT \nTuesday\, March 5\, 2024\nSpring Assembly Mock Committees\n7:00pm-8:30pm CT \nTuesday\, May 21\, 2024\nPost Conference Sneak Peek\n7:00pm-8:30pm CT \nTuesday\, August 27\, 2024\nGeneral Questions About the GSC\n7:00pm-8:30pm CT \nTuesday\,  November 19\, 2024\nGeneral Questions About the GSC\n7:00pm-8:30pm CT
URL:https://neta65.org/event/delegate-sharing-session-03-05/
CATEGORIES:Delegate Report
ATTACH;FMTTYPE=image/png:https://neta65.org/wp-content/uploads/2024/01/2024-DelegatesSharing.png
END:VEVENT
BEGIN:VEVENT
DTSTART;TZID=America/Chicago:20240302T133000
DTEND;TZID=America/Chicago:20240302T160000
DTSTAMP:20260425T082413
CREATED:20240210T220150Z
LAST-MODIFIED:20240210T220319Z
UID:10000154-1709386200-1709395200@neta65.org
SUMMARY:Safety & Respect Workshop
DESCRIPTION:Please join us for a NETA65 sponsored  Safety and Respect Workshop \nMeeting will be hybrid. \nZoom ID: 730 520 9906 \nPass: rule62
URL:https://neta65.org/event/safety-respect-workshop-3/
LOCATION:The Glass House\, 6713 Hemsell Place\, Fort Worth\, TX\, 76116\, United States
CATEGORIES:Workshop
ATTACH;FMTTYPE=image/png:https://neta65.org/wp-content/uploads/2024/02/Safety-Respect-Workshop-Glass-House.png
END:VEVENT
BEGIN:VEVENT
DTSTART;TZID=America/Chicago:20240302T133000
DTEND;TZID=America/Chicago:20240302T150000
DTSTAMP:20260425T082413
CREATED:20240223T022441Z
LAST-MODIFIED:20240223T022813Z
UID:10000155-1709386200-1709391600@neta65.org
SUMMARY:AA Grapevine Writing Workshop
DESCRIPTION:
URL:https://neta65.org/event/aa-grapevine-writing-workshop/
LOCATION:Harbor Club\, 3000 W. 5th St\, Fort Worth\, TX\, 76107\, United States
END:VEVENT
BEGIN:VEVENT
DTSTART;TZID=America/Chicago:20240227T180000
DTEND;TZID=America/Chicago:20240227T193000
DTSTAMP:20260425T082413
CREATED:20240124T044803Z
LAST-MODIFIED:20240223T023026Z
UID:10000138-1709056800-1709062200@neta65.org
SUMMARY:Technology Sharing Session - WordPress plugin for 12 Step Meeting List
DESCRIPTION:What: A 1.5 hour sharing session on the Twelve Step Meeting List (TSML) WordPress plugin and the TSML UI. \nFirst Speaker – Emma S\, District 22 (Area 72) Webservant; Emma will share about the basics of setting up the TSML plugin on your website\, managing meeting information through it\, and connecting your website to the Meeting Guide app. \nSecond Speaker – Jacob E\, Area 72 Webservant; Jacob will share about using the TSML UI and a Google Sheet to provide a meeting list and connect to the Meeting Guide app on non-WordPress websites \nThird Speaker – Josh R\, Code for Recovery Contributor; Josh will share a little about what’s new with the TSML projects and what might be coming in the future as well as be available to answer questions. \nWe’ll end with about 30 minutes of time for questions and answers. \n\n\n\n\n\n\nMeeting ID: 876 9307 6500\nPasscode: 709533 \nOne tap mobile+12532050468\,87693076500#\,*709533# US
URL:https://neta65.org/event/technology-sharing-session-website-creation/
CATEGORIES:Workshop
END:VEVENT
BEGIN:VEVENT
DTSTART;TZID=America/Chicago:20240225T133000
DTEND;TZID=America/Chicago:20240225T180000
DTSTAMP:20260425T082413
CREATED:20240122T020421Z
LAST-MODIFIED:20240122T020421Z
UID:10000136-1708867800-1708884000@neta65.org
SUMMARY:NETA65 Inventory - Hybrid
DESCRIPTION:NETA65 will be conducting an Inventory to see how we can more effectively conduct business meetings and connect at all levels of AA to better help the suffering alcoholic. \n\nParticipants include Area Committee members (DCMs or their Alternates\, Area Committee Chairs or their Alternates\, Area Officers\, and past-Delegates)\nInput from all levels requested – group members collaborate with your group GSR\nAny may attend as observer\n\nZoom info: Meeting ID: 818 6260 2894      Passcode: 874169
URL:https://neta65.org/event/neta65-inventory-hybrid/
LOCATION:ODAAT Group\, 2109 W Parker Road Ste 728\, Plano\, TX\, 75023\, United States
CATEGORIES:Assembly and ACM
ORGANIZER;CN="NETA 65":MAILTO:chair69@neta65.org
END:VEVENT
BEGIN:VEVENT
DTSTART;TZID=America/Chicago:20240220T190000
DTEND;TZID=America/Chicago:20240220T203000
DTSTAMP:20260425T082413
CREATED:20240108T025412Z
LAST-MODIFIED:20240130T030346Z
UID:10000130-1708455600-1708461000@neta65.org
SUMMARY:Delegate Sharing Session
DESCRIPTION:Online via Zoom\nMeeting ID: 445 571 1924\nPasscode: 051617 \n\nTuesday\, January 23\, 2024\nProposed Agenda Items (PAIs) & Trustee’s Literature Committee Feedback Request\n7:00pm-8:30pm CT \nTuesday\, February 20\, 2024\nFinal Agenda Items (FAIs)\n7:00pm-8:30pm CT \nTuesday\, March 5\, 2024\nSpring Assembly Mock Committees\n7:00pm-8:30pm CT \nTuesday\, May 21\, 2024\nPost Conference Sneak Peek\n7:00pm-8:30pm CT \nTuesday\, August 27\, 2024\nGeneral Questions About the GSC\n7:00pm-8:30pm CT \nTuesday\,  November 19\, 2024\nGeneral Questions About the GSC\n7:00pm-8:30pm CT
URL:https://neta65.org/event/delegate-sharing-session-02-27/
CATEGORIES:Delegate Report
ATTACH;FMTTYPE=image/png:https://neta65.org/wp-content/uploads/2024/01/2024-DelegatesSharing.png
END:VEVENT
BEGIN:VEVENT
DTSTART;TZID=America/Chicago:20240218T133000
DTEND;TZID=America/Chicago:20240218T173000
DTSTAMP:20260425T082413
CREATED:20231202T224309Z
LAST-MODIFIED:20240130T034436Z
UID:10000123-1708263000-1708277400@neta65.org
SUMMARY:2024 Winter ACM
DESCRIPTION:Winter ACM Hybrid Meeting \nJoin Zoom Meeting \nhttps://us02web.zoom.us/j/85775171526?pwd=d0RaSnA0em80V21pKzJkSldlNFNqUT09 \nMeeting ID: 857 7517 1526 \nPasscode: 148090
URL:https://neta65.org/event/2024-winter-acm/
LOCATION:Clean Air – Longview\, 600 North 8th St\, Longview\, TX\, 75601\, United States
CATEGORIES:Assembly and ACM
ATTACH;FMTTYPE=image/png:https://neta65.org/wp-content/uploads/2023/12/2024-02-18_ACM.png
END:VEVENT
BEGIN:VEVENT
DTSTART;TZID=America/Chicago:20240212T190000
DTEND;TZID=America/Chicago:20240212T200000
DTSTAMP:20260425T082413
CREATED:20240125T040023Z
LAST-MODIFIED:20240125T040023Z
UID:10000139-1707764400-1707768000@neta65.org
SUMMARY:NETA65 Technology Committee Monthly Meeting
DESCRIPTION:Technology Committee Monthly Meeting \nSecond Mon each month\, until Dec 9\, 2024 \nPlease download and import the following iCalendar (.ics) files to your calendar system.\nMonthly: https://us02web.zoom.us/meeting/tZUtdeCvqj8tGNKLyNz25PitNw-2-ELVMZ5y/ics?icsToken=98tyKuGprjkjHdCRtxuBRpwcAojoXe3wiClajY12sAbLGXIGUgriGPUPYP9aPO79 \nJoin Now Zoom \nMeeting ID: 810 2974 4726\nPasscode: 661771
URL:https://neta65.org/event/neta65-technology-committee-monthly-meeting/
LOCATION:Virtual Meeting via Zoom
CATEGORIES:Technology
END:VEVENT
BEGIN:VEVENT
DTSTART;TZID=America/Chicago:20240204T133000
DTEND;TZID=America/Chicago:20240204T180000
DTSTAMP:20260425T082413
CREATED:20240130T025902Z
LAST-MODIFIED:20240130T035115Z
UID:10000151-1707053400-1707069600@neta65.org
SUMMARY:GSR & DCM Orientation
DESCRIPTION:Online via Zoom\nMeeting ID: 833 5134 4544\nPasscode: 098446 \n\n**Postponed ** January 14th\, 2024\nWichita Falls\, Texas\n1:30pm-6:00pm CT \nSunday\, January 21st\, 2024\nDenton\, Texas Español & English\n1:00pm-5:30pm CT \nSunday\, January 28th\, 2024\nGilmer\, Texas\n1:00pm-5:30pm CT \n**New Date** Sunday\, February 4th\, 2024\nWichita Falls\, Texas\n1:30pm-6:00pm CT
URL:https://neta65.org/event/gsr-dcm-orientation/
LOCATION:Group 1\, 5200 Old Jacksboro Hwy\, Wichita Falls\, TX\, 76302\, United States
CATEGORIES:Orientation
ATTACH;FMTTYPE=image/png:https://neta65.org/wp-content/uploads/2024/01/2024-02-04-ORIENTATION.png
END:VEVENT
BEGIN:VEVENT
DTSTART;TZID=America/Chicago:20240203T190000
DTEND;TZID=America/Chicago:20240203T210000
DTSTAMP:20260425T082413
CREATED:20240119T201142Z
LAST-MODIFIED:20240119T201423Z
UID:10000135-1706986800-1706994000@neta65.org
SUMMARY:Stepping Stones Foundation presents Night of Texas History
DESCRIPTION:  \nThe event is a Night of Texas History Via Zoom put on by The Stepping Stones Foundation in Bedford Hills NY. They handle Archives for Bill and Lois’s home in Bedford Hills NY.
URL:https://neta65.org/event/12554/
LOCATION:Virtual Meeting via Zoom
CATEGORIES:Archives
ATTACH;FMTTYPE=image/jpeg:https://neta65.org/wp-content/uploads/2024/01/A-night-of-Tex-Eng.jpg
END:VEVENT
BEGIN:VEVENT
DTSTART;TZID=America/Chicago:20240130T180000
DTEND;TZID=America/Chicago:20240130T193000
DTSTAMP:20260425T082413
CREATED:20240124T044623Z
LAST-MODIFIED:20240125T035059Z
UID:10000137-1706637600-1706643000@neta65.org
SUMMARY:Technology Sharing - WordPress plugin for 12 Step Meeting List
DESCRIPTION:What: A 1.5 hour sharing session on the Twelve Step Meeting List (TSML) WordPress plugin and the TSML UI. \nFirst Speaker – Emma S\, District 22 (Area 72) Webservant; Emma will share about the basics of setting up the TSML plugin on your website\, managing meeting information through it\, and connecting your website to the Meeting Guide app. \nSecond Speaker – Jacob E\, Area 72 Webservant; Jacob will share about using the TSML UI and a Google Sheet to provide a meeting list and connect to the Meeting Guide app on non-WordPress websites \nThird Speaker – Josh R\, Code for Recovery Contributor; Josh will share a little about what’s new with the TSML projects and what might be coming in the future as well as be available to answer questions. \nWe’ll end with about 30 minutes of time for questions and answers. \n\n\n\n\n\n\nMeeting ID: 876 9307 6500\nPasscode: 709533 \nOne tap mobile+12532050468\,87693076500#\,*709533# US
URL:https://neta65.org/event/technology-sharing-website-creation/
CATEGORIES:Workshop
END:VEVENT
BEGIN:VEVENT
DTSTART;TZID=America/Chicago:20240128T130000
DTEND;TZID=America/Chicago:20240128T173000
DTSTAMP:20260425T082413
CREATED:20231205T132942Z
LAST-MODIFIED:20240114T165157Z
UID:10000126-1706446800-1706463000@neta65.org
SUMMARY:GSR & DCM Orientation
DESCRIPTION:Online via Zoom\nMeeting ID: 833 5134 4544\nPasscode: 098446 \n\n**Postponed ** January 14th\, 2024\nWichita Falls\, Texas\n1:30pm-6:00pm CT \nSunday\, January 21st\, 2024\nDenton\, Texas Español & English\n1:00pm-5:30pm CT \nSunday\, January 28th\, 2024\nGilmer\, Texas\n1:00pm-5:30pm CT \n**New Date** Sunday\, February 4th\, 2024\nLocation TBD\nTime TBD
URL:https://neta65.org/event/2024-orientation-01-28/
LOCATION:Gilmer Pioneer Group\, 101 Crawford St\, Gilmer\, Tx\, 75644\, United States
ATTACH;FMTTYPE=image/png:https://neta65.org/wp-content/uploads/2024/01/2024-01-14_Orientations.png
END:VEVENT
BEGIN:VEVENT
DTSTART;TZID=America/Chicago:20240123T190000
DTEND;TZID=America/Chicago:20240123T203000
DTSTAMP:20260425T082413
CREATED:20240108T014207Z
LAST-MODIFIED:20240122T003638Z
UID:10000129-1706036400-1706041800@neta65.org
SUMMARY:Delegate Sharing Session
DESCRIPTION:Online via Zoom\nMeeting ID: 445 571 1924\nPasscode: 051617 \n\nTuesday\, January 23\, 2024\nProposed Agenda Items (PAIs) & Trustee’s Literature Committee Feedback Request\n7:00pm-8:30pm CT \nTuesday\, February 27\, 2024\nFinal Agenda Items (FAIs)\n7:00pm-8:30pm CT \nTuesday\, March 5\, 2024\nSpring Assembly Mock Committees\n7:00pm-8:30pm CT \nTuesday\, May 21\, 2024\nPost Conference Sneak Peek\n7:00pm-8:30pm CT \nTuesday\, August 27\, 2024\nGeneral Questions About the GSC\n7:00pm-8:30pm CT \nTuesday\,  November 19\, 2024\nGeneral Questions About the GSC\n7:00pm-8:30pm CT
URL:https://neta65.org/event/delegate-sharing-session-01-23/
CATEGORIES:Delegate Report
ATTACH;FMTTYPE=image/png:https://neta65.org/wp-content/uploads/2024/01/2024-DelegatesSharing.png
END:VEVENT
BEGIN:VEVENT
DTSTART;TZID=America/Chicago:20240121T130000
DTEND;TZID=America/Chicago:20240121T173000
DTSTAMP:20260425T082413
CREATED:20231205T132323Z
LAST-MODIFIED:20240114T165033Z
UID:10000125-1705842000-1705858200@neta65.org
SUMMARY:GSR & DCM Orientation |  Español & English
DESCRIPTION:Online via Zoom\nMeeting ID: 833 5134 4544\nPasscode: 098446 \n\n**Postponed ** January 14th\, 2024\nWichita Falls\, Texas\n1:30pm-6:00pm CT \nSunday\, January 21st\, 2024\nDenton\, Texas Español & English\n1:00pm-5:30pm CT \nSunday\, January 28th\, 2024\nGilmer\, Texas\n1:00pm-5:30pm CT \n**New Date** Sunday\, February 4th\, 2024\nLocation TBD\nTime TBD
URL:https://neta65.org/event/2024-orientation-01-21/
LOCATION:Show Me Group\, 1622 W University Dr. #104\, Denton\, TX\, 76201\, United States
ATTACH;FMTTYPE=image/png:https://neta65.org/wp-content/uploads/2024/01/2024-01-14_Orientations.png
END:VEVENT
BEGIN:VEVENT
DTSTART;VALUE=DATE:20240114
DTEND;VALUE=DATE:20240115
DTSTAMP:20260425T082413
CREATED:20231205T131756Z
LAST-MODIFIED:20240114T164928Z
UID:10000124-1705190400-1705276799@neta65.org
SUMMARY:**Postponed** GSR & DCM Orientation
DESCRIPTION:Online via Zoom\nMeeting ID: 833 5134 4544\nPasscode: 098446 \n\n**Postponed ** January 14th\, 2024\nWichita Falls\, Texas\n1:30pm-6:00pm CT \nSunday\, January 21st\, 2024\nDenton\, Texas Español & English\n1:00pm-5:30pm CT \nSunday\, January 28th\, 2024\nGilmer\, Texas\n1:00pm-5:30pm CT \n**New Date** Sunday\, February 4th\, 2024\nLocation TBD\nTime TBD
URL:https://neta65.org/event/2024-orientation-01-14/
LOCATION:Group 1\, 5200 Old Jacksboro Hwy\, Wichita Falls\, TX\, 76302\, United States
CATEGORIES:Orientation
ATTACH;FMTTYPE=image/png:https://neta65.org/wp-content/uploads/2024/01/2024-01-14_Orientations.png
END:VEVENT
BEGIN:VEVENT
DTSTART;TZID=America/Chicago:20231203T140000
DTEND;TZID=America/Chicago:20231203T160000
DTSTAMP:20260425T082413
CREATED:20231022T001247Z
LAST-MODIFIED:20231022T001348Z
UID:10000120-1701612000-1701619200@neta65.org
SUMMARY:Grapevine/La Viña Writing Workshop
DESCRIPTION:
URL:https://neta65.org/event/grapevine-la-vina-writing-workshop/
LOCATION:1305 S State HWY 121\, BLDG A\, Suite 105\, Lewisville\,  TX
CATEGORIES:Grapevine-LaViña,Workshop
ATTACH;FMTTYPE=image/png:https://neta65.org/wp-content/uploads/2023/10/Writing-Workshop-Dec-3rd.png
END:VEVENT
BEGIN:VEVENT
DTSTART;TZID=America/Chicago:20231128T190000
DTEND;TZID=America/Chicago:20231128T203000
DTSTAMP:20260425T082413
CREATED:20230108T002947Z
LAST-MODIFIED:20230226T015251Z
UID:10000019-1701198000-1701203400@neta65.org
SUMMARY:Town Hall: Questions About the General Service Conference
DESCRIPTION:Date: Tuesday\, November 28\, 2023 via ZOOM\nTime: 7:00pm – 8:30pm CT\nSession Summary: Since the GSC operates all year long\, there will be three (3) Town Halls throughout the year to help all Area trusted servants who want to submit proposed agenda items to the conference\ncoordinator learn how to do that. These meetings will also be available for a “What&#39;s On Your Mind” regarding the Conference\, and the Delegate will report to the body any important information our SWR Trustee shares from their General Service Board (GSB) meeting reports given to all SWR Delegates and Alternate Delegates after each board meeting (if it’s available @ that time). (Important Note: These sharing sessions are offered by the Panel 73 NETA65 Delegate and attendance is completely optional for any member of NETA65 who wishes to attend and learn more about the General Service Conference and our Area’s participation in it.)
URL:https://neta65.org/event/town-hall-questions-about-the-general-service-conference2/
CATEGORIES:Delegate Report
ATTACH;FMTTYPE=image/png:https://neta65.org/wp-content/uploads/2023/01/2023_DelegatesSharing.png
END:VEVENT
BEGIN:VEVENT
DTSTART;TZID=America/Chicago:20231118T123000
DTEND;TZID=America/Chicago:20231118T133000
DTSTAMP:20260425T082413
CREATED:20231113T022407Z
LAST-MODIFIED:20231113T022407Z
UID:10000122-1700310600-1700314200@neta65.org
SUMMARY:Writer's Workshop
DESCRIPTION:
URL:https://neta65.org/event/writers-workshop/
LOCATION:Saginaw Group\, 208 S. Hampshire Street\, Fort Worth\, TX\, 76179\, United States
ATTACH;FMTTYPE=image/jpeg:https://neta65.org/wp-content/uploads/2023/11/IMG_6102.jpg
END:VEVENT
BEGIN:VEVENT
DTSTART;TZID=America/Chicago:20231008T133000
DTEND;TZID=America/Chicago:20231008T173000
DTSTAMP:20260425T082413
CREATED:20230303T040442Z
LAST-MODIFIED:20231008T182913Z
UID:10000022-1696771800-1696786200@neta65.org
SUMMARY:2023 Fall Area Committee Meeting
DESCRIPTION:Agenda English | Español
URL:https://neta65.org/event/2023-fall-area-committee-meeting/
LOCATION:Ray of Hope Group\, 715 S. Seven Points Blvd.\, Suite D\, Seven Points\, TX\, 75143\, United States
ATTACH;FMTTYPE=image/png:https://neta65.org/wp-content/uploads/2023/03/2023-10_FallACM.png
END:VEVENT
BEGIN:VEVENT
DTSTART;TZID=America/Chicago:20230929T000000
DTEND;TZID=America/Chicago:20231001T000000
DTSTAMP:20260425T082413
CREATED:20230226T005349Z
LAST-MODIFIED:20230226T005349Z
UID:10000015-1695945600-1696118400@neta65.org
SUMMARY:2023 Southwest Regional Forum
DESCRIPTION:
URL:https://neta65.org/event/2023-southwest-regional-forum/
LOCATION:Radisson Airport Hotel\, 1770 Airway Boulevard\, El Paso\, TX\, United States
ATTACH;FMTTYPE=image/png:https://neta65.org/wp-content/uploads/2023/02/2023-09-29_SWRegionalForum.png
END:VEVENT
BEGIN:VEVENT
DTSTART;VALUE=DATE:20230915
DTEND;VALUE=DATE:20230918
DTSTAMP:20260425T082413
CREATED:20230122T200148Z
LAST-MODIFIED:20230826T031014Z
UID:10000053-1694736000-1694995199@neta65.org
SUMMARY:2023 NETA65 Fall Area Assembly & Service Workshop
DESCRIPTION:Assembly Agenda English | Español
URL:https://neta65.org/event/2023-neta65-fall-assembly/
LOCATION:Renaissance Dallas Richardson Hotel\, 900 E Lookout Drive\, Richardson\, TX\, 75082\, United States
CATEGORIES:Assembly and ACM
ATTACH;FMTTYPE=image/png:https://neta65.org/wp-content/uploads/2023/01/2023-09-15_FallAssembly-2.png
END:VEVENT
BEGIN:VEVENT
DTSTART;TZID=America/Chicago:20230831T190000
DTEND;TZID=America/Chicago:20230831T203000
DTSTAMP:20260425T082413
CREATED:20230329T021548Z
LAST-MODIFIED:20230329T021548Z
UID:10000051-1693508400-1693513800@neta65.org
SUMMARY:12 Traditions Workshop Series  | Summer 2023
DESCRIPTION:13-week Traditions Workshop Series with speaker\, discussion & ask-it-basket.  June 8th – August 31st
URL:https://neta65.org/event/12-traditions-workshop-series-summer-2023-08-31/
LOCATION:Cochran Chapel UMC\, 9027 Midway Road\, Dallas\, TX\, 75209\, United States
ATTACH;FMTTYPE=image/png:https://neta65.org/wp-content/uploads/2023/03/2023-06-07_TraditionsWorkshopSeries.png
END:VEVENT
BEGIN:VEVENT
DTSTART;TZID=America/Chicago:20230829T190000
DTEND;TZID=America/Chicago:20230829T203000
DTSTAMP:20260425T082413
CREATED:20230108T002423Z
LAST-MODIFIED:20230226T015157Z
UID:10000018-1693335600-1693341000@neta65.org
SUMMARY:Town Hall: Questions About the General Service Conference
DESCRIPTION:Date: Tuesday\, August 29\, 2023\nTime: 7:00pm – 8:30pm CT\nSession Summary: Since the GSC operates all year long\, there will be three (3) Town Halls throughout the year to help all Area trusted servants who want to submit proposed agenda items to the conference\ncoordinator learn how to do that. These meetings will also be available for a “What&#39;s On Your Mind” regarding the Conference\, and the Delegate will report to the body any important information our SWR Trustee shares from their General Service Board (GSB) meeting reports given to all SWR Delegates and Alternate Delegates after each board meeting (if it’s available @ that time). (Important Note: These sharing sessions are offered by the Panel 73 NETA65 Delegate and attendance is completely optional for any member of NETA65 who wishes to attend and learn more about the General Service Conference and our Area’s participation in it.)
URL:https://neta65.org/event/town-hall-questions-about-the-general-service-conference-2/
CATEGORIES:Delegate Report
ATTACH;FMTTYPE=image/png:https://neta65.org/wp-content/uploads/2023/01/2023_DelegatesSharing.png
END:VEVENT
BEGIN:VEVENT
DTSTART;TZID=America/Chicago:20230827T140000
DTEND;TZID=America/Chicago:20230827T170000
DTSTAMP:20260425T082413
CREATED:20230619T025011Z
LAST-MODIFIED:20230625T004654Z
UID:10000060-1693144800-1693155600@neta65.org
SUMMARY:Grape-A-Thon; La Vina-A-Thon
DESCRIPTION:Flyer English | Español
URL:https://neta65.org/event/grape-a-thon-la-vina-a-thon/
LOCATION:Federación Zacatecana\, 4323 E Lancaster Ave\, Fort Worth\, TX\, 76103\, United States
ATTACH;FMTTYPE=image/png:https://neta65.org/wp-content/uploads/2023/06/grapevine.png
END:VEVENT
END:VCALENDAR