BEGIN:VCALENDAR
VERSION:2.0
PRODID:-// - ECPv6.15.20//NONSGML v1.0//EN
CALSCALE:GREGORIAN
METHOD:PUBLISH
X-ORIGINAL-URL:https://neta65.org
X-WR-CALDESC:Events for 
REFRESH-INTERVAL;VALUE=DURATION:PT1H
X-Robots-Tag:noindex
X-PUBLISHED-TTL:PT1H
BEGIN:VTIMEZONE
TZID:America/Chicago
BEGIN:DAYLIGHT
TZOFFSETFROM:-0600
TZOFFSETTO:-0500
TZNAME:CDT
DTSTART:20220313T080000
END:DAYLIGHT
BEGIN:STANDARD
TZOFFSETFROM:-0500
TZOFFSETTO:-0600
TZNAME:CST
DTSTART:20221106T070000
END:STANDARD
BEGIN:DAYLIGHT
TZOFFSETFROM:-0600
TZOFFSETTO:-0500
TZNAME:CDT
DTSTART:20230312T080000
END:DAYLIGHT
BEGIN:STANDARD
TZOFFSETFROM:-0500
TZOFFSETTO:-0600
TZNAME:CST
DTSTART:20231105T070000
END:STANDARD
BEGIN:DAYLIGHT
TZOFFSETFROM:-0600
TZOFFSETTO:-0500
TZNAME:CDT
DTSTART:20240310T080000
END:DAYLIGHT
BEGIN:STANDARD
TZOFFSETFROM:-0500
TZOFFSETTO:-0600
TZNAME:CST
DTSTART:20241103T070000
END:STANDARD
BEGIN:DAYLIGHT
TZOFFSETFROM:-0600
TZOFFSETTO:-0500
TZNAME:CDT
DTSTART:20250309T080000
END:DAYLIGHT
BEGIN:STANDARD
TZOFFSETFROM:-0500
TZOFFSETTO:-0600
TZNAME:CST
DTSTART:20251102T070000
END:STANDARD
END:VTIMEZONE
BEGIN:VEVENT
DTSTART;VALUE=DATE:20240114
DTEND;VALUE=DATE:20240115
DTSTAMP:20260425T111753
CREATED:20231205T131756Z
LAST-MODIFIED:20240114T164928Z
UID:10000124-1705190400-1705276799@neta65.org
SUMMARY:**Postponed** GSR & DCM Orientation
DESCRIPTION:Online via Zoom\nMeeting ID: 833 5134 4544\nPasscode: 098446 \n\n**Postponed ** January 14th\, 2024\nWichita Falls\, Texas\n1:30pm-6:00pm CT \nSunday\, January 21st\, 2024\nDenton\, Texas Español & English\n1:00pm-5:30pm CT \nSunday\, January 28th\, 2024\nGilmer\, Texas\n1:00pm-5:30pm CT \n**New Date** Sunday\, February 4th\, 2024\nLocation TBD\nTime TBD
URL:https://neta65.org/event/2024-orientation-01-14/
LOCATION:Group 1\, 5200 Old Jacksboro Hwy\, Wichita Falls\, TX\, 76302\, United States
CATEGORIES:Orientation
ATTACH;FMTTYPE=image/png:https://neta65.org/wp-content/uploads/2024/01/2024-01-14_Orientations.png
END:VEVENT
BEGIN:VEVENT
DTSTART;TZID=America/Chicago:20231203T140000
DTEND;TZID=America/Chicago:20231203T160000
DTSTAMP:20260425T111753
CREATED:20231022T001247Z
LAST-MODIFIED:20231022T001348Z
UID:10000120-1701612000-1701619200@neta65.org
SUMMARY:Grapevine/La Viña Writing Workshop
DESCRIPTION:
URL:https://neta65.org/event/grapevine-la-vina-writing-workshop/
LOCATION:1305 S State HWY 121\, BLDG A\, Suite 105\, Lewisville\,  TX
CATEGORIES:Grapevine-LaViña,Workshop
ATTACH;FMTTYPE=image/png:https://neta65.org/wp-content/uploads/2023/10/Writing-Workshop-Dec-3rd.png
END:VEVENT
BEGIN:VEVENT
DTSTART;TZID=America/Chicago:20231128T190000
DTEND;TZID=America/Chicago:20231128T203000
DTSTAMP:20260425T111753
CREATED:20230108T002947Z
LAST-MODIFIED:20230226T015251Z
UID:10000019-1701198000-1701203400@neta65.org
SUMMARY:Town Hall: Questions About the General Service Conference
DESCRIPTION:Date: Tuesday\, November 28\, 2023 via ZOOM\nTime: 7:00pm – 8:30pm CT\nSession Summary: Since the GSC operates all year long\, there will be three (3) Town Halls throughout the year to help all Area trusted servants who want to submit proposed agenda items to the conference\ncoordinator learn how to do that. These meetings will also be available for a “What&#39;s On Your Mind” regarding the Conference\, and the Delegate will report to the body any important information our SWR Trustee shares from their General Service Board (GSB) meeting reports given to all SWR Delegates and Alternate Delegates after each board meeting (if it’s available @ that time). (Important Note: These sharing sessions are offered by the Panel 73 NETA65 Delegate and attendance is completely optional for any member of NETA65 who wishes to attend and learn more about the General Service Conference and our Area’s participation in it.)
URL:https://neta65.org/event/town-hall-questions-about-the-general-service-conference2/
CATEGORIES:Delegate Report
ATTACH;FMTTYPE=image/png:https://neta65.org/wp-content/uploads/2023/01/2023_DelegatesSharing.png
END:VEVENT
BEGIN:VEVENT
DTSTART;TZID=America/Chicago:20231118T123000
DTEND;TZID=America/Chicago:20231118T133000
DTSTAMP:20260425T111753
CREATED:20231113T022407Z
LAST-MODIFIED:20231113T022407Z
UID:10000122-1700310600-1700314200@neta65.org
SUMMARY:Writer's Workshop
DESCRIPTION:
URL:https://neta65.org/event/writers-workshop/
LOCATION:Saginaw Group\, 208 S. Hampshire Street\, Fort Worth\, TX\, 76179\, United States
ATTACH;FMTTYPE=image/jpeg:https://neta65.org/wp-content/uploads/2023/11/IMG_6102.jpg
END:VEVENT
BEGIN:VEVENT
DTSTART;TZID=America/Chicago:20231008T133000
DTEND;TZID=America/Chicago:20231008T173000
DTSTAMP:20260425T111753
CREATED:20230303T040442Z
LAST-MODIFIED:20231008T182913Z
UID:10000022-1696771800-1696786200@neta65.org
SUMMARY:2023 Fall Area Committee Meeting
DESCRIPTION:Agenda English | Español
URL:https://neta65.org/event/2023-fall-area-committee-meeting/
LOCATION:Ray of Hope Group\, 715 S. Seven Points Blvd.\, Suite D\, Seven Points\, TX\, 75143\, United States
ATTACH;FMTTYPE=image/png:https://neta65.org/wp-content/uploads/2023/03/2023-10_FallACM.png
END:VEVENT
BEGIN:VEVENT
DTSTART;TZID=America/Chicago:20230929T000000
DTEND;TZID=America/Chicago:20231001T000000
DTSTAMP:20260425T111753
CREATED:20230226T005349Z
LAST-MODIFIED:20230226T005349Z
UID:10000015-1695945600-1696118400@neta65.org
SUMMARY:2023 Southwest Regional Forum
DESCRIPTION:
URL:https://neta65.org/event/2023-southwest-regional-forum/
LOCATION:Radisson Airport Hotel\, 1770 Airway Boulevard\, El Paso\, TX\, United States
ATTACH;FMTTYPE=image/png:https://neta65.org/wp-content/uploads/2023/02/2023-09-29_SWRegionalForum.png
END:VEVENT
BEGIN:VEVENT
DTSTART;VALUE=DATE:20230915
DTEND;VALUE=DATE:20230918
DTSTAMP:20260425T111753
CREATED:20230122T200148Z
LAST-MODIFIED:20230826T031014Z
UID:10000053-1694736000-1694995199@neta65.org
SUMMARY:2023 NETA65 Fall Area Assembly & Service Workshop
DESCRIPTION:Assembly Agenda English | Español
URL:https://neta65.org/event/2023-neta65-fall-assembly/
LOCATION:Renaissance Dallas Richardson Hotel\, 900 E Lookout Drive\, Richardson\, TX\, 75082\, United States
CATEGORIES:Assembly and ACM
ATTACH;FMTTYPE=image/png:https://neta65.org/wp-content/uploads/2023/01/2023-09-15_FallAssembly-2.png
END:VEVENT
BEGIN:VEVENT
DTSTART;TZID=America/Chicago:20230831T190000
DTEND;TZID=America/Chicago:20230831T203000
DTSTAMP:20260425T111753
CREATED:20230329T021548Z
LAST-MODIFIED:20230329T021548Z
UID:10000051-1693508400-1693513800@neta65.org
SUMMARY:12 Traditions Workshop Series  | Summer 2023
DESCRIPTION:13-week Traditions Workshop Series with speaker\, discussion & ask-it-basket.  June 8th – August 31st
URL:https://neta65.org/event/12-traditions-workshop-series-summer-2023-08-31/
LOCATION:Cochran Chapel UMC\, 9027 Midway Road\, Dallas\, TX\, 75209\, United States
ATTACH;FMTTYPE=image/png:https://neta65.org/wp-content/uploads/2023/03/2023-06-07_TraditionsWorkshopSeries.png
END:VEVENT
BEGIN:VEVENT
DTSTART;TZID=America/Chicago:20230829T190000
DTEND;TZID=America/Chicago:20230829T203000
DTSTAMP:20260425T111753
CREATED:20230108T002423Z
LAST-MODIFIED:20230226T015157Z
UID:10000018-1693335600-1693341000@neta65.org
SUMMARY:Town Hall: Questions About the General Service Conference
DESCRIPTION:Date: Tuesday\, August 29\, 2023\nTime: 7:00pm – 8:30pm CT\nSession Summary: Since the GSC operates all year long\, there will be three (3) Town Halls throughout the year to help all Area trusted servants who want to submit proposed agenda items to the conference\ncoordinator learn how to do that. These meetings will also be available for a “What&#39;s On Your Mind” regarding the Conference\, and the Delegate will report to the body any important information our SWR Trustee shares from their General Service Board (GSB) meeting reports given to all SWR Delegates and Alternate Delegates after each board meeting (if it’s available @ that time). (Important Note: These sharing sessions are offered by the Panel 73 NETA65 Delegate and attendance is completely optional for any member of NETA65 who wishes to attend and learn more about the General Service Conference and our Area’s participation in it.)
URL:https://neta65.org/event/town-hall-questions-about-the-general-service-conference-2/
CATEGORIES:Delegate Report
ATTACH;FMTTYPE=image/png:https://neta65.org/wp-content/uploads/2023/01/2023_DelegatesSharing.png
END:VEVENT
BEGIN:VEVENT
DTSTART;TZID=America/Chicago:20230827T140000
DTEND;TZID=America/Chicago:20230827T170000
DTSTAMP:20260425T111753
CREATED:20230619T025011Z
LAST-MODIFIED:20230625T004654Z
UID:10000060-1693144800-1693155600@neta65.org
SUMMARY:Grape-A-Thon; La Vina-A-Thon
DESCRIPTION:Flyer English | Español
URL:https://neta65.org/event/grape-a-thon-la-vina-a-thon/
LOCATION:Federación Zacatecana\, 4323 E Lancaster Ave\, Fort Worth\, TX\, 76103\, United States
ATTACH;FMTTYPE=image/png:https://neta65.org/wp-content/uploads/2023/06/grapevine.png
END:VEVENT
BEGIN:VEVENT
DTSTART;TZID=America/Chicago:20230826T133000
DTEND;TZID=America/Chicago:20230826T170000
DTSTAMP:20260425T111753
CREATED:20230729T231905Z
LAST-MODIFIED:20230729T231921Z
UID:10000088-1693056600-1693069200@neta65.org
SUMMARY:District 3 Delegate Speaker for House Warming
DESCRIPTION:Delegate Speaker with food\, fun\, experience\, strength\, and hope!! \n 
URL:https://neta65.org/event/district-3-delegate-speaker-for-house-warming/
LOCATION:Group 1\, 5200 Old Jacksboro Hwy\, Wichita Falls\, TX\, 76302\, United States
CATEGORIES:Delegate Report
ATTACH;FMTTYPE=image/jpeg:https://neta65.org/wp-content/uploads/2023/07/Dist-3-Delegate-speaker.jpg
END:VEVENT
BEGIN:VEVENT
DTSTART;TZID=America/Chicago:20230824T190000
DTEND;TZID=America/Chicago:20230824T203000
DTSTAMP:20260425T111753
CREATED:20230329T021345Z
LAST-MODIFIED:20230329T021434Z
UID:10000050-1692903600-1692909000@neta65.org
SUMMARY:12 Traditions Workshop Series  | Summer 2023
DESCRIPTION:13-week Traditions Workshop Series with speaker\, discussion & ask-it-basket.  June 8th – August 31st
URL:https://neta65.org/event/12-traditions-workshop-series-summer-2023-08-24/
LOCATION:Cochran Chapel UMC\, 9027 Midway Road\, Dallas\, TX\, 75209\, United States
ATTACH;FMTTYPE=image/png:https://neta65.org/wp-content/uploads/2023/03/2023-06-07_TraditionsWorkshopSeries.png
END:VEVENT
BEGIN:VEVENT
DTSTART;TZID=America/Chicago:20230820T140000
DTEND;TZID=America/Chicago:20230820T170000
DTSTAMP:20260425T111753
CREATED:20230609T164645Z
LAST-MODIFIED:20230609T172111Z
UID:10000054-1692540000-1692550800@neta65.org
SUMMARY:Plain Language Translation
DESCRIPTION:Area 29\, Maryland AA is hosting John W.\, non-trustee Director of A.A.W.S. where he will be doing a workshop on Sunday August 20 @ 2pm CT on ZOOM (ID 841 2499 3206) on the new plain language book. \n 
URL:https://neta65.org/event/plain-language-translation/
LOCATION:Virtual Meeting via Zoom
CATEGORIES:Workshop
ATTACH;FMTTYPE=image/jpeg:https://neta65.org/wp-content/uploads/2023/06/flyer_plainlanguage_082023-e1686331181381.jpg
END:VEVENT
BEGIN:VEVENT
DTSTART;TZID=America/Chicago:20230820T140000
DTEND;TZID=America/Chicago:20230820T160000
DTSTAMP:20260425T111753
CREATED:20230709T170949Z
LAST-MODIFIED:20230709T170949Z
UID:10000084-1692540000-1692547200@neta65.org
SUMMARY:How to Be Friendly with Our Friends
DESCRIPTION:
URL:https://neta65.org/event/how-to-be-friendly-with-our-friends/
LOCATION:The Gift of Sobriety Group\, 1350 W. Walnut Hill Lane #107\, Irving\, TX\, 75038\, United States
CATEGORIES:CPC Event
ATTACH;FMTTYPE=image/png:https://neta65.org/wp-content/uploads/2023/07/bazaart.png
END:VEVENT
BEGIN:VEVENT
DTSTART;TZID=America/Chicago:20230817T190000
DTEND;TZID=America/Chicago:20230817T203000
DTSTAMP:20260425T111753
CREATED:20230329T021009Z
LAST-MODIFIED:20230329T021009Z
UID:10000049-1692298800-1692304200@neta65.org
SUMMARY:12 Traditions Workshop Series  | Summer 2023
DESCRIPTION:13-week Traditions Workshop Series with speaker\, discussion & ask-it-basket.  June 8th – August 31st
URL:https://neta65.org/event/12-traditions-workshop-series-summer-2023-08-17/
LOCATION:Cochran Chapel UMC\, 9027 Midway Road\, Dallas\, TX\, 75209\, United States
ATTACH;FMTTYPE=image/png:https://neta65.org/wp-content/uploads/2023/03/2023-06-07_TraditionsWorkshopSeries.png
END:VEVENT
BEGIN:VEVENT
DTSTART;VALUE=DATE:20230817
DTEND;VALUE=DATE:20230821
DTSTAMP:20260425T111753
CREATED:20230703T133412Z
LAST-MODIFIED:20230703T133909Z
UID:10000071-1692230400-1692575999@neta65.org
SUMMARY:Southwest-Area Conference of Young People in AA (SWACYPAA)
DESCRIPTION:
URL:https://neta65.org/event/southwest-area-conference-of-young-people-in-aa-swacypaa/
LOCATION:Double Tree – Alburquerque Convention Center\, 401 2nd St NW\, 401 2nd St NW\, New Mexico\, 87102
CATEGORIES:Convention
ATTACH;FMTTYPE=image/jpeg:https://neta65.org/wp-content/uploads/2023/07/SWACYPAA-Fall-2023-Conference.jpg
END:VEVENT
BEGIN:VEVENT
DTSTART;TZID=America/Chicago:20230813T150000
DTEND;TZID=America/Chicago:20230813T170000
DTSTAMP:20260425T111753
CREATED:20230729T231112Z
LAST-MODIFIED:20230729T231112Z
UID:10000087-1691938800-1691946000@neta65.org
SUMMARY:12 Step Call Workshop
DESCRIPTION:How to do a 12 step call hosted by Bowie Group!
URL:https://neta65.org/event/12-step-call-workshop/
LOCATION:Bowie Group original\, 609 Mason St\, Bowie\, Texas\, 76203
CATEGORIES:Workshop
ATTACH;FMTTYPE=image/jpeg:https://neta65.org/wp-content/uploads/2023/07/12-Step-Call-Workshop.jpg
END:VEVENT
BEGIN:VEVENT
DTSTART;TZID=America/Chicago:20230810T190000
DTEND;TZID=America/Chicago:20230810T203000
DTSTAMP:20260425T111753
CREATED:20230329T020842Z
LAST-MODIFIED:20230329T020842Z
UID:10000048-1691694000-1691699400@neta65.org
SUMMARY:12 Traditions Workshop Series  | Summer 2023
DESCRIPTION:13-week Traditions Workshop Series with speaker\, discussion & ask-it-basket.  June 8th – August 31st
URL:https://neta65.org/event/12-traditions-workshop-series-summer-2023-08-10/
LOCATION:Cochran Chapel UMC\, 9027 Midway Road\, Dallas\, TX\, 75209\, United States
ATTACH;FMTTYPE=image/png:https://neta65.org/wp-content/uploads/2023/03/2023-06-07_TraditionsWorkshopSeries.png
END:VEVENT
BEGIN:VEVENT
DTSTART;TZID=America/Chicago:20230803T190000
DTEND;TZID=America/Chicago:20230803T203000
DTSTAMP:20260425T111753
CREATED:20230329T020501Z
LAST-MODIFIED:20230329T020633Z
UID:10000047-1691089200-1691094600@neta65.org
SUMMARY:12 Traditions Workshop Series  | Summer 2023
DESCRIPTION:13-week Traditions Workshop Series with speaker\, discussion & ask-it-basket.  June 8th – August 31st
URL:https://neta65.org/event/12-traditions-workshop-series-summer-2023-08-03/
LOCATION:Cochran Chapel UMC\, 9027 Midway Road\, Dallas\, TX\, 75209\, United States
ATTACH;FMTTYPE=image/png:https://neta65.org/wp-content/uploads/2023/03/2023-06-07_TraditionsWorkshopSeries.png
END:VEVENT
BEGIN:VEVENT
DTSTART;TZID=America/Chicago:20230802T190000
DTEND;TZID=America/Chicago:20230802T210000
DTSTAMP:20260425T111753
CREATED:20230728T224102Z
LAST-MODIFIED:20230728T224653Z
UID:10000086-1691002800-1691010000@neta65.org
SUMMARY:Fellowship Connection Workshop
DESCRIPTION:Meeting ID:355 849 1885\nMeeting Link: https://us02web.zoom.us/j/3558491885 \n 
URL:https://neta65.org/event/fellowship-connection-workshop/
CATEGORIES:Workshop
ATTACH;FMTTYPE=image/jpeg:https://neta65.org/wp-content/uploads/2023/07/Fellowship-Connection-Workshop.jpg
END:VEVENT
BEGIN:VEVENT
DTSTART;TZID=America/Chicago:20230729T190000
DTEND;TZID=America/Chicago:20230729T200000
DTSTAMP:20260425T111753
CREATED:20230624T031440Z
LAST-MODIFIED:20230729T154015Z
UID:10000062-1690657200-1690660800@neta65.org
SUMMARY:Evening with the Wilson's Virtual Tour
DESCRIPTION:Archives Virtual Tour
URL:https://neta65.org/event/11647/
LOCATION:Virtual Meeting via Zoom
ATTACH;FMTTYPE=image/png:https://neta65.org/wp-content/uploads/2023/06/NETA-65-Archives_Stepping-Stones-1.png
END:VEVENT
BEGIN:VEVENT
DTSTART;TZID=America/Chicago:20230727T190000
DTEND;TZID=America/Chicago:20230727T203000
DTSTAMP:20260425T111753
CREATED:20230329T015933Z
LAST-MODIFIED:20230329T015933Z
UID:10000046-1690484400-1690489800@neta65.org
SUMMARY:12 Traditions Workshop Series  | Summer 2023
DESCRIPTION:13-week Traditions Workshop Series with speaker\, discussion & ask-it-basket.  June 8th – August 31st
URL:https://neta65.org/event/12-traditions-workshop-series-summer-2023-07-27/
LOCATION:Cochran Chapel UMC\, 9027 Midway Road\, Dallas\, TX\, 75209\, United States
ATTACH;FMTTYPE=image/png:https://neta65.org/wp-content/uploads/2023/03/2023-06-07_TraditionsWorkshopSeries.png
END:VEVENT
BEGIN:VEVENT
DTSTART;TZID=America/Chicago:20230720T190000
DTEND;TZID=America/Chicago:20230720T203000
DTSTAMP:20260425T111753
CREATED:20230327T200127Z
LAST-MODIFIED:20230329T014957Z
UID:10000044-1689879600-1689885000@neta65.org
SUMMARY:12 Traditions Workshop Series  | Summer 2023
DESCRIPTION:13-week Traditions Workshop Series with speaker\, discussion & ask-it-basket.  June 8th – August 31st
URL:https://neta65.org/event/12-traditions-workshop-series-summer-2023-07-20/
LOCATION:Cochran Chapel UMC\, 9027 Midway Road\, Dallas\, TX\, 75209\, United States
ATTACH;FMTTYPE=image/png:https://neta65.org/wp-content/uploads/2023/03/2023-06-07_TraditionsWorkshopSeries.png
END:VEVENT
BEGIN:VEVENT
DTSTART;VALUE=DATE:20230720
DTEND;VALUE=DATE:20230724
DTSTAMP:20260425T111753
CREATED:20230703T134547Z
LAST-MODIFIED:20230703T134722Z
UID:10000072-1689811200-1690156799@neta65.org
SUMMARY:2023 Southeast Regional Conference of Young People in AA (SERCYPAA)
DESCRIPTION:
URL:https://neta65.org/event/2023-southeast-regional-conference-of-young-people-in-aa-sercypaa/
LOCATION:Dallas – Hilton\, 4099 Valley View Ln\, Dallas\, Texas\, 75244
CATEGORIES:Convention
ATTACH;FMTTYPE=image/jpeg:https://neta65.org/wp-content/uploads/2023/07/SERCYPAA-2023.jpg
END:VEVENT
BEGIN:VEVENT
DTSTART;TZID=America/Chicago:20230716T133000
DTEND;TZID=America/Chicago:20230716T173000
DTSTAMP:20260425T111753
CREATED:20230303T040626Z
LAST-MODIFIED:20230629T041018Z
UID:10000023-1689514200-1689528600@neta65.org
SUMMARY:2023 Summer Area Committee Meeting
DESCRIPTION:
URL:https://neta65.org/event/2023-summer-area-committee-meeting/
LOCATION:Anchor Group\, 1608 North Commerce\, Gainsville\, TX\, 76240\, United States
CATEGORIES:Assembly and ACM
ATTACH;FMTTYPE=image/jpeg:https://neta65.org/wp-content/uploads/2023/03/2023-06-28_23-06-50-scaled.jpg
END:VEVENT
BEGIN:VEVENT
DTSTART;TZID=America/Chicago:20230715T140000
DTEND;TZID=America/Chicago:20230715T170000
DTSTAMP:20260425T111753
CREATED:20230619T025628Z
LAST-MODIFIED:20230619T025628Z
UID:10000061-1689429600-1689440400@neta65.org
SUMMARY:District Hosted Delegate Report Back
DESCRIPTION:
URL:https://neta65.org/event/district-hosted-delegate-report-back/
ATTACH;FMTTYPE=image/jpeg:https://neta65.org/wp-content/uploads/2023/06/District-Hosted-Delegate-Report-Back.jpg
END:VEVENT
BEGIN:VEVENT
DTSTART;TZID=America/Chicago:20230715T133000
DTEND;TZID=America/Chicago:20230715T153000
DTSTAMP:20260425T111753
CREATED:20230629T131223Z
LAST-MODIFIED:20230629T131551Z
UID:10000069-1689427800-1689435000@neta65.org
SUMMARY:Safety & Respect Workshop; Glass House
DESCRIPTION:
URL:https://neta65.org/event/11681/
LOCATION:The Glass House\, 6713 Hemsell Place\, Fort Worth\, TX\, 76116\, United States
CATEGORIES:Workshop
ATTACH;FMTTYPE=image/jpeg:https://neta65.org/wp-content/uploads/2023/06/Glass-House-Safety-Respect.jpg
END:VEVENT
BEGIN:VEVENT
DTSTART;TZID=America/Chicago:20230713T190000
DTEND;TZID=America/Chicago:20230713T210000
DTSTAMP:20260425T111753
CREATED:20230609T200301Z
LAST-MODIFIED:20230609T200345Z
UID:10000055-1689274800-1689282000@neta65.org
SUMMARY:GSO Archivist - The First Four Editions of the BB
DESCRIPTION:
URL:https://neta65.org/event/gso-archivist-the-first-four-editions-of-the-bb/
ATTACH;FMTTYPE=image/jpeg:https://neta65.org/wp-content/uploads/2023/06/BBWorkshop7-13-23C4-.jpg
END:VEVENT
BEGIN:VEVENT
DTSTART;TZID=America/Chicago:20230713T190000
DTEND;TZID=America/Chicago:20230713T203000
DTSTAMP:20260425T111753
CREATED:20230327T195820Z
LAST-MODIFIED:20230329T015716Z
UID:10000043-1689274800-1689280200@neta65.org
SUMMARY:12 Traditions Workshop Series  | Summer 2023
DESCRIPTION:13-week Traditions Workshop Series with speaker\, discussion & ask-it-basket.  June 8th – August 31st
URL:https://neta65.org/event/12-traditions-workshop-series-summer-2023-07-13/
LOCATION:Cochran Chapel UMC\, 9027 Midway Road\, Dallas\, TX\, 75209\, United States
ATTACH;FMTTYPE=image/png:https://neta65.org/wp-content/uploads/2023/03/2023-06-07_TraditionsWorkshopSeries.png
END:VEVENT
BEGIN:VEVENT
DTSTART;TZID=America/Chicago:20230709T130000
DTEND;TZID=America/Chicago:20230709T190000
DTSTAMP:20260425T111753
CREATED:20230709T173016Z
LAST-MODIFIED:20230709T181118Z
UID:10000085-1688907600-1688929200@neta65.org
SUMMARY:2023 Corrections Conference
DESCRIPTION:
URL:https://neta65.org/event/2023-corrections-conference/
LOCATION:Addison Group\, 4839 Keller Springs Road\, Addison\, TX\, 75002\, United States
ATTACH;FMTTYPE=image/png:https://neta65.org/wp-content/uploads/2023/07/2023-Corrections-Event.2.png
END:VEVENT
END:VCALENDAR