BEGIN:VCALENDAR
VERSION:2.0
PRODID:-// - ECPv6.15.20//NONSGML v1.0//EN
CALSCALE:GREGORIAN
METHOD:PUBLISH
X-ORIGINAL-URL:https://neta65.org
X-WR-CALDESC:Events for 
REFRESH-INTERVAL;VALUE=DURATION:PT1H
X-Robots-Tag:noindex
X-PUBLISHED-TTL:PT1H
BEGIN:VTIMEZONE
TZID:America/Chicago
BEGIN:DAYLIGHT
TZOFFSETFROM:-0600
TZOFFSETTO:-0500
TZNAME:CDT
DTSTART:20290311T080000
END:DAYLIGHT
BEGIN:STANDARD
TZOFFSETFROM:-0500
TZOFFSETTO:-0600
TZNAME:CST
DTSTART:20291104T070000
END:STANDARD
BEGIN:DAYLIGHT
TZOFFSETFROM:-0600
TZOFFSETTO:-0500
TZNAME:CDT
DTSTART:20300310T080000
END:DAYLIGHT
BEGIN:STANDARD
TZOFFSETFROM:-0500
TZOFFSETTO:-0600
TZNAME:CST
DTSTART:20301103T070000
END:STANDARD
BEGIN:DAYLIGHT
TZOFFSETFROM:-0600
TZOFFSETTO:-0500
TZNAME:CDT
DTSTART:20310309T080000
END:DAYLIGHT
BEGIN:STANDARD
TZOFFSETFROM:-0500
TZOFFSETTO:-0600
TZNAME:CST
DTSTART:20311102T070000
END:STANDARD
BEGIN:DAYLIGHT
TZOFFSETFROM:-0600
TZOFFSETTO:-0500
TZNAME:CDT
DTSTART:20320314T080000
END:DAYLIGHT
BEGIN:STANDARD
TZOFFSETFROM:-0500
TZOFFSETTO:-0600
TZNAME:CST
DTSTART:20321107T070000
END:STANDARD
END:VTIMEZONE
BEGIN:VEVENT
DTSTART;TZID=America/Chicago:20300601T120000
DTEND;TZID=America/Chicago:20300601T130000
DTSTAMP:20260425T083846
CREATED:20260209T203836Z
LAST-MODIFIED:20260209T203836Z
UID:10001356-1906545600-1906549200@neta65.org
SUMMARY:NETA65 Accessibilities  Zoom Monthly Meeting
DESCRIPTION:1st Saturday each month \nZoom: 831 7605 2625 \nPswd: 205058
URL:https://neta65.org/event/neta65accessibilities-zoom-monthly-meeting-2/2030-06-01/
CATEGORIES:Committee Meeting
ATTACH;FMTTYPE=image/png:https://neta65.org/wp-content/uploads/2024/09/Accessinilities-2026-meetings.png
LOCATION:
END:VEVENT
BEGIN:VEVENT
DTSTART;TZID=America/Chicago:20300615T100000
DTEND;TZID=America/Chicago:20300615T110000
DTSTAMP:20260425T083846
CREATED:20260110T180634Z
LAST-MODIFIED:20260110T180634Z
UID:10001333-1907748000-1907751600@neta65.org
SUMMARY:NETA65 CPC Committee Monthly Meeting
DESCRIPTION:Monthly CPC Committee meeting:\nNormally 3rd Saturday of the month at 10am via zoom; changed this month to accommodate for Assembly\n\nJoin Zoom Meeting or select Link:\nMeeting ID: 916 2176 7662Passcode: 645587
URL:https://neta65.org/event/cpc-committee-meeting-26-2-2-2-2-2/2030-06-15/
LOCATION:https://zoom.us/j/91621767662?pwd=Gg2HZXV3VOGNChfX385j1DVZk6HH4k.1
END:VEVENT
BEGIN:VEVENT
DTSTART;TZID=America/Chicago:20300619T190000
DTEND;TZID=America/Chicago:20300619T200000
DTSTAMP:20260425T083846
CREATED:20230919T022750Z
LAST-MODIFIED:20260120T155356Z
UID:10001343-1908126000-1908129600@neta65.org
SUMMARY:AA Grapevine / La Viña Committee Meeting
DESCRIPTION:3rd Wednesday of every Month 7pm – 8pm \nZoom Info:\nID 949 476 7497\nPasscode neta65
URL:https://neta65.org/event/aa-grapevine-la-vina-committee-meeting-2024-09/2030-06-19/
LOCATION:Virtual Meeting via Zoom
CATEGORIES:Committee Meeting,Grapevine-LaViña
ATTACH;FMTTYPE=image/png:https://neta65.org/wp-content/uploads/2023/09/GV-LV_Committee_Meeting.png
END:VEVENT
BEGIN:VEVENT
DTSTART;TZID=America/Chicago:20300706T120000
DTEND;TZID=America/Chicago:20300706T130000
DTSTAMP:20260425T083846
CREATED:20260209T203836Z
LAST-MODIFIED:20260209T203836Z
UID:10001357-1909569600-1909573200@neta65.org
SUMMARY:NETA65 Accessibilities  Zoom Monthly Meeting
DESCRIPTION:1st Saturday each month \nZoom: 831 7605 2625 \nPswd: 205058
URL:https://neta65.org/event/neta65accessibilities-zoom-monthly-meeting-2/2030-07-06/
CATEGORIES:Committee Meeting
ATTACH;FMTTYPE=image/png:https://neta65.org/wp-content/uploads/2024/09/Accessinilities-2026-meetings.png
LOCATION:
END:VEVENT
BEGIN:VEVENT
DTSTART;TZID=America/Chicago:20300717T190000
DTEND;TZID=America/Chicago:20300717T200000
DTSTAMP:20260425T083846
CREATED:20230919T022750Z
LAST-MODIFIED:20260120T155356Z
UID:10001344-1910545200-1910548800@neta65.org
SUMMARY:AA Grapevine / La Viña Committee Meeting
DESCRIPTION:3rd Wednesday of every Month 7pm – 8pm \nZoom Info:\nID 949 476 7497\nPasscode neta65
URL:https://neta65.org/event/aa-grapevine-la-vina-committee-meeting-2024-09/2030-07-17/
LOCATION:Virtual Meeting via Zoom
CATEGORIES:Committee Meeting,Grapevine-LaViña
ATTACH;FMTTYPE=image/png:https://neta65.org/wp-content/uploads/2023/09/GV-LV_Committee_Meeting.png
END:VEVENT
BEGIN:VEVENT
DTSTART;TZID=America/Chicago:20300720T100000
DTEND;TZID=America/Chicago:20300720T110000
DTSTAMP:20260425T083846
CREATED:20260110T180634Z
LAST-MODIFIED:20260110T180634Z
UID:10001334-1910772000-1910775600@neta65.org
SUMMARY:NETA65 CPC Committee Monthly Meeting
DESCRIPTION:Monthly CPC Committee meeting:\nNormally 3rd Saturday of the month at 10am via zoom; changed this month to accommodate for Assembly\n\nJoin Zoom Meeting or select Link:\nMeeting ID: 916 2176 7662Passcode: 645587
URL:https://neta65.org/event/cpc-committee-meeting-26-2-2-2-2-2/2030-07-20/
LOCATION:https://zoom.us/j/91621767662?pwd=Gg2HZXV3VOGNChfX385j1DVZk6HH4k.1
END:VEVENT
BEGIN:VEVENT
DTSTART;TZID=America/Chicago:20300803T120000
DTEND;TZID=America/Chicago:20300803T130000
DTSTAMP:20260425T083846
CREATED:20260209T203836Z
LAST-MODIFIED:20260209T203836Z
UID:10001358-1911988800-1911992400@neta65.org
SUMMARY:NETA65 Accessibilities  Zoom Monthly Meeting
DESCRIPTION:1st Saturday each month \nZoom: 831 7605 2625 \nPswd: 205058
URL:https://neta65.org/event/neta65accessibilities-zoom-monthly-meeting-2/2030-08-03/
CATEGORIES:Committee Meeting
ATTACH;FMTTYPE=image/png:https://neta65.org/wp-content/uploads/2024/09/Accessinilities-2026-meetings.png
LOCATION:
END:VEVENT
BEGIN:VEVENT
DTSTART;TZID=America/Chicago:20300817T100000
DTEND;TZID=America/Chicago:20300817T110000
DTSTAMP:20260425T083846
CREATED:20260110T180634Z
LAST-MODIFIED:20260110T180634Z
UID:10001335-1913191200-1913194800@neta65.org
SUMMARY:NETA65 CPC Committee Monthly Meeting
DESCRIPTION:Monthly CPC Committee meeting:\nNormally 3rd Saturday of the month at 10am via zoom; changed this month to accommodate for Assembly\n\nJoin Zoom Meeting or select Link:\nMeeting ID: 916 2176 7662Passcode: 645587
URL:https://neta65.org/event/cpc-committee-meeting-26-2-2-2-2-2/2030-08-17/
LOCATION:https://zoom.us/j/91621767662?pwd=Gg2HZXV3VOGNChfX385j1DVZk6HH4k.1
END:VEVENT
BEGIN:VEVENT
DTSTART;TZID=America/Chicago:20300821T190000
DTEND;TZID=America/Chicago:20300821T200000
DTSTAMP:20260425T083846
CREATED:20230919T022750Z
LAST-MODIFIED:20260120T155356Z
UID:10001345-1913569200-1913572800@neta65.org
SUMMARY:AA Grapevine / La Viña Committee Meeting
DESCRIPTION:3rd Wednesday of every Month 7pm – 8pm \nZoom Info:\nID 949 476 7497\nPasscode neta65
URL:https://neta65.org/event/aa-grapevine-la-vina-committee-meeting-2024-09/2030-08-21/
LOCATION:Virtual Meeting via Zoom
CATEGORIES:Committee Meeting,Grapevine-LaViña
ATTACH;FMTTYPE=image/png:https://neta65.org/wp-content/uploads/2023/09/GV-LV_Committee_Meeting.png
END:VEVENT
BEGIN:VEVENT
DTSTART;TZID=America/Chicago:20300907T120000
DTEND;TZID=America/Chicago:20300907T130000
DTSTAMP:20260425T083846
CREATED:20260209T203836Z
LAST-MODIFIED:20260209T203836Z
UID:10001359-1915012800-1915016400@neta65.org
SUMMARY:NETA65 Accessibilities  Zoom Monthly Meeting
DESCRIPTION:1st Saturday each month \nZoom: 831 7605 2625 \nPswd: 205058
URL:https://neta65.org/event/neta65accessibilities-zoom-monthly-meeting-2/2030-09-07/
CATEGORIES:Committee Meeting
ATTACH;FMTTYPE=image/png:https://neta65.org/wp-content/uploads/2024/09/Accessinilities-2026-meetings.png
LOCATION:
END:VEVENT
BEGIN:VEVENT
DTSTART;TZID=America/Chicago:20300918T190000
DTEND;TZID=America/Chicago:20300918T200000
DTSTAMP:20260425T083846
CREATED:20230919T022750Z
LAST-MODIFIED:20260120T155356Z
UID:10001346-1915988400-1915992000@neta65.org
SUMMARY:AA Grapevine / La Viña Committee Meeting
DESCRIPTION:3rd Wednesday of every Month 7pm – 8pm \nZoom Info:\nID 949 476 7497\nPasscode neta65
URL:https://neta65.org/event/aa-grapevine-la-vina-committee-meeting-2024-09/2030-09-18/
LOCATION:Virtual Meeting via Zoom
CATEGORIES:Committee Meeting,Grapevine-LaViña
ATTACH;FMTTYPE=image/png:https://neta65.org/wp-content/uploads/2023/09/GV-LV_Committee_Meeting.png
END:VEVENT
BEGIN:VEVENT
DTSTART;TZID=America/Chicago:20300921T100000
DTEND;TZID=America/Chicago:20300921T110000
DTSTAMP:20260425T083846
CREATED:20260110T180634Z
LAST-MODIFIED:20260110T180634Z
UID:10001336-1916215200-1916218800@neta65.org
SUMMARY:NETA65 CPC Committee Monthly Meeting
DESCRIPTION:Monthly CPC Committee meeting:\nNormally 3rd Saturday of the month at 10am via zoom; changed this month to accommodate for Assembly\n\nJoin Zoom Meeting or select Link:\nMeeting ID: 916 2176 7662Passcode: 645587
URL:https://neta65.org/event/cpc-committee-meeting-26-2-2-2-2-2/2030-09-21/
LOCATION:https://zoom.us/j/91621767662?pwd=Gg2HZXV3VOGNChfX385j1DVZk6HH4k.1
END:VEVENT
BEGIN:VEVENT
DTSTART;TZID=America/Chicago:20301005T120000
DTEND;TZID=America/Chicago:20301005T130000
DTSTAMP:20260425T083846
CREATED:20260209T203836Z
LAST-MODIFIED:20260209T203836Z
UID:10001360-1917432000-1917435600@neta65.org
SUMMARY:NETA65 Accessibilities  Zoom Monthly Meeting
DESCRIPTION:1st Saturday each month \nZoom: 831 7605 2625 \nPswd: 205058
URL:https://neta65.org/event/neta65accessibilities-zoom-monthly-meeting-2/2030-10-05/
CATEGORIES:Committee Meeting
ATTACH;FMTTYPE=image/png:https://neta65.org/wp-content/uploads/2024/09/Accessinilities-2026-meetings.png
LOCATION:
END:VEVENT
BEGIN:VEVENT
DTSTART;TZID=America/Chicago:20301016T190000
DTEND;TZID=America/Chicago:20301016T200000
DTSTAMP:20260425T083846
CREATED:20230919T022750Z
LAST-MODIFIED:20260120T155356Z
UID:10001347-1918407600-1918411200@neta65.org
SUMMARY:AA Grapevine / La Viña Committee Meeting
DESCRIPTION:3rd Wednesday of every Month 7pm – 8pm \nZoom Info:\nID 949 476 7497\nPasscode neta65
URL:https://neta65.org/event/aa-grapevine-la-vina-committee-meeting-2024-09/2030-10-16/
LOCATION:Virtual Meeting via Zoom
CATEGORIES:Committee Meeting,Grapevine-LaViña
ATTACH;FMTTYPE=image/png:https://neta65.org/wp-content/uploads/2023/09/GV-LV_Committee_Meeting.png
END:VEVENT
BEGIN:VEVENT
DTSTART;TZID=America/Chicago:20301019T100000
DTEND;TZID=America/Chicago:20301019T110000
DTSTAMP:20260425T083846
CREATED:20260110T180634Z
LAST-MODIFIED:20260110T180634Z
UID:10001337-1918634400-1918638000@neta65.org
SUMMARY:NETA65 CPC Committee Monthly Meeting
DESCRIPTION:Monthly CPC Committee meeting:\nNormally 3rd Saturday of the month at 10am via zoom; changed this month to accommodate for Assembly\n\nJoin Zoom Meeting or select Link:\nMeeting ID: 916 2176 7662Passcode: 645587
URL:https://neta65.org/event/cpc-committee-meeting-26-2-2-2-2-2/2030-10-19/
LOCATION:https://zoom.us/j/91621767662?pwd=Gg2HZXV3VOGNChfX385j1DVZk6HH4k.1
END:VEVENT
BEGIN:VEVENT
DTSTART;TZID=America/Chicago:20301102T120000
DTEND;TZID=America/Chicago:20301102T130000
DTSTAMP:20260425T083846
CREATED:20260209T203836Z
LAST-MODIFIED:20260209T203836Z
UID:10001361-1919851200-1919854800@neta65.org
SUMMARY:NETA65 Accessibilities  Zoom Monthly Meeting
DESCRIPTION:1st Saturday each month \nZoom: 831 7605 2625 \nPswd: 205058
URL:https://neta65.org/event/neta65accessibilities-zoom-monthly-meeting-2/2030-11-02/
CATEGORIES:Committee Meeting
ATTACH;FMTTYPE=image/png:https://neta65.org/wp-content/uploads/2024/09/Accessinilities-2026-meetings.png
LOCATION:
END:VEVENT
BEGIN:VEVENT
DTSTART;TZID=America/Chicago:20301116T100000
DTEND;TZID=America/Chicago:20301116T110000
DTSTAMP:20260425T083846
CREATED:20260110T180634Z
LAST-MODIFIED:20260110T180634Z
UID:10001338-1921053600-1921057200@neta65.org
SUMMARY:NETA65 CPC Committee Monthly Meeting
DESCRIPTION:Monthly CPC Committee meeting:\nNormally 3rd Saturday of the month at 10am via zoom; changed this month to accommodate for Assembly\n\nJoin Zoom Meeting or select Link:\nMeeting ID: 916 2176 7662Passcode: 645587
URL:https://neta65.org/event/cpc-committee-meeting-26-2-2-2-2-2/2030-11-16/
LOCATION:https://zoom.us/j/91621767662?pwd=Gg2HZXV3VOGNChfX385j1DVZk6HH4k.1
END:VEVENT
BEGIN:VEVENT
DTSTART;TZID=America/Chicago:20301120T190000
DTEND;TZID=America/Chicago:20301120T200000
DTSTAMP:20260425T083846
CREATED:20230919T022750Z
LAST-MODIFIED:20260120T155356Z
UID:10001348-1921431600-1921435200@neta65.org
SUMMARY:AA Grapevine / La Viña Committee Meeting
DESCRIPTION:3rd Wednesday of every Month 7pm – 8pm \nZoom Info:\nID 949 476 7497\nPasscode neta65
URL:https://neta65.org/event/aa-grapevine-la-vina-committee-meeting-2024-09/2030-11-20/
LOCATION:Virtual Meeting via Zoom
CATEGORIES:Committee Meeting,Grapevine-LaViña
ATTACH;FMTTYPE=image/png:https://neta65.org/wp-content/uploads/2023/09/GV-LV_Committee_Meeting.png
END:VEVENT
BEGIN:VEVENT
DTSTART;TZID=America/Chicago:20301207T120000
DTEND;TZID=America/Chicago:20301207T130000
DTSTAMP:20260425T083846
CREATED:20260209T203836Z
LAST-MODIFIED:20260209T203836Z
UID:10001362-1922875200-1922878800@neta65.org
SUMMARY:NETA65 Accessibilities  Zoom Monthly Meeting
DESCRIPTION:1st Saturday each month \nZoom: 831 7605 2625 \nPswd: 205058
URL:https://neta65.org/event/neta65accessibilities-zoom-monthly-meeting-2/2030-12-07/
CATEGORIES:Committee Meeting
ATTACH;FMTTYPE=image/png:https://neta65.org/wp-content/uploads/2024/09/Accessinilities-2026-meetings.png
LOCATION:
END:VEVENT
BEGIN:VEVENT
DTSTART;TZID=America/Chicago:20301218T190000
DTEND;TZID=America/Chicago:20301218T200000
DTSTAMP:20260425T083846
CREATED:20230919T022750Z
LAST-MODIFIED:20260120T155356Z
UID:10001349-1923850800-1923854400@neta65.org
SUMMARY:AA Grapevine / La Viña Committee Meeting
DESCRIPTION:3rd Wednesday of every Month 7pm – 8pm \nZoom Info:\nID 949 476 7497\nPasscode neta65
URL:https://neta65.org/event/aa-grapevine-la-vina-committee-meeting-2024-09/2030-12-18/
LOCATION:Virtual Meeting via Zoom
CATEGORIES:Committee Meeting,Grapevine-LaViña
ATTACH;FMTTYPE=image/png:https://neta65.org/wp-content/uploads/2023/09/GV-LV_Committee_Meeting.png
END:VEVENT
BEGIN:VEVENT
DTSTART;TZID=America/Chicago:20301221T100000
DTEND;TZID=America/Chicago:20301221T110000
DTSTAMP:20260425T083846
CREATED:20260110T180634Z
LAST-MODIFIED:20260110T180634Z
UID:10001339-1924077600-1924081200@neta65.org
SUMMARY:NETA65 CPC Committee Monthly Meeting
DESCRIPTION:Monthly CPC Committee meeting:\nNormally 3rd Saturday of the month at 10am via zoom; changed this month to accommodate for Assembly\n\nJoin Zoom Meeting or select Link:\nMeeting ID: 916 2176 7662Passcode: 645587
URL:https://neta65.org/event/cpc-committee-meeting-26-2-2-2-2-2/2030-12-21/
LOCATION:https://zoom.us/j/91621767662?pwd=Gg2HZXV3VOGNChfX385j1DVZk6HH4k.1
END:VEVENT
BEGIN:VEVENT
DTSTART;TZID=America/Chicago:20310104T120000
DTEND;TZID=America/Chicago:20310104T130000
DTSTAMP:20260425T083846
CREATED:20260209T203836Z
LAST-MODIFIED:20260209T203836Z
UID:10001363-1925294400-1925298000@neta65.org
SUMMARY:NETA65 Accessibilities  Zoom Monthly Meeting
DESCRIPTION:1st Saturday each month \nZoom: 831 7605 2625 \nPswd: 205058
URL:https://neta65.org/event/neta65accessibilities-zoom-monthly-meeting-2/2031-01-04/
CATEGORIES:Committee Meeting
ATTACH;FMTTYPE=image/png:https://neta65.org/wp-content/uploads/2024/09/Accessinilities-2026-meetings.png
LOCATION:
END:VEVENT
BEGIN:VEVENT
DTSTART;TZID=America/Chicago:20310115T190000
DTEND;TZID=America/Chicago:20310115T200000
DTSTAMP:20260425T083846
CREATED:20230919T022750Z
LAST-MODIFIED:20260120T155356Z
UID:10001350-1926270000-1926273600@neta65.org
SUMMARY:AA Grapevine / La Viña Committee Meeting
DESCRIPTION:3rd Wednesday of every Month 7pm – 8pm \nZoom Info:\nID 949 476 7497\nPasscode neta65
URL:https://neta65.org/event/aa-grapevine-la-vina-committee-meeting-2024-09/2031-01-15/
LOCATION:Virtual Meeting via Zoom
CATEGORIES:Committee Meeting,Grapevine-LaViña
ATTACH;FMTTYPE=image/png:https://neta65.org/wp-content/uploads/2023/09/GV-LV_Committee_Meeting.png
END:VEVENT
BEGIN:VEVENT
DTSTART;TZID=America/Chicago:20310118T100000
DTEND;TZID=America/Chicago:20310118T110000
DTSTAMP:20260425T083846
CREATED:20260110T180634Z
LAST-MODIFIED:20260110T180634Z
UID:10001373-1926496800-1926500400@neta65.org
SUMMARY:NETA65 CPC Committee Monthly Meeting
DESCRIPTION:Monthly CPC Committee meeting:\nNormally 3rd Saturday of the month at 10am via zoom; changed this month to accommodate for Assembly\n\nJoin Zoom Meeting or select Link:\nMeeting ID: 916 2176 7662Passcode: 645587
URL:https://neta65.org/event/cpc-committee-meeting-26-2-2-2-2-2/2031-01-18/
LOCATION:https://zoom.us/j/91621767662?pwd=Gg2HZXV3VOGNChfX385j1DVZk6HH4k.1
END:VEVENT
BEGIN:VEVENT
DTSTART;TZID=America/Chicago:20310201T120000
DTEND;TZID=America/Chicago:20310201T130000
DTSTAMP:20260425T083846
CREATED:20260209T203836Z
LAST-MODIFIED:20260209T203836Z
UID:10001364-1927713600-1927717200@neta65.org
SUMMARY:NETA65 Accessibilities  Zoom Monthly Meeting
DESCRIPTION:1st Saturday each month \nZoom: 831 7605 2625 \nPswd: 205058
URL:https://neta65.org/event/neta65accessibilities-zoom-monthly-meeting-2/2031-02-01/
CATEGORIES:Committee Meeting
ATTACH;FMTTYPE=image/png:https://neta65.org/wp-content/uploads/2024/09/Accessinilities-2026-meetings.png
LOCATION:
END:VEVENT
BEGIN:VEVENT
DTSTART;TZID=America/Chicago:20310215T100000
DTEND;TZID=America/Chicago:20310215T110000
DTSTAMP:20260425T083846
CREATED:20260110T180634Z
LAST-MODIFIED:20260110T180634Z
UID:10001374-1928916000-1928919600@neta65.org
SUMMARY:NETA65 CPC Committee Monthly Meeting
DESCRIPTION:Monthly CPC Committee meeting:\nNormally 3rd Saturday of the month at 10am via zoom; changed this month to accommodate for Assembly\n\nJoin Zoom Meeting or select Link:\nMeeting ID: 916 2176 7662Passcode: 645587
URL:https://neta65.org/event/cpc-committee-meeting-26-2-2-2-2-2/2031-02-15/
LOCATION:https://zoom.us/j/91621767662?pwd=Gg2HZXV3VOGNChfX385j1DVZk6HH4k.1
END:VEVENT
END:VCALENDAR