BEGIN:VCALENDAR
VERSION:2.0
PRODID:-// - ECPv6.15.20//NONSGML v1.0//EN
CALSCALE:GREGORIAN
METHOD:PUBLISH
X-ORIGINAL-URL:https://neta65.org
X-WR-CALDESC:Events for 
REFRESH-INTERVAL;VALUE=DURATION:PT1H
X-Robots-Tag:noindex
X-PUBLISHED-TTL:PT1H
BEGIN:VTIMEZONE
TZID:America/Chicago
BEGIN:DAYLIGHT
TZOFFSETFROM:-0600
TZOFFSETTO:-0500
TZNAME:CDT
DTSTART:20220313T080000
END:DAYLIGHT
BEGIN:STANDARD
TZOFFSETFROM:-0500
TZOFFSETTO:-0600
TZNAME:CST
DTSTART:20221106T070000
END:STANDARD
BEGIN:DAYLIGHT
TZOFFSETFROM:-0600
TZOFFSETTO:-0500
TZNAME:CDT
DTSTART:20230312T080000
END:DAYLIGHT
BEGIN:STANDARD
TZOFFSETFROM:-0500
TZOFFSETTO:-0600
TZNAME:CST
DTSTART:20231105T070000
END:STANDARD
BEGIN:DAYLIGHT
TZOFFSETFROM:-0600
TZOFFSETTO:-0500
TZNAME:CDT
DTSTART:20240310T080000
END:DAYLIGHT
BEGIN:STANDARD
TZOFFSETFROM:-0500
TZOFFSETTO:-0600
TZNAME:CST
DTSTART:20241103T070000
END:STANDARD
END:VTIMEZONE
BEGIN:VEVENT
DTSTART;VALUE=DATE:20230720
DTEND;VALUE=DATE:20230724
DTSTAMP:20260422T155404
CREATED:20230703T134547Z
LAST-MODIFIED:20230703T134722Z
UID:10000072-1689811200-1690156799@neta65.org
SUMMARY:2023 Southeast Regional Conference of Young People in AA (SERCYPAA)
DESCRIPTION:
URL:https://neta65.org/event/2023-southeast-regional-conference-of-young-people-in-aa-sercypaa/
LOCATION:Dallas – Hilton\, 4099 Valley View Ln\, Dallas\, Texas\, 75244
CATEGORIES:Convention
ATTACH;FMTTYPE=image/jpeg:https://neta65.org/wp-content/uploads/2023/07/SERCYPAA-2023.jpg
END:VEVENT
BEGIN:VEVENT
DTSTART;TZID=America/Chicago:20230709T130000
DTEND;TZID=America/Chicago:20230709T190000
DTSTAMP:20260422T155404
CREATED:20230709T173016Z
LAST-MODIFIED:20230709T181118Z
UID:10000085-1688907600-1688929200@neta65.org
SUMMARY:2023 Corrections Conference
DESCRIPTION:
URL:https://neta65.org/event/2023-corrections-conference/
LOCATION:Addison Group\, 4839 Keller Springs Road\, Addison\, TX\, 75002\, United States
ATTACH;FMTTYPE=image/png:https://neta65.org/wp-content/uploads/2023/07/2023-Corrections-Event.2.png
END:VEVENT
BEGIN:VEVENT
DTSTART;TZID=America/Chicago:20230527T090000
DTEND;TZID=America/Chicago:20230527T230000
DTSTAMP:20260422T155404
CREATED:20230108T002736Z
LAST-MODIFIED:20230226T014907Z
UID:10000017-1685178000-1685228400@neta65.org
SUMMARY:Delegate's Sharing Session: Delegate’s Conference Report
DESCRIPTION:Date: Saturday\, May 27\, 2023 via ZOOM\nTime: 9:00am-11:00am CT\nSession Summary: “How Do I Create a Report to Take Back to My Group from The Delegate’s Conference Report?” That’s the question many NETA65 members ask just before the Area Summer Assembly each year. The Delegate will host a Delegate’s sharing session once each year in Panel 73 just before the Summer Assembly to help all Assembly attendees understand and prepare for their participation in the Conference Report back at the Summer Assembly. (Important Note: These sharing sessions are offered being by the Panel 73 NETA65 Delegate and attendance is completely optional for any member of NETA65 who wishes to attend and learn more about the General Service Conference and our Area’s participation in it.)
URL:https://neta65.org/event/delegates-sharing-session-delegates-conference-report/
CATEGORIES:Delegate Report
ATTACH;FMTTYPE=image/png:https://neta65.org/wp-content/uploads/2023/01/2023_DelegatesSharing.png
END:VEVENT
BEGIN:VEVENT
DTSTART;VALUE=DATE:20230317
DTEND;VALUE=DATE:20230320
DTSTAMP:20260422T155404
CREATED:20230122T194208Z
LAST-MODIFIED:20230303T064807Z
UID:10000010-1679011200-1679270399@neta65.org
SUMMARY:2023 NETA65 Spring Assembly
DESCRIPTION:We have a block of 25 rooms and the hotel will book rooms at the rate ($109 per night) beyond the 25. There is no specific room code – just need to reference “NETA 65″ when booking the room.” \n2023 NETA65 Spring Assembly\nMarch 17-19\, 2023 | 5:00pm – 12:00pm\nRadisson Hotel Forth Worth North – Fossil Creek\n2540 Meacham Boulevard\, Ft. Worth\, TX 76106\nZOOM Meeting ID: 816 6732 1071\nPassword: 493889 \nLINK TO PRE-REGISTRATION\nPlease note that you will be asked about mock committee preferences in this registration form. We will try our best to accommodate your primary preference\, but due to space may not be able to. Please address any questions regarding registration to Jackey B.\, our Alternate Secretary/Registrar\, at altsecretary@neta65.org. \nLINK TO HOTEL REGISTRATION\nTo get the NETA65 room rate (applied by clicking the link above) of $109 per night for a room with a king bed or double beds\, you must book by March 3 to be ensured the discounted rate. If you have any questions about the location\, please reach out to our Convention Chair\, Matt C.\, at convention@neta65.org. \nAGENDA FOR ASSEMBLY- ENG\nAGENDA FOR ASSEMBLY – ESP\nHOTEL MAP WITH ROOM ASSIGNMENTS \nThis is an incredibly important assembly\, as we will be holding the Mock Committees to prepare our Delegate\, Rick W\, to be our voice at the 73rd General Service Conference! The included map shows where each mock committee is meeting. Once registration closes on March 11\, 2023\, we will need a couple of days to assign everyone to a mock committee. \nWe will be tending to one order of business\, the motion to adopt English and Spanish NETA65 logos. Motion and background linked below. \nMOTION TO ADOPT ENGLISH AND SPANISH NETA65 LOGOS – ENG\nMOTION TO ADOPT ENGLISH AND SPANISH NETA65 LOGOS – ESP \nRide and Room Share info \nOur ride and room share coordinator Brandy H. has made it easy to both request a ride or room AND offer to share a ride or room! Please see the links below for the flyers in English and Spanish. \nRIDE AND ROOM SHARE – ENG\nRIDE AND ROOM SHARE – ESP
URL:https://neta65.org/event/2023-neta65-spring-assembly/
LOCATION:Radisson North Fossil Creek\, 2540 Meacham Boulevard\, Fort Worth\, Texas\, 76106
CATEGORIES:Assembly and ACM
ATTACH;FMTTYPE=image/png:https://neta65.org/wp-content/uploads/2023/01/2023-03-17_SPRING_ASSEMBLY.png
END:VEVENT
BEGIN:VEVENT
DTSTART;TZID=America/Chicago:20230228T190000
DTEND;TZID=America/Chicago:20230228T200000
DTSTAMP:20260422T155404
CREATED:20230108T001201Z
LAST-MODIFIED:20230129T114614Z
UID:10000009-1677610800-1677614400@neta65.org
SUMMARY:Town Hall: Questions About the General Service Conference
DESCRIPTION:Date: Tuesday\, February 28\, 2023 via ZOOM\nTime: 7:00pm-8:30pm CT\nSession Summary: Since the GSC operates all year long\, there will be three (3) Town Halls throughout the year to help all Area trusted servants who want to submit proposed agenda items to the conference\ncoordinator learn how to do that. These meetings will also be available for a “What&#39;s On Your Mind” regarding the Conference\, and the Delegate will report to the body any important information our SWR Trustee shares from their General Service Board (GSB) meeting reports given to all SWR Delegates and Alternate Delegates after each board meeting (if it’s available @ that time). (Important Note: These sharing sessions are offered being by the Panel 73 NETA65 Delegate and attendance is completely optional for any member of NETA65 who wishes to attend and learn more about the General Service Conference and our Area&#39;s participation in it.)
URL:https://neta65.org/event/town-hall-questions-about-the-general-service-conference/
CATEGORIES:Delegate Report
ATTACH;FMTTYPE=image/png:https://neta65.org/wp-content/uploads/2023/01/2023_DelegatesSharing.png
END:VEVENT
BEGIN:VEVENT
DTSTART;TZID=America/Chicago:20230225T113000
DTEND;TZID=America/Chicago:20230225T133000
DTSTAMP:20260422T155404
CREATED:20230108T001926Z
LAST-MODIFIED:20230129T114142Z
UID:10000008-1677324600-1677331800@neta65.org
SUMMARY:Delegate's Sharing Session: Spring Assembly Mock Committees
DESCRIPTION:Date: Saturday\, March 4\, 2023 vis ZOOM\nTime: 11:30am – 1:30pm CT\nSession Summary: “What Is a Mock Committee and What Do I Need to Know About it Before Attending?” That’s the question many NETA65 members ask just before the Area Spring Assembly each year. The Delegate will host a sharing session once each year in Panel 73 just before the Spring Assembly to help all Assembly attendees understand and prepare for their participation in the Mock Committees at the Spring Assembly. (Important Note: These sharing sessions are offered being by the Panel 73 NETA65 Delegate and attendance is completely optional for any member of NETA65 who wishes to attend and learn more about the General Service Conference and our Area’s participation in it.)
URL:https://neta65.org/event/delegates-sharing-session-spring-assembly-mock-committees/
CATEGORIES:Delegate Report
ATTACH;FMTTYPE=image/png:https://neta65.org/wp-content/uploads/2023/01/2023_DelegatesSharing.png
END:VEVENT
BEGIN:VEVENT
DTSTART;TZID=America/Chicago:20230218T090000
DTEND;TZID=America/Chicago:20230218T110000
DTSTAMP:20260422T155404
CREATED:20230108T000453Z
LAST-MODIFIED:20230129T111426Z
UID:10000004-1676710800-1676718000@neta65.org
SUMMARY:Delegate's Sharing Session: Final Conference Agenda Items (FAI)
DESCRIPTION:Date: Saturday\, February 18\, 2023 via ZOOM\nTime: 9:00am-11:00am CT\nSession Summary: Session Summary: As soon as final agenda items and background information are distributed each year this Panel (generally by mid-February)\, our Delegate will host a ZOOM meeting for all members of NETA65 who wish to better understand them so they can share that information with their districts and groups to become as well-informed as possible. (Important Note: These sharing sessions are offered by the Panel 73 NETA65 Delegate and attendance is completely optional for any member of NETA65 who wishes to attend and learn more about the General Service Conference and our Area’s participation
URL:https://neta65.org/event/delegates-sharing-session-final-conference-agenda-items-fai/
CATEGORIES:Delegate Report
ATTACH;FMTTYPE=image/png:https://neta65.org/wp-content/uploads/2023/01/2023_DelegatesSharing.png
END:VEVENT
END:VCALENDAR