BEGIN:VCALENDAR
VERSION:2.0
PRODID:-// - ECPv6.15.20//NONSGML v1.0//EN
CALSCALE:GREGORIAN
METHOD:PUBLISH
X-ORIGINAL-URL:https://neta65.org
X-WR-CALDESC:Events for 
REFRESH-INTERVAL;VALUE=DURATION:PT1H
X-Robots-Tag:noindex
X-PUBLISHED-TTL:PT1H
BEGIN:VTIMEZONE
TZID:America/Chicago
BEGIN:DAYLIGHT
TZOFFSETFROM:-0600
TZOFFSETTO:-0500
TZNAME:CDT
DTSTART:20240310T080000
END:DAYLIGHT
BEGIN:STANDARD
TZOFFSETFROM:-0500
TZOFFSETTO:-0600
TZNAME:CST
DTSTART:20241103T070000
END:STANDARD
BEGIN:DAYLIGHT
TZOFFSETFROM:-0600
TZOFFSETTO:-0500
TZNAME:CDT
DTSTART:20250309T080000
END:DAYLIGHT
BEGIN:STANDARD
TZOFFSETFROM:-0500
TZOFFSETTO:-0600
TZNAME:CST
DTSTART:20251102T070000
END:STANDARD
BEGIN:DAYLIGHT
TZOFFSETFROM:-0600
TZOFFSETTO:-0500
TZNAME:CDT
DTSTART:20260308T080000
END:DAYLIGHT
BEGIN:STANDARD
TZOFFSETFROM:-0500
TZOFFSETTO:-0600
TZNAME:CST
DTSTART:20261101T070000
END:STANDARD
END:VTIMEZONE
BEGIN:VEVENT
DTSTART;TZID=America/Chicago:20250111T053000
DTEND;TZID=America/Chicago:20250111T203000
DTSTAMP:20260423T151145
CREATED:20250103T135316Z
LAST-MODIFIED:20250103T135332Z
UID:10000836-1736573400-1736627400@neta65.org
SUMMARY:Grapevine/LaVina at CityWide
DESCRIPTION:I am excited to share with y’all that we will be setting up a GV /LV information table at the Dallas City Wide this month. \nPlease join us Saturday\, January 11 when we kick off the first event of our committee on Panel 75! \nLovers Lane United Methodist Church \n9200 Inwood Rd\, Dallas TX 75220 \n  \nCity Wide is a special open AA meeting that is held on the second Saturday of every month. \nPotluck dinner starts at 5:30 followed by a speaker meeting at 7 pm. Meeting ends at 8:30. \nIn January the speaker will be Michael B from ODAAT – Plano\, TX
URL:https://neta65.org/event/grapevine-lavina-at-citywide/
LOCATION:CityWide-United Methodist Church\, 9200 Inwood Rd\, Dallas\, TX\, 75220\, United States
CATEGORIES:Grapevine-LaViña
ATTACH;FMTTYPE=image/jpeg:https://neta65.org/wp-content/uploads/2025/01/GP-LAV-CityWide.jpg
END:VEVENT
BEGIN:VEVENT
DTSTART;TZID=America/Chicago:20250112T130000
DTEND;TZID=America/Chicago:20250112T173000
DTSTAMP:20260423T151145
CREATED:20241215T134211Z
LAST-MODIFIED:20250108T023957Z
UID:10000805-1736686800-1736703000@neta65.org
SUMMARY:Area 65 Central GSR/DCM Orientation
DESCRIPTION:Enjoy the atmosphere of fellow area trusted servants while finding support and learning the structure and procedures of our Area 65 organization. We want to thank you for your serve in AA and  help you integrate into your new position. We will have materials and presentation to help you navigate through uncertainty. We will also have food:)\nOrientation Agenda\, Agenda Esp\nZoom:\nMeeting ID: 835 7419 9044\nPasscode: 611189
URL:https://neta65.org/event/area-65-central-gsr-dcm-orientation/
LOCATION:Clear Cut Directions Group\, 185 S White Chapel Blvd\, Southlake\, TX\, 76092\, United States
CATEGORIES:Orientation
END:VEVENT
BEGIN:VEVENT
DTSTART;TZID=America/Chicago:20250115T190000
DTEND;TZID=America/Chicago:20250115T203000
DTSTAMP:20260423T151145
CREATED:20250114T003943Z
LAST-MODIFIED:20250116T040052Z
UID:10000837-1736967600-1736973000@neta65.org
SUMMARY:Grapevine and La Vina Committee Meeting
DESCRIPTION:Hello GV/LV reps and all Grapevine and La Vina enthusiasts!\nPlease join us at our Kick Off meeting of Panel 75! \n\nZoom meeting id: 884 5768 4974\nPass code: neta65\nDirect link: https://us02web.zoom.us/j/88457684974?pwd=iru12SnvA98w5FPrTHAnWVxDD1L2We.1\n\n\nThis week\, I would like to introduce a proposed meeting Calendar\, with topics that will be discussed throughout the year. \n\nAgenda: \n\nIntroductions\nProposed Meeting Calendar : Dates and Topics\nGrapevine 12 step tools Video\nJanuary Magazine: Spiritual Awakenings\nEditorial Calendar\nGrapevine News\nPrice Increase Books February\nEvents\nGV/LV Subscriptions\nGV/LV District Reps Sharing Session\nGV/LV Group Reps Sharing Session\nQ&A \n\n\n  \n 
URL:https://neta65.org/event/grapevine-and-la-vina-committee-meeting/
LOCATION:
CATEGORIES:Committee Meeting
ATTACH;FMTTYPE=image/png:https://neta65.org/wp-content/uploads/2025/01/GV-Lavina-Jan-2025.png
END:VEVENT
BEGIN:VEVENT
DTSTART;TZID=America/Chicago:20250115T200000
DTEND;TZID=America/Chicago:20250115T210000
DTSTAMP:20260423T151145
CREATED:20231008T215318Z
LAST-MODIFIED:20250825T194356Z
UID:10000248-1736971200-1736974800@neta65.org
SUMMARY:Corrections Committee Meeting
DESCRIPTION:
URL:https://neta65.org/event/corrections-committee-meeting-24-09/2025-01-15/
LOCATION:Virtual Meeting via Zoom
CATEGORIES:Committee Meeting,Corrections
ATTACH;FMTTYPE=image/png:https://neta65.org/wp-content/uploads/2023/10/2023-10-CORRECTIONS-COMMITTEE.png
END:VEVENT
BEGIN:VEVENT
DTSTART;TZID=America/Chicago:20250118T100000
DTEND;TZID=America/Chicago:20250118T110000
DTSTAMP:20260423T151145
CREATED:20241010T185814Z
LAST-MODIFIED:20250101T193328Z
UID:10000739-1737194400-1737198000@neta65.org
SUMMARY:NETA65 CPC Committee Monthly Meeting
DESCRIPTION:Monthly CPC Committee meeting:\n3rd Saturday of the month at 10am via zoom\n\nJoin Zoom Meeting or select Link:\nMeeting ID: 564 920 3162\nPasscode: 328586
URL:https://neta65.org/event/cpc-committee-meeting-26/2025-01-18/
LOCATION:https://zoom.us/j/5649203162?pwd=BnHqr4dGgH32hHyod7aG6lhIcZ1D2H.1&omn=98908871665
END:VEVENT
BEGIN:VEVENT
DTSTART;TZID=America/Chicago:20250119T130000
DTEND;TZID=America/Chicago:20250119T173000
DTSTAMP:20260423T151145
CREATED:20241215T133233Z
LAST-MODIFIED:20250114T005546Z
UID:10000803-1737291600-1737307800@neta65.org
SUMMARY:Area 65 West GDR/DCM Orientation
DESCRIPTION:Enjoy the atmosphere of fellow area trusted servants while finding support and learning the structure and procedures of our Area 65 organization. We want to thank you for your serve in AA and  help you integrate into your new position. We will have materials and presentation to help you navigate through uncertainty. We will also have food:) Watch out for the Dinosaurs here in Glen Rose.\nOrientation Agenda and Slides\nZoom:\nMeeting ID: 835 7419 9044\nPasscode: 611189
URL:https://neta65.org/event/area-65-west-gdr-dcm-orientation/
LOCATION:Holiday Inn Express\, 113 Paluxy Summit Blvd\, Glen Rose\, Texas\, 76043\, United States
CATEGORIES:Orientation
END:VEVENT
BEGIN:VEVENT
DTSTART;TZID=America/Chicago:20250120T193000
DTEND;TZID=America/Chicago:20250120T203000
DTSTAMP:20260423T151145
CREATED:20240408T005110Z
LAST-MODIFIED:20250825T194210Z
UID:10000980-1737401400-1737405000@neta65.org
SUMMARY:NETA65 PI Committee Monthly Meeting
DESCRIPTION:Join the PI Committee Meeting the 3rd Monday each month to share and get the lates information for area AA public information methods\, events\, and opportunities. \nMeeting ID: 889 7249 5179 \nPasscode: 089098
URL:https://neta65.org/event/pi-committee-meeting-29/2025-01-20/
LOCATION:TX
CATEGORIES:Committee Meeting,PI
ATTACH;FMTTYPE=image/jpeg:https://neta65.org/wp-content/uploads/2024/04/PI-Carry-the-Message.jpg
END:VEVENT
BEGIN:VEVENT
DTSTART;TZID=America/Chicago:20250125T100000
DTEND;TZID=America/Chicago:20250125T163000
DTSTAMP:20260423T151145
CREATED:20241107T122749Z
LAST-MODIFIED:20241107T123033Z
UID:10000800-1737799200-1737822600@neta65.org
SUMMARY:12 Traditions Workshop
DESCRIPTION:Please join us for a one-day workshop to learn about the 12 Traditions. \nPanelists PJ H-R\, Jimmy D\, and Sarah P \n10–10:15 Intro\n10:15–11:15 1st Session (1\,2\,3)\n15 minute break \n11:30–12:30 2nd Session (4\,5\,6)\n12:30–1:30 Lunch\n1:30–2:30 3rd session (7\,8\,9) \n15 minute break\n2:45–3:45 4th session (10\,11\,12)\n3:45–4:30 Q&A and Wrap-Up
URL:https://neta65.org/event/12-traditions-workshop/
LOCATION:Cochran Chapel UMC\, 9027 Midway Road\, Dallas\, TX\, 75209\, United States
CATEGORIES:Workshop
ATTACH;FMTTYPE=image/png:https://neta65.org/wp-content/uploads/2024/11/Traditions_Workshop_January2025_FINAL_150dpi.png
END:VEVENT
BEGIN:VEVENT
DTSTART;TZID=America/Chicago:20250126T130000
DTEND;TZID=America/Chicago:20250126T173000
DTSTAMP:20260423T151145
CREATED:20241215T133511Z
LAST-MODIFIED:20250114T005837Z
UID:10000804-1737896400-1737912600@neta65.org
SUMMARY:Area 65 East GSR/DCM Orientation
DESCRIPTION:Enjoy the atmosphere of fellow area trusted servants while finding support and learning the structure and procedures of our Area 65 organization. We want to thank you for your serve in AA and  help you integrate into your new position. We will have materials and presentation to help you navigate through uncertainty. We will also have food:)\nOrientation Agenda\, Agenda Esp\, Slides\nZoom:\nMeeting ID: 835 7419 9044\nPasscode: 611189
URL:https://neta65.org/event/area-65-east-gsr-dcm-orientation/
LOCATION:Mineola Group\, 308 University St\, Mineola\, TX\, 75773\, United States
CATEGORIES:Orientation
END:VEVENT
BEGIN:VEVENT
DTSTART;TZID=America/Chicago:20250127T193000
DTEND;TZID=America/Chicago:20250127T203000
DTSTAMP:20260423T151145
CREATED:20250102T173636Z
LAST-MODIFIED:20250102T173636Z
UID:10000811-1738006200-1738009800@neta65.org
SUMMARY:NETA 65 Literature Committee Meeting
DESCRIPTION:Hi all\, we are having our committee meetings via zoom the last Monday of every month at 7:30-8:30ish. You are welcome to attend and look forward to your participation.\nMeeting ID: 875 1649 3173\nPass: 913926
URL:https://neta65.org/event/neta-65-literature-committee-meeting/
LOCATION:
CATEGORIES:Committee Meeting
END:VEVENT
BEGIN:VEVENT
DTSTART;TZID=America/Chicago:20250128T190000
DTEND;TZID=America/Chicago:20250128T200000
DTSTAMP:20260423T151145
CREATED:20241010T145049Z
LAST-MODIFIED:20250825T193635Z
UID:10000559-1738090800-1738094400@neta65.org
SUMMARY:Treatment Committee Meeting
DESCRIPTION:NETA 65 Treatment Committee Meetings\n4th TUESDAY OF EVERY MONTH\n7:00 PM \nJoin Zoom Meeting\nhttps://us02web.zoom.us/j/2123241524?pwd=TWFhaVhOUjd1Rk5uL3hJVXhtOWlKUT09 \nMeeting ID: 212 324 1524\nPasscode: 057892
URL:https://neta65.org/event/treatment-committee-meeting-03-2023-2/2025-01-28/
LOCATION:Virtual Meeting via Zoom
CATEGORIES:Committee Meeting,Treatment Committee Meeting
ATTACH;FMTTYPE=image/png:https://neta65.org/wp-content/uploads/2023/07/2023-07_TREATMENT-COMMITTEE.png
END:VEVENT
END:VCALENDAR