BEGIN:VCALENDAR
VERSION:2.0
PRODID:-// - ECPv6.15.20//NONSGML v1.0//EN
CALSCALE:GREGORIAN
METHOD:PUBLISH
X-ORIGINAL-URL:https://neta65.org
X-WR-CALDESC:Events for 
REFRESH-INTERVAL;VALUE=DURATION:PT1H
X-Robots-Tag:noindex
X-PUBLISHED-TTL:PT1H
BEGIN:VTIMEZONE
TZID:America/Chicago
BEGIN:DAYLIGHT
TZOFFSETFROM:-0600
TZOFFSETTO:-0500
TZNAME:CDT
DTSTART:20240310T080000
END:DAYLIGHT
BEGIN:STANDARD
TZOFFSETFROM:-0500
TZOFFSETTO:-0600
TZNAME:CST
DTSTART:20241103T070000
END:STANDARD
BEGIN:DAYLIGHT
TZOFFSETFROM:-0600
TZOFFSETTO:-0500
TZNAME:CDT
DTSTART:20250309T080000
END:DAYLIGHT
BEGIN:STANDARD
TZOFFSETFROM:-0500
TZOFFSETTO:-0600
TZNAME:CST
DTSTART:20251102T070000
END:STANDARD
BEGIN:DAYLIGHT
TZOFFSETFROM:-0600
TZOFFSETTO:-0500
TZNAME:CDT
DTSTART:20260308T080000
END:DAYLIGHT
BEGIN:STANDARD
TZOFFSETFROM:-0500
TZOFFSETTO:-0600
TZNAME:CST
DTSTART:20261101T070000
END:STANDARD
END:VTIMEZONE
BEGIN:VEVENT
DTSTART;TZID=America/Chicago:20250203T193000
DTEND;TZID=America/Chicago:20250203T203000
DTSTAMP:20260423T140335
CREATED:20250118T034921Z
LAST-MODIFIED:20250219T015811Z
UID:10000963-1738611000-1738614600@neta65.org
SUMMARY:Area 65 Comite de Informacion Publica
DESCRIPTION:-Spanish speaking zoom. \n\n\nArea 65 Comite de Informacion Publica07:30 PM Central Time (US and Canada)\nEvery month on the First Monday \n\nMeeting ID 839 3461 0982\n\nPasscode 623357
URL:https://neta65.org/event/area-65-comite-de-informacion-publica/2025-02-03/
LOCATION:https://us02web.zoom.us/j/83934610982?pwd=4WiQeNFG1kFZL71b94cENNHiNFEv39.1
END:VEVENT
BEGIN:VEVENT
DTSTART;TZID=America/Chicago:20250211T190000
DTEND;TZID=America/Chicago:20250211T203000
DTSTAMP:20260423T140335
CREATED:20250206T140101Z
LAST-MODIFIED:20250206T140209Z
UID:10000872-1739300400-1739305800@neta65.org
SUMMARY:Town Hall
DESCRIPTION:Town Halls: Conference365 Flyer\nSince the GSC operates all year long\, there will be four Town Halls throughout the year to help all Area trusted servants who want to submit proposed agenda items to the conference coordinator learn how to do that.\nThese meetings will also be available for a “What’s On Your Mind” regarding the Conference\, and the Delegate will report to the body any important information our SWR Trustee shares from their General Service Board (GSB) meeting reports given to all SWR Delegates and Alternate Delegates after each board meeting (if it’s available @ that time).\nZoom Meeting ID : 455 571 1924 Passcode: 051617
URL:https://neta65.org/event/town-hall-2/
LOCATION:
CATEGORIES:Delegate Report
ATTACH;FMTTYPE=image/png:https://neta65.org/wp-content/uploads/2025/02/Conference-Connect-2025.png
ORGANIZER;CN="Delegate":MAILTO:delegate@neta65.org
END:VEVENT
BEGIN:VEVENT
DTSTART;TZID=America/Chicago:20250215T100000
DTEND;TZID=America/Chicago:20250215T110000
DTSTAMP:20260423T140335
CREATED:20241010T185814Z
LAST-MODIFIED:20250101T193328Z
UID:10000740-1739613600-1739617200@neta65.org
SUMMARY:NETA65 CPC Committee Monthly Meeting
DESCRIPTION:Monthly CPC Committee meeting:\n3rd Saturday of the month at 10am via zoom\n\nJoin Zoom Meeting or select Link:\nMeeting ID: 564 920 3162\nPasscode: 328586
URL:https://neta65.org/event/cpc-committee-meeting-26/2025-02-15/
LOCATION:https://zoom.us/j/5649203162?pwd=BnHqr4dGgH32hHyod7aG6lhIcZ1D2H.1&omn=98908871665
END:VEVENT
BEGIN:VEVENT
DTSTART;TZID=America/Chicago:20250216T133000
DTEND;TZID=America/Chicago:20250216T173000
DTSTAMP:20260423T140335
CREATED:20240820T020632Z
LAST-MODIFIED:20250216T193848Z
UID:10000184-1739712600-1739727000@neta65.org
SUMMARY:2025 Winter Area Committee Meeting (ACM)
DESCRIPTION:Winter ACM\n\nTopic: NETA65 Winter ACM 2025\nTime: Feb 16\, 2025 01:00 PM Central Time (US and Canada)\nGeorgetown Group\, 6210 Campbell Rd.\, Suite 120\, Dallas\, TX 75248\n\n\nMeeting ID: 816 3958 1534\nPasscode: 930532\nACM Reports\nAgenda
URL:https://neta65.org/event/winter-area-committee-meeting-acm/
LOCATION:Georgetown Group\, 6210 Campbell Rd.\, Suite 120\, Dallas\, TX\, 75248\, United States
CATEGORIES:Assembly and ACM
END:VEVENT
BEGIN:VEVENT
DTSTART;TZID=America/Chicago:20250217T190000
DTEND;TZID=America/Chicago:20250217T203000
DTSTAMP:20260423T140335
CREATED:20250118T033830Z
LAST-MODIFIED:20250825T193924Z
UID:10000839-1739818800-1739824200@neta65.org
SUMMARY:PI Committee Meeting English
DESCRIPTION:English speaking zoom.\n\n\n\n\n\nNETA 65 PI Monthly Meeting\nJan 20\, 2025 07:00 PM Central Time (US and Canada)\nEvery month on the Third Mon\, until Dec 21\, 2026\, 24\nMeeting ID 854 4188 3616\nPasscode 329611
URL:https://neta65.org/event/pi-committee-meeting-english/2025-02-17/
LOCATION:https://us02web.zoom.us/j/85441883616?pwd=b97JBlxexLlccgpyjAovNLCZ2HQgu7.1
CATEGORIES:Committee Meeting
END:VEVENT
BEGIN:VEVENT
DTSTART;TZID=America/Chicago:20250217T193000
DTEND;TZID=America/Chicago:20250217T203000
DTSTAMP:20260423T140335
CREATED:20240408T005110Z
LAST-MODIFIED:20250825T194210Z
UID:10000981-1739820600-1739824200@neta65.org
SUMMARY:NETA65 PI Committee Monthly Meeting
DESCRIPTION:Join the PI Committee Meeting the 3rd Monday each month to share and get the lates information for area AA public information methods\, events\, and opportunities. \nMeeting ID: 889 7249 5179 \nPasscode: 089098
URL:https://neta65.org/event/pi-committee-meeting-29/2025-02-17/
LOCATION:TX
CATEGORIES:Committee Meeting,PI
ATTACH;FMTTYPE=image/jpeg:https://neta65.org/wp-content/uploads/2024/04/PI-Carry-the-Message.jpg
END:VEVENT
BEGIN:VEVENT
DTSTART;TZID=America/Chicago:20250219T200000
DTEND;TZID=America/Chicago:20250219T210000
DTSTAMP:20260423T140335
CREATED:20231008T215318Z
LAST-MODIFIED:20250825T194356Z
UID:10000249-1739995200-1739998800@neta65.org
SUMMARY:Corrections Committee Meeting
DESCRIPTION:
URL:https://neta65.org/event/corrections-committee-meeting-24-09/2025-02-19/
LOCATION:Virtual Meeting via Zoom
CATEGORIES:Committee Meeting,Corrections
ATTACH;FMTTYPE=image/png:https://neta65.org/wp-content/uploads/2023/10/2023-10-CORRECTIONS-COMMITTEE.png
END:VEVENT
BEGIN:VEVENT
DTSTART;TZID=America/Chicago:20250222T090000
DTEND;TZID=America/Chicago:20250222T110000
DTSTAMP:20260423T140335
CREATED:20250130T220753Z
LAST-MODIFIED:20250216T204330Z
UID:10000864-1740214800-1740222000@neta65.org
SUMMARY:Conference Connect 2025 -  FAI's
DESCRIPTION:Sharing Session 1 Final Conference Agenda items (FAIs)  – Flyer English | Español\nAs soon as final agenda items are distributed each year this panel\, our Delegate will have a Zoom meeting for all members of NETA65 who wish to better understand them so they can share that information with their districts and groups to become as well-informed as possible.\nFebruary 22\, 2025 9-11am \nZoom Meeting ID : 455 571 1924 Passcode: 051617
URL:https://neta65.org/event/conference-connect-2025-fais/
LOCATION:
CATEGORIES:Delegate Report
ATTACH;FMTTYPE=image/png:https://neta65.org/wp-content/uploads/2025/02/Conference-Connect-2025-2.png
ORGANIZER;CN="Delegate":MAILTO:delegate@neta65.org
END:VEVENT
BEGIN:VEVENT
DTSTART;TZID=America/Chicago:20250224T193000
DTEND;TZID=America/Chicago:20250224T203000
DTSTAMP:20260423T140335
CREATED:20250220T153917Z
LAST-MODIFIED:20250220T153917Z
UID:10000880-1740425400-1740429000@neta65.org
SUMMARY:NETA 65 Literature Committee Meeting
DESCRIPTION:Hi all\, we are having our committee meetings via zoom the last Monday of every month at 7:30-8:30ish. You are welcome to attend and look forward to your participation.\nMeeting ID: 875 1649 3173\nPass: 913926
URL:https://neta65.org/event/neta-65-literature-committee-meeting-2-2/
LOCATION:
CATEGORIES:Committee Meeting
END:VEVENT
BEGIN:VEVENT
DTSTART;TZID=America/Chicago:20250225T180000
DTEND;TZID=America/Chicago:20250225T183000
DTSTAMP:20260423T140335
CREATED:20250221T225018Z
LAST-MODIFIED:20250223T234236Z
UID:10001062-1740506400-1740508200@neta65.org
SUMMARY:Technology Sharing Session
DESCRIPTION:2025 is our 2nd year hosting Tech Sharing Sessions which sprung from A.A. members who attended the NAATW. Shout out to Jacob E! \nOur primary purpose is to share and communicate information on how technology is enhancing our ability to carry the A.A. message of hope in our Area’s\, Districts\, and Groups.\nThis month (February) we will hear from two A.A. Areas who have had success implementing technology services with AA’s Bridging the Gap Program.\nOur presenters for Tuesday\, February 25\, 2025 will be: \n\nApril B.\, from Area 34 of Western\, MI.\nCheri J.\, from Area 39 of Western\, MO.\nAfter we invite questions and sharing from others\n\nWe also invite you to join our AA Technology Sharing Session Slack Channel \nhttps://join.slack.com/t/nationaltechsharing/shared_invite/zt-2xobi1xma-OvVWqY7PYtdAMPz32OxgYQ
URL:https://neta65.org/event/technology-sharing-session-2/
LOCATION:https://us02web.zoom.us/j/9147699066?pwd=lnzJNQrY6hGJMYKbS0cZrUobFBrLWs.1&omn=81517809591
CATEGORIES:Technology
ATTACH;FMTTYPE=image/png:https://neta65.org/wp-content/uploads/2025/02/25-TSSFlyer21-3-1.png
END:VEVENT
BEGIN:VEVENT
DTSTART;TZID=America/Chicago:20250225T190000
DTEND;TZID=America/Chicago:20250225T200000
DTSTAMP:20260423T140335
CREATED:20241010T145049Z
LAST-MODIFIED:20250825T193635Z
UID:10000560-1740510000-1740513600@neta65.org
SUMMARY:Treatment Committee Meeting
DESCRIPTION:NETA 65 Treatment Committee Meetings\n4th TUESDAY OF EVERY MONTH\n7:00 PM \nJoin Zoom Meeting\nhttps://us02web.zoom.us/j/2123241524?pwd=TWFhaVhOUjd1Rk5uL3hJVXhtOWlKUT09 \nMeeting ID: 212 324 1524\nPasscode: 057892
URL:https://neta65.org/event/treatment-committee-meeting-03-2023-2/2025-02-25/
LOCATION:Virtual Meeting via Zoom
CATEGORIES:Committee Meeting,Treatment Committee Meeting
ATTACH;FMTTYPE=image/png:https://neta65.org/wp-content/uploads/2023/07/2023-07_TREATMENT-COMMITTEE.png
END:VEVENT
END:VCALENDAR