BEGIN:VCALENDAR
VERSION:2.0
PRODID:-// - ECPv6.15.20//NONSGML v1.0//EN
CALSCALE:GREGORIAN
METHOD:PUBLISH
X-ORIGINAL-URL:https://neta65.org
X-WR-CALDESC:Events for 
REFRESH-INTERVAL;VALUE=DURATION:PT1H
X-Robots-Tag:noindex
X-PUBLISHED-TTL:PT1H
BEGIN:VTIMEZONE
TZID:America/Chicago
BEGIN:DAYLIGHT
TZOFFSETFROM:-0600
TZOFFSETTO:-0500
TZNAME:CDT
DTSTART:20240310T080000
END:DAYLIGHT
BEGIN:STANDARD
TZOFFSETFROM:-0500
TZOFFSETTO:-0600
TZNAME:CST
DTSTART:20241103T070000
END:STANDARD
BEGIN:DAYLIGHT
TZOFFSETFROM:-0600
TZOFFSETTO:-0500
TZNAME:CDT
DTSTART:20250309T080000
END:DAYLIGHT
BEGIN:STANDARD
TZOFFSETFROM:-0500
TZOFFSETTO:-0600
TZNAME:CST
DTSTART:20251102T070000
END:STANDARD
BEGIN:DAYLIGHT
TZOFFSETFROM:-0600
TZOFFSETTO:-0500
TZNAME:CDT
DTSTART:20260308T080000
END:DAYLIGHT
BEGIN:STANDARD
TZOFFSETFROM:-0500
TZOFFSETTO:-0600
TZNAME:CST
DTSTART:20261101T070000
END:STANDARD
END:VTIMEZONE
BEGIN:VEVENT
DTSTART;TZID=America/Chicago:20250602T193000
DTEND;TZID=America/Chicago:20250602T203000
DTSTAMP:20260423T051048
CREATED:20250328T140211Z
LAST-MODIFIED:20250825T193757Z
UID:10000967-1748892600-1748896200@neta65.org
SUMMARY:Area 65 Public Information Committee - Spanish
DESCRIPTION:-Spanish speaking zoom. \n\n\nArea 65 Comite de Informacion Publica07:30 PM Central Time (US and Canada)\nEvery month on the First Monday \n\nMeeting ID 839 3461 0982\n\nPasscode 623357
URL:https://neta65.org/event/area-65-comite-de-informacion-publica-2/2025-06-02/
LOCATION:https://us02web.zoom.us/j/83934610982?pwd=4WiQeNFG1kFZL71b94cENNHiNFEv39.1
END:VEVENT
BEGIN:VEVENT
DTSTART;TZID=America/Chicago:20250608T190000
DTEND;TZID=America/Chicago:20250608T210000
DTSTAMP:20260423T051048
CREATED:20250518T224145Z
LAST-MODIFIED:20250518T224145Z
UID:10001180-1749409200-1749416400@neta65.org
SUMMARY:La Vina Writing Workshop (in Spanish)
DESCRIPTION:We will present a brief video about the history and Impact of the magazine on the Hispanic Community.\nHave members that were published on LV\, share their experience.\nDiscuss the guidelines for contributing to La Viña.\nHow to start writing a draft.\nOptions on how to submit your experience to the magazine.\nParticipants will also have the opportunity to share what they wrote.\nRaffle of a digital subscription.\nFood and fellowship!
URL:https://neta65.org/event/la-vina-writing-workshop-in-spanish/
LOCATION:Cleburne – unete a nostros\, 304 S Mill St\, Cleburne\, TX\, 76033\, United States
CATEGORIES:Workshop
ATTACH;FMTTYPE=image/png:https://neta65.org/wp-content/uploads/2025/05/La-Vina-6-8.png
END:VEVENT
BEGIN:VEVENT
DTSTART;TZID=America/Chicago:20250614T120000
DTEND;TZID=America/Chicago:20250614T210000
DTSTAMP:20260423T051048
CREATED:20250518T215603Z
LAST-MODIFIED:20250518T215603Z
UID:10001178-1749902400-1749934800@neta65.org
SUMMARY:Founders Day Anniversary Celebration
DESCRIPTION:Come celebrate 90 years of AA!! \nPot Luck lunch 3 speakers and dinner!
URL:https://neta65.org/event/founders-day-anniversary-celebration/
LOCATION:1700 E Front St Tyler\, Texas 75702\, 1700 E Front St\, Tyler\, TX\, United States
CATEGORIES:Area Supported - Other
ATTACH;FMTTYPE=image/png:https://neta65.org/wp-content/uploads/2025/05/Founders-Day-2025.png
END:VEVENT
BEGIN:VEVENT
DTSTART;TZID=America/Chicago:20250616T190000
DTEND;TZID=America/Chicago:20250616T203000
DTSTAMP:20260423T051048
CREATED:20250118T033830Z
LAST-MODIFIED:20250825T193924Z
UID:10000843-1750100400-1750105800@neta65.org
SUMMARY:PI Committee Meeting English
DESCRIPTION:English speaking zoom.\n\n\n\n\n\nNETA 65 PI Monthly Meeting\nJan 20\, 2025 07:00 PM Central Time (US and Canada)\nEvery month on the Third Mon\, until Dec 21\, 2026\, 24\nMeeting ID 854 4188 3616\nPasscode 329611
URL:https://neta65.org/event/pi-committee-meeting-english/2025-06-16/
LOCATION:https://us02web.zoom.us/j/85441883616?pwd=b97JBlxexLlccgpyjAovNLCZ2HQgu7.1
CATEGORIES:Committee Meeting
END:VEVENT
BEGIN:VEVENT
DTSTART;TZID=America/Chicago:20250616T193000
DTEND;TZID=America/Chicago:20250616T203000
DTSTAMP:20260423T051048
CREATED:20240408T005110Z
LAST-MODIFIED:20250825T194210Z
UID:10000985-1750102200-1750105800@neta65.org
SUMMARY:NETA65 PI Committee Monthly Meeting
DESCRIPTION:Join the PI Committee Meeting the 3rd Monday each month to share and get the lates information for area AA public information methods\, events\, and opportunities. \nMeeting ID: 889 7249 5179 \nPasscode: 089098
URL:https://neta65.org/event/pi-committee-meeting-29/2025-06-16/
LOCATION:TX
CATEGORIES:Committee Meeting,PI
ATTACH;FMTTYPE=image/jpeg:https://neta65.org/wp-content/uploads/2024/04/PI-Carry-the-Message.jpg
END:VEVENT
BEGIN:VEVENT
DTSTART;TZID=America/Chicago:20250618T200000
DTEND;TZID=America/Chicago:20250618T210000
DTSTAMP:20260423T051048
CREATED:20231008T215318Z
LAST-MODIFIED:20250825T194356Z
UID:10000253-1750276800-1750280400@neta65.org
SUMMARY:Corrections Committee Meeting
DESCRIPTION:
URL:https://neta65.org/event/corrections-committee-meeting-24-09/2025-06-18/
LOCATION:Virtual Meeting via Zoom
CATEGORIES:Committee Meeting,Corrections
ATTACH;FMTTYPE=image/png:https://neta65.org/wp-content/uploads/2023/10/2023-10-CORRECTIONS-COMMITTEE.png
END:VEVENT
BEGIN:VEVENT
DTSTART;TZID=America/Chicago:20250621T100000
DTEND;TZID=America/Chicago:20250621T110000
DTSTAMP:20260423T051048
CREATED:20250504T224425Z
LAST-MODIFIED:20250504T224524Z
UID:10001115-1750500000-1750503600@neta65.org
SUMMARY:NETA65 CPC Committee Monthly Meeting
DESCRIPTION:Monthly CPC Committee meeting:\n3rd Saturday of the month at 10am via zoom\n\nJoin Zoom Meeting or select Link:\nMeeting ID: 916 2176 7662Passcode: 645587
URL:https://neta65.org/event/cpc-committee-meeting-26-2-2-2/2025-06-21/
LOCATION:https://zoom.us/j/91621767662?pwd=Gg2HZXV3VOGNChfX385j1DVZk6HH4k.1
END:VEVENT
BEGIN:VEVENT
DTSTART;TZID=America/Chicago:20250621T140000
DTEND;TZID=America/Chicago:20250621T170000
DTSTAMP:20260423T051048
CREATED:20250204T200205Z
LAST-MODIFIED:20250206T205950Z
UID:10000873-1750514400-1750525200@neta65.org
SUMMARY:2025 Grape-a-Thon / La Vina-Thon
DESCRIPTION:This year’s Grape-a-Thon / La Vina-Thon will be a bilingual and hybrid event. \nDate: Saturday\, June 21st\, 2pm-5pm \nAddress:\nHarbor Club\n3000 W. 5th St.\nFort Worth\, TX 76107 \nZoom/hybrid:\nMeeting ID: 949 4767 497\nPasscode: neta65
URL:https://neta65.org/event/2025-grape-a-thon-la-vina-thon/
LOCATION:Harbor Club\, 3000 W. 5th St\, Fort Worth\, TX\, 76107\, United States
CATEGORIES:Grapevine-LaViña
ATTACH;FMTTYPE=image/png:https://neta65.org/wp-content/uploads/2025/02/Flyer-7-2025-grapeathon.png
END:VEVENT
BEGIN:VEVENT
DTSTART;TZID=America/Chicago:20250624T180000
DTEND;TZID=America/Chicago:20250624T183000
DTSTAMP:20260423T051048
CREATED:20250221T224856Z
LAST-MODIFIED:20250825T193521Z
UID:10001066-1750788000-1750789800@neta65.org
SUMMARY:Technology Sharing Session
DESCRIPTION:2025 is our 2nd year hosting Tech Sharing Sessions which sprung from A.A. members who attended the NAATW. Shout out to Jacob E! \nOur primary purpose is to share and communicate information on how technology is enhancing our ability to carry the A.A. message of hope in our Area’s\, Districts\, and Groups.
URL:https://neta65.org/event/technology-sharing-session/2025-06-24/
LOCATION:https://us02web.zoom.us/j/9147699066?pwd=lnzJNQrY6hGJMYKbS0cZrUobFBrLWs.1&omn=81517809591
CATEGORIES:Technology
ATTACH;FMTTYPE=image/png:https://neta65.org/wp-content/uploads/2025/02/25-TSSFlyer21-3-1.png
END:VEVENT
BEGIN:VEVENT
DTSTART;TZID=America/Chicago:20250624T190000
DTEND;TZID=America/Chicago:20250624T200000
DTSTAMP:20260423T051048
CREATED:20241010T145049Z
LAST-MODIFIED:20250825T193635Z
UID:10000564-1750791600-1750795200@neta65.org
SUMMARY:Treatment Committee Meeting
DESCRIPTION:NETA 65 Treatment Committee Meetings\n4th TUESDAY OF EVERY MONTH\n7:00 PM \nJoin Zoom Meeting\nhttps://us02web.zoom.us/j/2123241524?pwd=TWFhaVhOUjd1Rk5uL3hJVXhtOWlKUT09 \nMeeting ID: 212 324 1524\nPasscode: 057892
URL:https://neta65.org/event/treatment-committee-meeting-03-2023-2/2025-06-24/
LOCATION:Virtual Meeting via Zoom
CATEGORIES:Committee Meeting,Treatment Committee Meeting
ATTACH;FMTTYPE=image/png:https://neta65.org/wp-content/uploads/2023/07/2023-07_TREATMENT-COMMITTEE.png
END:VEVENT
BEGIN:VEVENT
DTSTART;TZID=America/Chicago:20250627T170000
DTEND;TZID=America/Chicago:20250629T130000
DTSTAMP:20260423T051048
CREATED:20250205T023327Z
LAST-MODIFIED:20250628T125650Z
UID:10000876-1751043600-1751202000@neta65.org
SUMMARY:2025 Summer Area Assembly
DESCRIPTION:Please join us for our Delegate Report for the 2025 General Service Conference. Activities begin Friday and end Sunday at noon. It is at the Kaufman Civic Center\, Kaufman Tx. Full agenda and hotel info to come as event approaches. \nRegistration \nAgenda Committee Reports \nDelegate’s Report \n\n\nEnglish – slide deck | PDF\n\n\n\nEspañol – Paquete de diapositivas | PDF\n\n\nTo book Holiday Inn Express in Terrell with our group rate\, please follow the steps below: \n1) Click HERE: Book Hotel for NETA65!\n2) Click VIEW PRICES button (white)\n3) Select Dates: June 27 – 29\n4) “Group Rate” should already be selected under the “Rate Preference” dropdown. If it’s not\, select Group Rate and the code is NET.\n5) Click VIEW PRICES button (blue)\n6) Select your room and checkout as usual.\n \nMeeting ID: 825 7326 5939 Passcode: 197077
URL:https://neta65.org/event/2025-summer-assembly/
LOCATION:Kaufman Civic Center\, Kaufman Civic Center is 607 E Fair St\, Kaufman\, TX\, 75142\, United States
CATEGORIES:Assembly and ACM
END:VEVENT
BEGIN:VEVENT
DTSTART;TZID=America/Chicago:20250630T193000
DTEND;TZID=America/Chicago:20250630T203000
DTSTAMP:20260423T051048
CREATED:20250220T153829Z
LAST-MODIFIED:20250825T193403Z
UID:10001078-1751311800-1751315400@neta65.org
SUMMARY:NETA 65 Literature Committee Meeting
DESCRIPTION:Hi all\, we are having our committee meetings via zoom the last Monday of every month at 7:30-8:30ish. You are welcome to attend and look forward to your participation.\nMeeting ID: 861 921 5560\nPass: 881561
URL:https://neta65.org/event/neta-65-literature-committee-meeting-2/2025-06-30/
LOCATION:
CATEGORIES:Committee Meeting
END:VEVENT
END:VCALENDAR