BEGIN:VCALENDAR
VERSION:2.0
PRODID:-// - ECPv6.15.20//NONSGML v1.0//EN
CALSCALE:GREGORIAN
METHOD:PUBLISH
X-ORIGINAL-URL:https://neta65.org
X-WR-CALDESC:Events for 
REFRESH-INTERVAL;VALUE=DURATION:PT1H
X-Robots-Tag:noindex
X-PUBLISHED-TTL:PT1H
BEGIN:VTIMEZONE
TZID:America/Chicago
BEGIN:DAYLIGHT
TZOFFSETFROM:-0600
TZOFFSETTO:-0500
TZNAME:CDT
DTSTART:20240310T080000
END:DAYLIGHT
BEGIN:STANDARD
TZOFFSETFROM:-0500
TZOFFSETTO:-0600
TZNAME:CST
DTSTART:20241103T070000
END:STANDARD
BEGIN:DAYLIGHT
TZOFFSETFROM:-0600
TZOFFSETTO:-0500
TZNAME:CDT
DTSTART:20250309T080000
END:DAYLIGHT
BEGIN:STANDARD
TZOFFSETFROM:-0500
TZOFFSETTO:-0600
TZNAME:CST
DTSTART:20251102T070000
END:STANDARD
BEGIN:DAYLIGHT
TZOFFSETFROM:-0600
TZOFFSETTO:-0500
TZNAME:CDT
DTSTART:20260308T080000
END:DAYLIGHT
BEGIN:STANDARD
TZOFFSETFROM:-0500
TZOFFSETTO:-0600
TZNAME:CST
DTSTART:20261101T070000
END:STANDARD
END:VTIMEZONE
BEGIN:VEVENT
DTSTART;TZID=America/Chicago:20250703T080000
DTEND;TZID=America/Chicago:20250705T170000
DTSTAMP:20260423T034642
CREATED:20240615T202951Z
LAST-MODIFIED:20240615T202951Z
UID:10000175-1751529600-1751734800@neta65.org
SUMMARY:2025 International Convention
DESCRIPTION:2025 International Convention\nVancouver Convention Centre and BC Place Stadium
URL:https://neta65.org/event/2025-international-convention/
LOCATION:TX
CATEGORIES:Convention
END:VEVENT
BEGIN:VEVENT
DTSTART;TZID=America/Chicago:20250707T193000
DTEND;TZID=America/Chicago:20250707T203000
DTSTAMP:20260423T034642
CREATED:20250328T140211Z
LAST-MODIFIED:20250825T193757Z
UID:10000968-1751916600-1751920200@neta65.org
SUMMARY:Area 65 Public Information Committee - Spanish
DESCRIPTION:-Spanish speaking zoom. \n\n\nArea 65 Comite de Informacion Publica07:30 PM Central Time (US and Canada)\nEvery month on the First Monday \n\nMeeting ID 839 3461 0982\n\nPasscode 623357
URL:https://neta65.org/event/area-65-comite-de-informacion-publica-2/2025-07-07/
LOCATION:https://us02web.zoom.us/j/83934610982?pwd=4WiQeNFG1kFZL71b94cENNHiNFEv39.1
END:VEVENT
BEGIN:VEVENT
DTSTART;TZID=America/Chicago:20250712T090000
DTEND;TZID=America/Chicago:20250712T160000
DTSTAMP:20260423T034642
CREATED:20250530T004115Z
LAST-MODIFIED:20250530T004115Z
UID:10001181-1752310800-1752336000@neta65.org
SUMMARY:NETA 65 Corrections Conference
DESCRIPTION:Please Join us at the NETA65 2025 Corrections Conference\nTime to make the connection through those working within our corrections system.
URL:https://neta65.org/event/neta-65-corrections-conference-2/
LOCATION:Arlington Group\, 1226 S Bowen Rd\, Arlington\, TX\, 76013\, United States
CATEGORIES:Corrections
ATTACH;FMTTYPE=image/png:https://neta65.org/wp-content/uploads/2025/05/2025-Corrections-Conference.png
END:VEVENT
BEGIN:VEVENT
DTSTART;TZID=America/Chicago:20250712T193000
DTEND;TZID=America/Chicago:20250712T213000
DTSTAMP:20260423T034642
CREATED:20250328T121146Z
LAST-MODIFIED:20250328T140032Z
UID:10001108-1752348600-1752355800@neta65.org
SUMMARY:Grapevine/La Vina Audio Workshop
DESCRIPTION:Audio Workshop at Grupo Nueva Vida\nRecord your story. Event in Spanish.
URL:https://neta65.org/event/taller-de-audio-grapevine-la-vina/
LOCATION:Grupo Nueva Vida\, 593 W Debbie Ln Ste 102\, Mansfield\, 76063\, United States
ATTACH;FMTTYPE=image/png:https://neta65.org/wp-content/uploads/2025/03/Taller-de-Audio-2025-1.png
END:VEVENT
BEGIN:VEVENT
DTSTART;TZID=America/Chicago:20250712T193000
DTEND;TZID=America/Chicago:20250712T213000
DTSTAMP:20260423T034642
CREATED:20250401T151210Z
LAST-MODIFIED:20250401T151210Z
UID:10001111-1752348600-1752355800@neta65.org
SUMMARY:Taller de Audio Grapevine/La Vina
DESCRIPTION:Audio Workshop at Grupo Nueva Vida\nRecord your story. Event in Spanish.
URL:https://neta65.org/event/taller-de-audio-grapevine-la-vina-2/
LOCATION:Grupo Nueva Vida\, 593 W Debbie Ln Ste 102\, Mansfield\, 76063\, United States
ATTACH;FMTTYPE=image/png:https://neta65.org/wp-content/uploads/2025/03/Taller-de-Audio-2025-1.png
END:VEVENT
BEGIN:VEVENT
DTSTART;TZID=America/Chicago:20250713T130000
DTEND;TZID=America/Chicago:20250713T170000
DTSTAMP:20260423T034642
CREATED:20250207T011904Z
LAST-MODIFIED:20250713T142143Z
UID:10000879-1752411600-1752426000@neta65.org
SUMMARY:2025 Summer Area Committee Meeting (ACM)
DESCRIPTION:Committee Members will present reports as well as plan agenda and process motions for upcoming assembly.\nAgenda with hybrid info\nTrusted Servants Reports
URL:https://neta65.org/event/2025-summer-area-committee-meeting-acm/
LOCATION:Prisioneros Liberados\, 244 E Grauwyler Rd\, Irving\, Texas\, 75061
CATEGORIES:Assembly and ACM
END:VEVENT
BEGIN:VEVENT
DTSTART;TZID=America/Chicago:20250716T200000
DTEND;TZID=America/Chicago:20250716T210000
DTSTAMP:20260423T034642
CREATED:20231008T215318Z
LAST-MODIFIED:20250825T194356Z
UID:10000254-1752696000-1752699600@neta65.org
SUMMARY:Corrections Committee Meeting
DESCRIPTION:
URL:https://neta65.org/event/corrections-committee-meeting-24-09/2025-07-16/
LOCATION:Virtual Meeting via Zoom
CATEGORIES:Committee Meeting,Corrections
ATTACH;FMTTYPE=image/png:https://neta65.org/wp-content/uploads/2023/10/2023-10-CORRECTIONS-COMMITTEE.png
END:VEVENT
BEGIN:VEVENT
DTSTART;TZID=America/Chicago:20250719T100000
DTEND;TZID=America/Chicago:20250719T110000
DTSTAMP:20260423T034642
CREATED:20250504T224425Z
LAST-MODIFIED:20250504T224524Z
UID:10001116-1752919200-1752922800@neta65.org
SUMMARY:NETA65 CPC Committee Monthly Meeting
DESCRIPTION:Monthly CPC Committee meeting:\n3rd Saturday of the month at 10am via zoom\n\nJoin Zoom Meeting or select Link:\nMeeting ID: 916 2176 7662Passcode: 645587
URL:https://neta65.org/event/cpc-committee-meeting-26-2-2-2/2025-07-19/
LOCATION:https://zoom.us/j/91621767662?pwd=Gg2HZXV3VOGNChfX385j1DVZk6HH4k.1
END:VEVENT
BEGIN:VEVENT
DTSTART;TZID=America/Chicago:20250719T133000
DTEND;TZID=America/Chicago:20250719T133000
DTSTAMP:20260423T034642
CREATED:20250713T201641Z
LAST-MODIFIED:20250713T201733Z
UID:10001193-1752931800-1752931800@neta65.org
SUMMARY:CPC & PI Combined Workshop
DESCRIPTION:Please join us for a Cooperation with the Professional Community and Public Information Workshop
URL:https://neta65.org/event/cpc-pi-combined-workshop/
LOCATION:Arlington Group\, 1226 S Bowen Rd\, Arlington\, TX\, 76013\, United States
CATEGORIES:Workshop
ATTACH;FMTTYPE=image/png:https://neta65.org/wp-content/uploads/2025/07/CPC-PI-Workshop.png
END:VEVENT
BEGIN:VEVENT
DTSTART;TZID=America/Chicago:20250719T133000
DTEND;TZID=America/Chicago:20250719T153000
DTSTAMP:20260423T034642
CREATED:20250713T182800Z
LAST-MODIFIED:20250713T184103Z
UID:10001190-1752931800-1752939000@neta65.org
SUMMARY:Grapevine Writing Workshop
DESCRIPTION:
URL:https://neta65.org/event/grapevine-writing-workshop/
LOCATION:Language of the Heart Group\, 4121 Colleyville Blvd\, Suite 7\, Colleyville\, TX\, 76034\, United States
CATEGORIES:Workshop
ATTACH;FMTTYPE=image/png:https://neta65.org/wp-content/uploads/2025/07/Grapevine-wkshp-LOH-Eng.png
END:VEVENT
BEGIN:VEVENT
DTSTART;TZID=America/Chicago:20250719T190000
DTEND;TZID=America/Chicago:20250719T210000
DTSTAMP:20260423T034642
CREATED:20250709T200218Z
LAST-MODIFIED:20250709T200218Z
UID:10001189-1752951600-1752958800@neta65.org
SUMMARY:Last Refuge Group Anniversary
DESCRIPTION:We invite you to celebrate with us our first anniversary.
URL:https://neta65.org/event/last-refuge-group-anniversary/
LOCATION:Last Refuge Group\, 2501 N Collins St Ste 238\, Arlington\, TX\, United States
ATTACH;FMTTYPE=image/png:https://neta65.org/wp-content/uploads/2025/07/Last-Refuge-Group.png
END:VEVENT
BEGIN:VEVENT
DTSTART;TZID=America/Chicago:20250721T190000
DTEND;TZID=America/Chicago:20250721T203000
DTSTAMP:20260423T034642
CREATED:20250118T033830Z
LAST-MODIFIED:20250825T193924Z
UID:10000844-1753124400-1753129800@neta65.org
SUMMARY:PI Committee Meeting English
DESCRIPTION:English speaking zoom.\n\n\n\n\n\nNETA 65 PI Monthly Meeting\nJan 20\, 2025 07:00 PM Central Time (US and Canada)\nEvery month on the Third Mon\, until Dec 21\, 2026\, 24\nMeeting ID 854 4188 3616\nPasscode 329611
URL:https://neta65.org/event/pi-committee-meeting-english/2025-07-21/
LOCATION:https://us02web.zoom.us/j/85441883616?pwd=b97JBlxexLlccgpyjAovNLCZ2HQgu7.1
CATEGORIES:Committee Meeting
END:VEVENT
BEGIN:VEVENT
DTSTART;TZID=America/Chicago:20250721T193000
DTEND;TZID=America/Chicago:20250721T203000
DTSTAMP:20260423T034642
CREATED:20240408T005110Z
LAST-MODIFIED:20250825T194210Z
UID:10000986-1753126200-1753129800@neta65.org
SUMMARY:NETA65 PI Committee Monthly Meeting
DESCRIPTION:Join the PI Committee Meeting the 3rd Monday each month to share and get the lates information for area AA public information methods\, events\, and opportunities. \nMeeting ID: 889 7249 5179 \nPasscode: 089098
URL:https://neta65.org/event/pi-committee-meeting-29/2025-07-21/
LOCATION:TX
CATEGORIES:Committee Meeting,PI
ATTACH;FMTTYPE=image/jpeg:https://neta65.org/wp-content/uploads/2024/04/PI-Carry-the-Message.jpg
END:VEVENT
BEGIN:VEVENT
DTSTART;TZID=America/Chicago:20250722T180000
DTEND;TZID=America/Chicago:20250722T183000
DTSTAMP:20260423T034642
CREATED:20250221T224856Z
LAST-MODIFIED:20250825T193521Z
UID:10001067-1753207200-1753209000@neta65.org
SUMMARY:Technology Sharing Session
DESCRIPTION:2025 is our 2nd year hosting Tech Sharing Sessions which sprung from A.A. members who attended the NAATW. Shout out to Jacob E! \nOur primary purpose is to share and communicate information on how technology is enhancing our ability to carry the A.A. message of hope in our Area’s\, Districts\, and Groups.
URL:https://neta65.org/event/technology-sharing-session/2025-07-22/
LOCATION:https://us02web.zoom.us/j/9147699066?pwd=lnzJNQrY6hGJMYKbS0cZrUobFBrLWs.1&omn=81517809591
CATEGORIES:Technology
ATTACH;FMTTYPE=image/png:https://neta65.org/wp-content/uploads/2025/02/25-TSSFlyer21-3-1.png
END:VEVENT
BEGIN:VEVENT
DTSTART;TZID=America/Chicago:20250722T190000
DTEND;TZID=America/Chicago:20250722T200000
DTSTAMP:20260423T034642
CREATED:20241010T145049Z
LAST-MODIFIED:20250825T193635Z
UID:10000565-1753210800-1753214400@neta65.org
SUMMARY:Treatment Committee Meeting
DESCRIPTION:NETA 65 Treatment Committee Meetings\n4th TUESDAY OF EVERY MONTH\n7:00 PM \nJoin Zoom Meeting\nhttps://us02web.zoom.us/j/2123241524?pwd=TWFhaVhOUjd1Rk5uL3hJVXhtOWlKUT09 \nMeeting ID: 212 324 1524\nPasscode: 057892
URL:https://neta65.org/event/treatment-committee-meeting-03-2023-2/2025-07-22/
LOCATION:Virtual Meeting via Zoom
CATEGORIES:Committee Meeting,Treatment Committee Meeting
ATTACH;FMTTYPE=image/png:https://neta65.org/wp-content/uploads/2023/07/2023-07_TREATMENT-COMMITTEE.png
END:VEVENT
BEGIN:VEVENT
DTSTART;TZID=America/Chicago:20250726T190000
DTEND;TZID=America/Chicago:20250726T210000
DTSTAMP:20260423T034642
CREATED:20250713T184804Z
LAST-MODIFIED:20250713T194231Z
UID:10001191-1753556400-1753563600@neta65.org
SUMMARY:La Vina Writing Workshop (in Spanish)
DESCRIPTION:La Vina’s History and Impact on the Hispanic Community\nExperience of members published in La Viña\nGuidelines for Contributing to La Viña\nHow to start writing a draft\nHow to submit your experience to LV\nOpportunity to share what you wrote\nRaffle for a digital subscription\nFood and fellowship
URL:https://neta65.org/event/la-vina-writing-workshop-in-spanish-2/
LOCATION:Groupo Liberacion\, 1810 Balboa Dr\, Dallas\, Texas\, 75224\, United States
CATEGORIES:Grapevine-LaViña
ATTACH;FMTTYPE=image/png:https://neta65.org/wp-content/uploads/2025/07/La-Vina-Groupo-Liberacion.png
END:VEVENT
BEGIN:VEVENT
DTSTART;TZID=America/Chicago:20250728T193000
DTEND;TZID=America/Chicago:20250728T203000
DTSTAMP:20260423T034642
CREATED:20250220T153829Z
LAST-MODIFIED:20250825T193403Z
UID:10001087-1753731000-1753734600@neta65.org
SUMMARY:NETA 65 Literature Committee Meeting
DESCRIPTION:Hi all\, we are having our committee meetings via zoom the last Monday of every month at 7:30-8:30ish. You are welcome to attend and look forward to your participation.\nMeeting ID: 861 921 5560\nPass: 881561
URL:https://neta65.org/event/neta-65-literature-committee-meeting-2/2025-07-28/
LOCATION:
CATEGORIES:Committee Meeting
END:VEVENT
END:VCALENDAR