BEGIN:VCALENDAR
VERSION:2.0
PRODID:-// - ECPv6.15.20//NONSGML v1.0//EN
CALSCALE:GREGORIAN
METHOD:PUBLISH
X-ORIGINAL-URL:https://neta65.org
X-WR-CALDESC:Events for 
REFRESH-INTERVAL;VALUE=DURATION:PT1H
X-Robots-Tag:noindex
X-PUBLISHED-TTL:PT1H
BEGIN:VTIMEZONE
TZID:America/Chicago
BEGIN:DAYLIGHT
TZOFFSETFROM:-0600
TZOFFSETTO:-0500
TZNAME:CDT
DTSTART:20250309T080000
END:DAYLIGHT
BEGIN:STANDARD
TZOFFSETFROM:-0500
TZOFFSETTO:-0600
TZNAME:CST
DTSTART:20251102T070000
END:STANDARD
BEGIN:DAYLIGHT
TZOFFSETFROM:-0600
TZOFFSETTO:-0500
TZNAME:CDT
DTSTART:20260308T080000
END:DAYLIGHT
BEGIN:STANDARD
TZOFFSETFROM:-0500
TZOFFSETTO:-0600
TZNAME:CST
DTSTART:20261101T070000
END:STANDARD
BEGIN:DAYLIGHT
TZOFFSETFROM:-0600
TZOFFSETTO:-0500
TZNAME:CDT
DTSTART:20270314T080000
END:DAYLIGHT
BEGIN:STANDARD
TZOFFSETFROM:-0500
TZOFFSETTO:-0600
TZNAME:CST
DTSTART:20271107T070000
END:STANDARD
END:VTIMEZONE
BEGIN:VEVENT
DTSTART;TZID=America/Chicago:20260307T090000
DTEND;TZID=America/Chicago:20260307T103000
DTSTAMP:20260422T153016
CREATED:20260209T223059Z
LAST-MODIFIED:20260212T183745Z
UID:10001367-1772874000-1772879400@neta65.org
SUMMARY:Delegate - Conference Connect Orientation/Training/Chairs/Scribes
DESCRIPTION:English pdf: CONFERENCEConnect \nSpanish pdf: CONFERENCEConnect SPN \nOrientation/Training: Mock Committee Chairs / Co-Chairs / Scribes\nWorking in concert with the Delegate\, the Alternate Delegate will have oversight of a Spring\nAssembly mock committee training program. This pre‐Assembly training for trusted servants\nselected by the Delegate to serve as mock committee Chairs\, Co‐Chairs\, and Scribes\, is\ndesigned to review expectations for their service prior to and during the mock committees at\nthe Assembly. Attendance is strongly suggested for trusted servants asked to lead and\nexecute these mock committees so the Area may deliver a consistent mock committee\nexperience for all attendees. \n 
URL:https://neta65.org/event/delegate-conference-connect-boot-camp-1-2/
LOCATION:https://us02web.zoom.us/j/4455711924?pwd=RDF0MTYweXFEdG5uT1hITGlsSHczUT09&omn=88181840080
CATEGORIES:Delegate Report
END:VEVENT
BEGIN:VEVENT
DTSTART;TZID=America/Chicago:20260307T120000
DTEND;TZID=America/Chicago:20260307T130000
DTSTAMP:20260422T153016
CREATED:20260209T203836Z
LAST-MODIFIED:20260209T203836Z
UID:10000439-1772884800-1772888400@neta65.org
SUMMARY:NETA65 Accessibilities  Zoom Monthly Meeting
DESCRIPTION:1st Saturday each month \nZoom: 831 7605 2625 \nPswd: 205058
URL:https://neta65.org/event/neta65accessibilities-zoom-monthly-meeting-2/2026-03-07/
LOCATION:
CATEGORIES:Committee Meeting
ATTACH;FMTTYPE=image/png:https://neta65.org/wp-content/uploads/2024/09/Accessinilities-2026-meetings.png
END:VEVENT
BEGIN:VEVENT
DTSTART;TZID=America/Chicago:20260307T140000
DTEND;TZID=America/Chicago:20260307T160000
DTSTAMP:20260422T153016
CREATED:20260125T161215Z
LAST-MODIFIED:20260125T161215Z
UID:10001352-1772892000-1772899200@neta65.org
SUMMARY:Grapevine Writing Workshop
DESCRIPTION:Grapevine Writing Workshop\nDistrict 41\nSaturday\, March 7\nGroup @Noon & Nite\n2-4 pm
URL:https://neta65.org/event/grapevine-writing-workshop-3/
LOCATION:Noon & Nite Group\, 704 Glencrest Lane\, Longview\, TX\, 75601\, United States
ATTACH;FMTTYPE=image/png:https://neta65.org/wp-content/uploads/2026/01/Writing-Workshop-Noon-and-Nite.png
END:VEVENT
BEGIN:VEVENT
DTSTART;TZID=America/Chicago:20260310T190000
DTEND;TZID=America/Chicago:20260310T200000
DTSTAMP:20260422T153016
CREATED:20260209T222939Z
LAST-MODIFIED:20260212T183833Z
UID:10001366-1773169200-1773172800@neta65.org
SUMMARY:Delegate - Conference Connect Boot Camp 1
DESCRIPTION:English pdf: CONFERENCEConnect \nSpanish pdf: CONFERENCEConnect SPN \nBootCamp 1: Mock Committees\nThe Delegate will host a Mock Committee BootCamp orientation/training once each year in\nPanel 75 just before the Spring Assembly to help all Assembly attendees understand and\nprepare for their participation in the Mock Committee Process at the spring Assembly. \n 
URL:https://neta65.org/event/delegate-conference-connect-boot-camp-1/
LOCATION:https://us02web.zoom.us/j/4455711924?pwd=RDF0MTYweXFEdG5uT1hITGlsSHczUT09&omn=88181840080
CATEGORIES:Delegate Report
END:VEVENT
BEGIN:VEVENT
DTSTART;TZID=America/Chicago:20260316T193000
DTEND;TZID=America/Chicago:20260316T203000
DTSTAMP:20260422T153016
CREATED:20240408T005110Z
LAST-MODIFIED:20250825T194210Z
UID:10000994-1773689400-1773693000@neta65.org
SUMMARY:NETA65 PI Committee Monthly Meeting
DESCRIPTION:Join the PI Committee Meeting the 3rd Monday each month to share and get the lates information for area AA public information methods\, events\, and opportunities. \nMeeting ID: 889 7249 5179 \nPasscode: 089098
URL:https://neta65.org/event/pi-committee-meeting-29/2026-03-16/
LOCATION:TX
CATEGORIES:Committee Meeting,PI
ATTACH;FMTTYPE=image/jpeg:https://neta65.org/wp-content/uploads/2024/04/PI-Carry-the-Message.jpg
END:VEVENT
BEGIN:VEVENT
DTSTART;TZID=America/Chicago:20260318T190000
DTEND;TZID=America/Chicago:20260318T200000
DTSTAMP:20260422T153016
CREATED:20230919T022750Z
LAST-MODIFIED:20260120T155356Z
UID:10000380-1773860400-1773864000@neta65.org
SUMMARY:AA Grapevine / La Viña Committee Meeting
DESCRIPTION:3rd Wednesday of every Month 7pm – 8pm \nZoom Info:\nID 949 476 7497\nPasscode neta65
URL:https://neta65.org/event/aa-grapevine-la-vina-committee-meeting-2024-09/2026-03-18/
LOCATION:Virtual Meeting via Zoom
CATEGORIES:Committee Meeting,Grapevine-LaViña
ATTACH;FMTTYPE=image/png:https://neta65.org/wp-content/uploads/2023/09/GV-LV_Committee_Meeting.png
END:VEVENT
BEGIN:VEVENT
DTSTART;TZID=America/Chicago:20260318T200000
DTEND;TZID=America/Chicago:20260318T210000
DTSTAMP:20260422T153016
CREATED:20231008T215318Z
LAST-MODIFIED:20250825T194356Z
UID:10000262-1773864000-1773867600@neta65.org
SUMMARY:Corrections Committee Meeting
DESCRIPTION:
URL:https://neta65.org/event/corrections-committee-meeting-24-09/2026-03-18/
LOCATION:Virtual Meeting via Zoom
CATEGORIES:Committee Meeting,Corrections
ATTACH;FMTTYPE=image/png:https://neta65.org/wp-content/uploads/2023/10/2023-10-CORRECTIONS-COMMITTEE.png
END:VEVENT
BEGIN:VEVENT
DTSTART;TZID=America/Chicago:20260320T170000
DTEND;TZID=America/Chicago:20260322T120000
DTSTAMP:20260422T153016
CREATED:20251012T192741Z
LAST-MODIFIED:20260310T223135Z
UID:10001263-1774026000-1774180800@neta65.org
SUMMARY:Spring Assembly 2026 - Mock Committees
DESCRIPTION:Hosted by District 89 – Volunteers are encouraged \nPre Registration and Mock Committee Selection Closed\n(Please register at the event going forward) \nSpring Assembly Agenda Eng | Esp\nCommittee Reports \n  \nHilton Garden Inn Dallas/Duncanville 800 North Main Street\, Duncanville\, TX 75116 972.283.9777 Hotel www.dallasduncanville.hgi.com\nSpecial Room Rates: $125 King / $129 Queen\nPlease use this booking link which will automatically apply the dates for 2 nights & rate:  NETA 65 Spring Assembly 2026\nOr call and use group code: NETA Cut off date for reserving rooms with NETA rate: 02/20/2026 @ 12:00pm\nIf the room block is full\, please contact Jenny L.\, Convention Chair at Convention@neta65.org. \n\n\n\n\n\n\n\n\n\n\n\n\n\n\n\n\n\n\n\n\n\n\n\n\n\n\n\n\n\n\n\n\n\n\n\n\n\n\n\n\n\n\n\n\n\n\n\n\n\n\n\n\n\n  \n 
URL:https://neta65.org/event/spring-assembly-2026-mock-committees/
LOCATION:Hilton Garden Inn Duncanville\, 800 North Main st\, Duncanville\, TX\, 75116\, United States
CATEGORIES:Assembly and ACM
END:VEVENT
BEGIN:VEVENT
DTSTART;TZID=America/Chicago:20260324T190000
DTEND;TZID=America/Chicago:20260324T200000
DTSTAMP:20260422T153016
CREATED:20241010T145049Z
LAST-MODIFIED:20250825T193635Z
UID:10000573-1774378800-1774382400@neta65.org
SUMMARY:Treatment Committee Meeting
DESCRIPTION:NETA 65 Treatment Committee Meetings\n4th TUESDAY OF EVERY MONTH\n7:00 PM \nJoin Zoom Meeting\nhttps://us02web.zoom.us/j/2123241524?pwd=TWFhaVhOUjd1Rk5uL3hJVXhtOWlKUT09 \nMeeting ID: 212 324 1524\nPasscode: 057892
URL:https://neta65.org/event/treatment-committee-meeting-03-2023-2/2026-03-24/
LOCATION:Virtual Meeting via Zoom
CATEGORIES:Committee Meeting,Treatment Committee Meeting
ATTACH;FMTTYPE=image/png:https://neta65.org/wp-content/uploads/2023/07/2023-07_TREATMENT-COMMITTEE.png
END:VEVENT
BEGIN:VEVENT
DTSTART;TZID=America/Chicago:20260328T133000
DTEND;TZID=America/Chicago:20260328T153000
DTSTAMP:20260422T153016
CREATED:20260315T204940Z
LAST-MODIFIED:20260315T204954Z
UID:10001378-1774704600-1774711800@neta65.org
SUMMARY:District 52 Sponsorship Workshop (@ Duncanville Group)
DESCRIPTION:
URL:https://neta65.org/event/district-52-sponsorship-workshop/
LOCATION:Duncanville Group\, 223 W. Camp Wisdom Rd\, Duncanville\, TX\, 75116\, United States
ATTACH;FMTTYPE=application/pdf:https://neta65.org/wp-content/uploads/2026/03/Distsrict_52_Spon_Workshop_FLYER.FINAL_.pdf
END:VEVENT
BEGIN:VEVENT
DTSTART;TZID=America/Chicago:20260328T190000
DTEND;TZID=America/Chicago:20260328T210000
DTSTAMP:20260422T153016
CREATED:20260315T204002Z
LAST-MODIFIED:20260315T204002Z
UID:10001376-1774724400-1774731600@neta65.org
SUMMARY:Taller de Escritura
DESCRIPTION:
URL:https://neta65.org/event/taller-de-escritura-2/
LOCATION:Grupo La Esperanza\, 730 West Jefferson Blvd\, Dallas\, TX\, 75208\, United States
ATTACH;FMTTYPE=image/png:https://neta65.org/wp-content/uploads/2026/03/Taller-Distritos-Hispanos.png
END:VEVENT
BEGIN:VEVENT
DTSTART;TZID=America/Chicago:20260330T193000
DTEND;TZID=America/Chicago:20260330T203000
DTSTAMP:20260422T153016
CREATED:20250220T153829Z
LAST-MODIFIED:20250825T193403Z
UID:10001081-1774899000-1774902600@neta65.org
SUMMARY:NETA 65 Literature Committee Meeting
DESCRIPTION:Hi all\, we are having our committee meetings via zoom the last Monday of every month at 7:30-8:30ish. You are welcome to attend and look forward to your participation.\nMeeting ID: 861 921 5560\nPass: 881561
URL:https://neta65.org/event/neta-65-literature-committee-meeting-2/2026-03-30/
LOCATION:
CATEGORIES:Committee Meeting
END:VEVENT
END:VCALENDAR