BEGIN:VCALENDAR
VERSION:2.0
PRODID:-// - ECPv6.15.20//NONSGML v1.0//EN
CALSCALE:GREGORIAN
METHOD:PUBLISH
X-ORIGINAL-URL:https://neta65.org
X-WR-CALDESC:Events for 
REFRESH-INTERVAL;VALUE=DURATION:PT1H
X-Robots-Tag:noindex
X-PUBLISHED-TTL:PT1H
BEGIN:VTIMEZONE
TZID:America/Chicago
BEGIN:DAYLIGHT
TZOFFSETFROM:-0600
TZOFFSETTO:-0500
TZNAME:CDT
DTSTART:20250309T080000
END:DAYLIGHT
BEGIN:STANDARD
TZOFFSETFROM:-0500
TZOFFSETTO:-0600
TZNAME:CST
DTSTART:20251102T070000
END:STANDARD
BEGIN:DAYLIGHT
TZOFFSETFROM:-0600
TZOFFSETTO:-0500
TZNAME:CDT
DTSTART:20260308T080000
END:DAYLIGHT
BEGIN:STANDARD
TZOFFSETFROM:-0500
TZOFFSETTO:-0600
TZNAME:CST
DTSTART:20261101T070000
END:STANDARD
BEGIN:DAYLIGHT
TZOFFSETFROM:-0600
TZOFFSETTO:-0500
TZNAME:CDT
DTSTART:20270314T080000
END:DAYLIGHT
BEGIN:STANDARD
TZOFFSETFROM:-0500
TZOFFSETTO:-0600
TZNAME:CST
DTSTART:20271107T070000
END:STANDARD
END:VTIMEZONE
BEGIN:VEVENT
DTSTART;TZID=America/Chicago:20261003T120000
DTEND;TZID=America/Chicago:20261003T130000
DTSTAMP:20260422T230813
CREATED:20260209T203836Z
LAST-MODIFIED:20260209T203836Z
UID:10000446-1791028800-1791032400@neta65.org
SUMMARY:NETA65 Accessibilities  Zoom Monthly Meeting
DESCRIPTION:1st Saturday each month \nZoom: 831 7605 2625 \nPswd: 205058
URL:https://neta65.org/event/neta65accessibilities-zoom-monthly-meeting-2/2026-10-03/
LOCATION:
CATEGORIES:Committee Meeting
ATTACH;FMTTYPE=image/png:https://neta65.org/wp-content/uploads/2024/09/Accessinilities-2026-meetings.png
END:VEVENT
BEGIN:VEVENT
DTSTART;VALUE=DATE:20261009
DTEND;VALUE=DATE:20261012
DTSTAMP:20260422T230813
CREATED:20260322T135817Z
LAST-MODIFIED:20260322T152544Z
UID:10001381-1791504000-1791763199@neta65.org
SUMMARY:SWRAASA 2026 - Houston\, TX
DESCRIPTION:Southwest Regional AA Service Assembly – 2026!
URL:https://neta65.org/event/swraasa-2026-houston-tx/
LOCATION:Hyatt Regency Baytown Houston\, 100 Convention Center Way\, Baytown\, TX\, 77520\, United States
ATTACH;FMTTYPE=application/pdf:https://neta65.org/wp-content/uploads/2026/03/SWRAASA-2026-Flyer.pdf
END:VEVENT
BEGIN:VEVENT
DTSTART;TZID=America/Chicago:20261017T100000
DTEND;TZID=America/Chicago:20261017T110000
DTSTAMP:20260422T230813
CREATED:20260110T180634Z
LAST-MODIFIED:20260110T180634Z
UID:10001289-1792231200-1792234800@neta65.org
SUMMARY:NETA65 CPC Committee Monthly Meeting
DESCRIPTION:Monthly CPC Committee meeting:\nNormally 3rd Saturday of the month at 10am via zoom; changed this month to accommodate for Assembly\n\nJoin Zoom Meeting or select Link:\nMeeting ID: 916 2176 7662Passcode: 645587
URL:https://neta65.org/event/cpc-committee-meeting-26-2-2-2-2-2/2026-10-17/
LOCATION:https://zoom.us/j/91621767662?pwd=Gg2HZXV3VOGNChfX385j1DVZk6HH4k.1
END:VEVENT
BEGIN:VEVENT
DTSTART;TZID=America/Chicago:20261019T193000
DTEND;TZID=America/Chicago:20261019T203000
DTSTAMP:20260422T230813
CREATED:20240408T005110Z
LAST-MODIFIED:20250825T194210Z
UID:10001001-1792438200-1792441800@neta65.org
SUMMARY:NETA65 PI Committee Monthly Meeting
DESCRIPTION:Join the PI Committee Meeting the 3rd Monday each month to share and get the lates information for area AA public information methods\, events\, and opportunities. \nMeeting ID: 889 7249 5179 \nPasscode: 089098
URL:https://neta65.org/event/pi-committee-meeting-29/2026-10-19/
LOCATION:TX
CATEGORIES:Committee Meeting,PI
ATTACH;FMTTYPE=image/jpeg:https://neta65.org/wp-content/uploads/2024/04/PI-Carry-the-Message.jpg
END:VEVENT
BEGIN:VEVENT
DTSTART;TZID=America/Chicago:20261021T190000
DTEND;TZID=America/Chicago:20261021T200000
DTSTAMP:20260422T230813
CREATED:20230919T022750Z
LAST-MODIFIED:20260120T155356Z
UID:10000387-1792609200-1792612800@neta65.org
SUMMARY:AA Grapevine / La Viña Committee Meeting
DESCRIPTION:3rd Wednesday of every Month 7pm – 8pm \nZoom Info:\nID 949 476 7497\nPasscode neta65
URL:https://neta65.org/event/aa-grapevine-la-vina-committee-meeting-2024-09/2026-10-21/
LOCATION:Virtual Meeting via Zoom
CATEGORIES:Committee Meeting,Grapevine-LaViña
ATTACH;FMTTYPE=image/png:https://neta65.org/wp-content/uploads/2023/09/GV-LV_Committee_Meeting.png
END:VEVENT
BEGIN:VEVENT
DTSTART;TZID=America/Chicago:20261021T200000
DTEND;TZID=America/Chicago:20261021T210000
DTSTAMP:20260422T230813
CREATED:20231008T215318Z
LAST-MODIFIED:20250825T194356Z
UID:10000269-1792612800-1792616400@neta65.org
SUMMARY:Corrections Committee Meeting
DESCRIPTION:
URL:https://neta65.org/event/corrections-committee-meeting-24-09/2026-10-21/
LOCATION:Virtual Meeting via Zoom
CATEGORIES:Committee Meeting,Corrections
ATTACH;FMTTYPE=image/png:https://neta65.org/wp-content/uploads/2023/10/2023-10-CORRECTIONS-COMMITTEE.png
END:VEVENT
BEGIN:VEVENT
DTSTART;TZID=America/Chicago:20261026T193000
DTEND;TZID=America/Chicago:20261026T203000
DTSTAMP:20260422T230813
CREATED:20250220T153829Z
LAST-MODIFIED:20250825T193403Z
UID:10001097-1793043000-1793046600@neta65.org
SUMMARY:NETA 65 Literature Committee Meeting
DESCRIPTION:Hi all\, we are having our committee meetings via zoom the last Monday of every month at 7:30-8:30ish. You are welcome to attend and look forward to your participation.\nMeeting ID: 861 921 5560\nPass: 881561
URL:https://neta65.org/event/neta-65-literature-committee-meeting-2/2026-10-26/
LOCATION:
CATEGORIES:Committee Meeting
END:VEVENT
BEGIN:VEVENT
DTSTART;TZID=America/Chicago:20261027T190000
DTEND;TZID=America/Chicago:20261027T200000
DTSTAMP:20260422T230813
CREATED:20241010T145049Z
LAST-MODIFIED:20250825T193635Z
UID:10000580-1793127600-1793131200@neta65.org
SUMMARY:Treatment Committee Meeting
DESCRIPTION:NETA 65 Treatment Committee Meetings\n4th TUESDAY OF EVERY MONTH\n7:00 PM \nJoin Zoom Meeting\nhttps://us02web.zoom.us/j/2123241524?pwd=TWFhaVhOUjd1Rk5uL3hJVXhtOWlKUT09 \nMeeting ID: 212 324 1524\nPasscode: 057892
URL:https://neta65.org/event/treatment-committee-meeting-03-2023-2/2026-10-27/
LOCATION:Virtual Meeting via Zoom
CATEGORIES:Committee Meeting,Treatment Committee Meeting
ATTACH;FMTTYPE=image/png:https://neta65.org/wp-content/uploads/2023/07/2023-07_TREATMENT-COMMITTEE.png
END:VEVENT
END:VCALENDAR