BEGIN:VCALENDAR
VERSION:2.0
PRODID:-// - ECPv6.15.20//NONSGML v1.0//EN
CALSCALE:GREGORIAN
METHOD:PUBLISH
X-ORIGINAL-URL:https://neta65.org
X-WR-CALDESC:Events for 
REFRESH-INTERVAL;VALUE=DURATION:PT1H
X-Robots-Tag:noindex
X-PUBLISHED-TTL:PT1H
BEGIN:VTIMEZONE
TZID:America/Chicago
BEGIN:DAYLIGHT
TZOFFSETFROM:-0600
TZOFFSETTO:-0500
TZNAME:CDT
DTSTART:20250309T080000
END:DAYLIGHT
BEGIN:STANDARD
TZOFFSETFROM:-0500
TZOFFSETTO:-0600
TZNAME:CST
DTSTART:20251102T070000
END:STANDARD
BEGIN:DAYLIGHT
TZOFFSETFROM:-0600
TZOFFSETTO:-0500
TZNAME:CDT
DTSTART:20260308T080000
END:DAYLIGHT
BEGIN:STANDARD
TZOFFSETFROM:-0500
TZOFFSETTO:-0600
TZNAME:CST
DTSTART:20261101T070000
END:STANDARD
BEGIN:DAYLIGHT
TZOFFSETFROM:-0600
TZOFFSETTO:-0500
TZNAME:CDT
DTSTART:20270314T080000
END:DAYLIGHT
BEGIN:STANDARD
TZOFFSETFROM:-0500
TZOFFSETTO:-0600
TZNAME:CST
DTSTART:20271107T070000
END:STANDARD
BEGIN:DAYLIGHT
TZOFFSETFROM:-0600
TZOFFSETTO:-0500
TZNAME:CDT
DTSTART:20280312T080000
END:DAYLIGHT
BEGIN:STANDARD
TZOFFSETFROM:-0500
TZOFFSETTO:-0600
TZNAME:CST
DTSTART:20281105T070000
END:STANDARD
BEGIN:DAYLIGHT
TZOFFSETFROM:-0600
TZOFFSETTO:-0500
TZNAME:CDT
DTSTART:20290311T080000
END:DAYLIGHT
BEGIN:STANDARD
TZOFFSETFROM:-0500
TZOFFSETTO:-0600
TZNAME:CST
DTSTART:20291104T070000
END:STANDARD
END:VTIMEZONE
BEGIN:VEVENT
DTSTART;TZID=America/Chicago:20260516T100000
DTEND;TZID=America/Chicago:20260516T110000
DTSTAMP:20260422T064039
CREATED:20260110T180634Z
LAST-MODIFIED:20260110T180634Z
UID:10001284-1778925600-1778929200@neta65.org
SUMMARY:NETA65 CPC Committee Monthly Meeting
DESCRIPTION:Monthly CPC Committee meeting:\nNormally 3rd Saturday of the month at 10am via zoom; changed this month to accommodate for Assembly\n\nJoin Zoom Meeting or select Link:\nMeeting ID: 916 2176 7662Passcode: 645587
URL:https://neta65.org/event/cpc-committee-meeting-26-2-2-2-2-2/2026-05-16/
LOCATION:https://zoom.us/j/91621767662?pwd=Gg2HZXV3VOGNChfX385j1DVZk6HH4k.1
END:VEVENT
BEGIN:VEVENT
DTSTART;TZID=America/Chicago:20260620T100000
DTEND;TZID=America/Chicago:20260620T110000
DTSTAMP:20260422T064039
CREATED:20260110T180634Z
LAST-MODIFIED:20260110T180634Z
UID:10001285-1781949600-1781953200@neta65.org
SUMMARY:NETA65 CPC Committee Monthly Meeting
DESCRIPTION:Monthly CPC Committee meeting:\nNormally 3rd Saturday of the month at 10am via zoom; changed this month to accommodate for Assembly\n\nJoin Zoom Meeting or select Link:\nMeeting ID: 916 2176 7662Passcode: 645587
URL:https://neta65.org/event/cpc-committee-meeting-26-2-2-2-2-2/2026-06-20/
LOCATION:https://zoom.us/j/91621767662?pwd=Gg2HZXV3VOGNChfX385j1DVZk6HH4k.1
END:VEVENT
BEGIN:VEVENT
DTSTART;TZID=America/Chicago:20260718T100000
DTEND;TZID=America/Chicago:20260718T110000
DTSTAMP:20260422T064039
CREATED:20260110T180634Z
LAST-MODIFIED:20260110T180634Z
UID:10001286-1784368800-1784372400@neta65.org
SUMMARY:NETA65 CPC Committee Monthly Meeting
DESCRIPTION:Monthly CPC Committee meeting:\nNormally 3rd Saturday of the month at 10am via zoom; changed this month to accommodate for Assembly\n\nJoin Zoom Meeting or select Link:\nMeeting ID: 916 2176 7662Passcode: 645587
URL:https://neta65.org/event/cpc-committee-meeting-26-2-2-2-2-2/2026-07-18/
LOCATION:https://zoom.us/j/91621767662?pwd=Gg2HZXV3VOGNChfX385j1DVZk6HH4k.1
END:VEVENT
BEGIN:VEVENT
DTSTART;TZID=America/Chicago:20260815T100000
DTEND;TZID=America/Chicago:20260815T110000
DTSTAMP:20260422T064039
CREATED:20260110T180634Z
LAST-MODIFIED:20260110T180634Z
UID:10001287-1786788000-1786791600@neta65.org
SUMMARY:NETA65 CPC Committee Monthly Meeting
DESCRIPTION:Monthly CPC Committee meeting:\nNormally 3rd Saturday of the month at 10am via zoom; changed this month to accommodate for Assembly\n\nJoin Zoom Meeting or select Link:\nMeeting ID: 916 2176 7662Passcode: 645587
URL:https://neta65.org/event/cpc-committee-meeting-26-2-2-2-2-2/2026-08-15/
LOCATION:https://zoom.us/j/91621767662?pwd=Gg2HZXV3VOGNChfX385j1DVZk6HH4k.1
END:VEVENT
BEGIN:VEVENT
DTSTART;TZID=America/Chicago:20260919T100000
DTEND;TZID=America/Chicago:20260919T110000
DTSTAMP:20260422T064039
CREATED:20260110T180634Z
LAST-MODIFIED:20260110T180634Z
UID:10001288-1789812000-1789815600@neta65.org
SUMMARY:NETA65 CPC Committee Monthly Meeting
DESCRIPTION:Monthly CPC Committee meeting:\nNormally 3rd Saturday of the month at 10am via zoom; changed this month to accommodate for Assembly\n\nJoin Zoom Meeting or select Link:\nMeeting ID: 916 2176 7662Passcode: 645587
URL:https://neta65.org/event/cpc-committee-meeting-26-2-2-2-2-2/2026-09-19/
LOCATION:https://zoom.us/j/91621767662?pwd=Gg2HZXV3VOGNChfX385j1DVZk6HH4k.1
END:VEVENT
BEGIN:VEVENT
DTSTART;TZID=America/Chicago:20261017T100000
DTEND;TZID=America/Chicago:20261017T110000
DTSTAMP:20260422T064039
CREATED:20260110T180634Z
LAST-MODIFIED:20260110T180634Z
UID:10001289-1792231200-1792234800@neta65.org
SUMMARY:NETA65 CPC Committee Monthly Meeting
DESCRIPTION:Monthly CPC Committee meeting:\nNormally 3rd Saturday of the month at 10am via zoom; changed this month to accommodate for Assembly\n\nJoin Zoom Meeting or select Link:\nMeeting ID: 916 2176 7662Passcode: 645587
URL:https://neta65.org/event/cpc-committee-meeting-26-2-2-2-2-2/2026-10-17/
LOCATION:https://zoom.us/j/91621767662?pwd=Gg2HZXV3VOGNChfX385j1DVZk6HH4k.1
END:VEVENT
BEGIN:VEVENT
DTSTART;TZID=America/Chicago:20261121T100000
DTEND;TZID=America/Chicago:20261121T110000
DTSTAMP:20260422T064039
CREATED:20260110T180634Z
LAST-MODIFIED:20260110T180634Z
UID:10001290-1795255200-1795258800@neta65.org
SUMMARY:NETA65 CPC Committee Monthly Meeting
DESCRIPTION:Monthly CPC Committee meeting:\nNormally 3rd Saturday of the month at 10am via zoom; changed this month to accommodate for Assembly\n\nJoin Zoom Meeting or select Link:\nMeeting ID: 916 2176 7662Passcode: 645587
URL:https://neta65.org/event/cpc-committee-meeting-26-2-2-2-2-2/2026-11-21/
LOCATION:https://zoom.us/j/91621767662?pwd=Gg2HZXV3VOGNChfX385j1DVZk6HH4k.1
END:VEVENT
BEGIN:VEVENT
DTSTART;TZID=America/Chicago:20261219T100000
DTEND;TZID=America/Chicago:20261219T110000
DTSTAMP:20260422T064039
CREATED:20260110T180634Z
LAST-MODIFIED:20260110T180634Z
UID:10001291-1797674400-1797678000@neta65.org
SUMMARY:NETA65 CPC Committee Monthly Meeting
DESCRIPTION:Monthly CPC Committee meeting:\nNormally 3rd Saturday of the month at 10am via zoom; changed this month to accommodate for Assembly\n\nJoin Zoom Meeting or select Link:\nMeeting ID: 916 2176 7662Passcode: 645587
URL:https://neta65.org/event/cpc-committee-meeting-26-2-2-2-2-2/2026-12-19/
LOCATION:https://zoom.us/j/91621767662?pwd=Gg2HZXV3VOGNChfX385j1DVZk6HH4k.1
END:VEVENT
BEGIN:VEVENT
DTSTART;TZID=America/Chicago:20270116T100000
DTEND;TZID=America/Chicago:20270116T110000
DTSTAMP:20260422T064039
CREATED:20260110T180634Z
LAST-MODIFIED:20260110T180634Z
UID:10001292-1800093600-1800097200@neta65.org
SUMMARY:NETA65 CPC Committee Monthly Meeting
DESCRIPTION:Monthly CPC Committee meeting:\nNormally 3rd Saturday of the month at 10am via zoom; changed this month to accommodate for Assembly\n\nJoin Zoom Meeting or select Link:\nMeeting ID: 916 2176 7662Passcode: 645587
URL:https://neta65.org/event/cpc-committee-meeting-26-2-2-2-2-2/2027-01-16/
LOCATION:https://zoom.us/j/91621767662?pwd=Gg2HZXV3VOGNChfX385j1DVZk6HH4k.1
END:VEVENT
BEGIN:VEVENT
DTSTART;TZID=America/Chicago:20270220T100000
DTEND;TZID=America/Chicago:20270220T110000
DTSTAMP:20260422T064039
CREATED:20260110T180634Z
LAST-MODIFIED:20260110T180634Z
UID:10001293-1803117600-1803121200@neta65.org
SUMMARY:NETA65 CPC Committee Monthly Meeting
DESCRIPTION:Monthly CPC Committee meeting:\nNormally 3rd Saturday of the month at 10am via zoom; changed this month to accommodate for Assembly\n\nJoin Zoom Meeting or select Link:\nMeeting ID: 916 2176 7662Passcode: 645587
URL:https://neta65.org/event/cpc-committee-meeting-26-2-2-2-2-2/2027-02-20/
LOCATION:https://zoom.us/j/91621767662?pwd=Gg2HZXV3VOGNChfX385j1DVZk6HH4k.1
END:VEVENT
BEGIN:VEVENT
DTSTART;TZID=America/Chicago:20270320T100000
DTEND;TZID=America/Chicago:20270320T110000
DTSTAMP:20260422T064039
CREATED:20260110T180634Z
LAST-MODIFIED:20260110T180634Z
UID:10001294-1805536800-1805540400@neta65.org
SUMMARY:NETA65 CPC Committee Monthly Meeting
DESCRIPTION:Monthly CPC Committee meeting:\nNormally 3rd Saturday of the month at 10am via zoom; changed this month to accommodate for Assembly\n\nJoin Zoom Meeting or select Link:\nMeeting ID: 916 2176 7662Passcode: 645587
URL:https://neta65.org/event/cpc-committee-meeting-26-2-2-2-2-2/2027-03-20/
LOCATION:https://zoom.us/j/91621767662?pwd=Gg2HZXV3VOGNChfX385j1DVZk6HH4k.1
END:VEVENT
BEGIN:VEVENT
DTSTART;TZID=America/Chicago:20270417T100000
DTEND;TZID=America/Chicago:20270417T110000
DTSTAMP:20260422T064039
CREATED:20260110T180634Z
LAST-MODIFIED:20260110T180634Z
UID:10001295-1807956000-1807959600@neta65.org
SUMMARY:NETA65 CPC Committee Monthly Meeting
DESCRIPTION:Monthly CPC Committee meeting:\nNormally 3rd Saturday of the month at 10am via zoom; changed this month to accommodate for Assembly\n\nJoin Zoom Meeting or select Link:\nMeeting ID: 916 2176 7662Passcode: 645587
URL:https://neta65.org/event/cpc-committee-meeting-26-2-2-2-2-2/2027-04-17/
LOCATION:https://zoom.us/j/91621767662?pwd=Gg2HZXV3VOGNChfX385j1DVZk6HH4k.1
END:VEVENT
BEGIN:VEVENT
DTSTART;TZID=America/Chicago:20270515T100000
DTEND;TZID=America/Chicago:20270515T110000
DTSTAMP:20260422T064039
CREATED:20260110T180634Z
LAST-MODIFIED:20260110T180634Z
UID:10001296-1810375200-1810378800@neta65.org
SUMMARY:NETA65 CPC Committee Monthly Meeting
DESCRIPTION:Monthly CPC Committee meeting:\nNormally 3rd Saturday of the month at 10am via zoom; changed this month to accommodate for Assembly\n\nJoin Zoom Meeting or select Link:\nMeeting ID: 916 2176 7662Passcode: 645587
URL:https://neta65.org/event/cpc-committee-meeting-26-2-2-2-2-2/2027-05-15/
LOCATION:https://zoom.us/j/91621767662?pwd=Gg2HZXV3VOGNChfX385j1DVZk6HH4k.1
END:VEVENT
BEGIN:VEVENT
DTSTART;TZID=America/Chicago:20270619T100000
DTEND;TZID=America/Chicago:20270619T110000
DTSTAMP:20260422T064039
CREATED:20260110T180634Z
LAST-MODIFIED:20260110T180634Z
UID:10001297-1813399200-1813402800@neta65.org
SUMMARY:NETA65 CPC Committee Monthly Meeting
DESCRIPTION:Monthly CPC Committee meeting:\nNormally 3rd Saturday of the month at 10am via zoom; changed this month to accommodate for Assembly\n\nJoin Zoom Meeting or select Link:\nMeeting ID: 916 2176 7662Passcode: 645587
URL:https://neta65.org/event/cpc-committee-meeting-26-2-2-2-2-2/2027-06-19/
LOCATION:https://zoom.us/j/91621767662?pwd=Gg2HZXV3VOGNChfX385j1DVZk6HH4k.1
END:VEVENT
BEGIN:VEVENT
DTSTART;TZID=America/Chicago:20270717T100000
DTEND;TZID=America/Chicago:20270717T110000
DTSTAMP:20260422T064039
CREATED:20260110T180634Z
LAST-MODIFIED:20260110T180634Z
UID:10001298-1815818400-1815822000@neta65.org
SUMMARY:NETA65 CPC Committee Monthly Meeting
DESCRIPTION:Monthly CPC Committee meeting:\nNormally 3rd Saturday of the month at 10am via zoom; changed this month to accommodate for Assembly\n\nJoin Zoom Meeting or select Link:\nMeeting ID: 916 2176 7662Passcode: 645587
URL:https://neta65.org/event/cpc-committee-meeting-26-2-2-2-2-2/2027-07-17/
LOCATION:https://zoom.us/j/91621767662?pwd=Gg2HZXV3VOGNChfX385j1DVZk6HH4k.1
END:VEVENT
BEGIN:VEVENT
DTSTART;TZID=America/Chicago:20270821T100000
DTEND;TZID=America/Chicago:20270821T110000
DTSTAMP:20260422T064039
CREATED:20260110T180634Z
LAST-MODIFIED:20260110T180634Z
UID:10001299-1818842400-1818846000@neta65.org
SUMMARY:NETA65 CPC Committee Monthly Meeting
DESCRIPTION:Monthly CPC Committee meeting:\nNormally 3rd Saturday of the month at 10am via zoom; changed this month to accommodate for Assembly\n\nJoin Zoom Meeting or select Link:\nMeeting ID: 916 2176 7662Passcode: 645587
URL:https://neta65.org/event/cpc-committee-meeting-26-2-2-2-2-2/2027-08-21/
LOCATION:https://zoom.us/j/91621767662?pwd=Gg2HZXV3VOGNChfX385j1DVZk6HH4k.1
END:VEVENT
BEGIN:VEVENT
DTSTART;TZID=America/Chicago:20270918T100000
DTEND;TZID=America/Chicago:20270918T110000
DTSTAMP:20260422T064039
CREATED:20260110T180634Z
LAST-MODIFIED:20260110T180634Z
UID:10001300-1821261600-1821265200@neta65.org
SUMMARY:NETA65 CPC Committee Monthly Meeting
DESCRIPTION:Monthly CPC Committee meeting:\nNormally 3rd Saturday of the month at 10am via zoom; changed this month to accommodate for Assembly\n\nJoin Zoom Meeting or select Link:\nMeeting ID: 916 2176 7662Passcode: 645587
URL:https://neta65.org/event/cpc-committee-meeting-26-2-2-2-2-2/2027-09-18/
LOCATION:https://zoom.us/j/91621767662?pwd=Gg2HZXV3VOGNChfX385j1DVZk6HH4k.1
END:VEVENT
BEGIN:VEVENT
DTSTART;TZID=America/Chicago:20271016T100000
DTEND;TZID=America/Chicago:20271016T110000
DTSTAMP:20260422T064039
CREATED:20260110T180634Z
LAST-MODIFIED:20260110T180634Z
UID:10001301-1823680800-1823684400@neta65.org
SUMMARY:NETA65 CPC Committee Monthly Meeting
DESCRIPTION:Monthly CPC Committee meeting:\nNormally 3rd Saturday of the month at 10am via zoom; changed this month to accommodate for Assembly\n\nJoin Zoom Meeting or select Link:\nMeeting ID: 916 2176 7662Passcode: 645587
URL:https://neta65.org/event/cpc-committee-meeting-26-2-2-2-2-2/2027-10-16/
LOCATION:https://zoom.us/j/91621767662?pwd=Gg2HZXV3VOGNChfX385j1DVZk6HH4k.1
END:VEVENT
BEGIN:VEVENT
DTSTART;TZID=America/Chicago:20271120T100000
DTEND;TZID=America/Chicago:20271120T110000
DTSTAMP:20260422T064039
CREATED:20260110T180634Z
LAST-MODIFIED:20260110T180634Z
UID:10001302-1826704800-1826708400@neta65.org
SUMMARY:NETA65 CPC Committee Monthly Meeting
DESCRIPTION:Monthly CPC Committee meeting:\nNormally 3rd Saturday of the month at 10am via zoom; changed this month to accommodate for Assembly\n\nJoin Zoom Meeting or select Link:\nMeeting ID: 916 2176 7662Passcode: 645587
URL:https://neta65.org/event/cpc-committee-meeting-26-2-2-2-2-2/2027-11-20/
LOCATION:https://zoom.us/j/91621767662?pwd=Gg2HZXV3VOGNChfX385j1DVZk6HH4k.1
END:VEVENT
BEGIN:VEVENT
DTSTART;TZID=America/Chicago:20271218T100000
DTEND;TZID=America/Chicago:20271218T110000
DTSTAMP:20260422T064039
CREATED:20260110T180634Z
LAST-MODIFIED:20260110T180634Z
UID:10001303-1829124000-1829127600@neta65.org
SUMMARY:NETA65 CPC Committee Monthly Meeting
DESCRIPTION:Monthly CPC Committee meeting:\nNormally 3rd Saturday of the month at 10am via zoom; changed this month to accommodate for Assembly\n\nJoin Zoom Meeting or select Link:\nMeeting ID: 916 2176 7662Passcode: 645587
URL:https://neta65.org/event/cpc-committee-meeting-26-2-2-2-2-2/2027-12-18/
LOCATION:https://zoom.us/j/91621767662?pwd=Gg2HZXV3VOGNChfX385j1DVZk6HH4k.1
END:VEVENT
BEGIN:VEVENT
DTSTART;TZID=America/Chicago:20280115T100000
DTEND;TZID=America/Chicago:20280115T110000
DTSTAMP:20260422T064039
CREATED:20260110T180634Z
LAST-MODIFIED:20260110T180634Z
UID:10001304-1831543200-1831546800@neta65.org
SUMMARY:NETA65 CPC Committee Monthly Meeting
DESCRIPTION:Monthly CPC Committee meeting:\nNormally 3rd Saturday of the month at 10am via zoom; changed this month to accommodate for Assembly\n\nJoin Zoom Meeting or select Link:\nMeeting ID: 916 2176 7662Passcode: 645587
URL:https://neta65.org/event/cpc-committee-meeting-26-2-2-2-2-2/2028-01-15/
LOCATION:https://zoom.us/j/91621767662?pwd=Gg2HZXV3VOGNChfX385j1DVZk6HH4k.1
END:VEVENT
BEGIN:VEVENT
DTSTART;TZID=America/Chicago:20280219T100000
DTEND;TZID=America/Chicago:20280219T110000
DTSTAMP:20260422T064039
CREATED:20260110T180634Z
LAST-MODIFIED:20260110T180634Z
UID:10001305-1834567200-1834570800@neta65.org
SUMMARY:NETA65 CPC Committee Monthly Meeting
DESCRIPTION:Monthly CPC Committee meeting:\nNormally 3rd Saturday of the month at 10am via zoom; changed this month to accommodate for Assembly\n\nJoin Zoom Meeting or select Link:\nMeeting ID: 916 2176 7662Passcode: 645587
URL:https://neta65.org/event/cpc-committee-meeting-26-2-2-2-2-2/2028-02-19/
LOCATION:https://zoom.us/j/91621767662?pwd=Gg2HZXV3VOGNChfX385j1DVZk6HH4k.1
END:VEVENT
BEGIN:VEVENT
DTSTART;TZID=America/Chicago:20280318T100000
DTEND;TZID=America/Chicago:20280318T110000
DTSTAMP:20260422T064039
CREATED:20260110T180634Z
LAST-MODIFIED:20260110T180634Z
UID:10001306-1836986400-1836990000@neta65.org
SUMMARY:NETA65 CPC Committee Monthly Meeting
DESCRIPTION:Monthly CPC Committee meeting:\nNormally 3rd Saturday of the month at 10am via zoom; changed this month to accommodate for Assembly\n\nJoin Zoom Meeting or select Link:\nMeeting ID: 916 2176 7662Passcode: 645587
URL:https://neta65.org/event/cpc-committee-meeting-26-2-2-2-2-2/2028-03-18/
LOCATION:https://zoom.us/j/91621767662?pwd=Gg2HZXV3VOGNChfX385j1DVZk6HH4k.1
END:VEVENT
BEGIN:VEVENT
DTSTART;TZID=America/Chicago:20280415T100000
DTEND;TZID=America/Chicago:20280415T110000
DTSTAMP:20260422T064039
CREATED:20260110T180634Z
LAST-MODIFIED:20260110T180634Z
UID:10001307-1839405600-1839409200@neta65.org
SUMMARY:NETA65 CPC Committee Monthly Meeting
DESCRIPTION:Monthly CPC Committee meeting:\nNormally 3rd Saturday of the month at 10am via zoom; changed this month to accommodate for Assembly\n\nJoin Zoom Meeting or select Link:\nMeeting ID: 916 2176 7662Passcode: 645587
URL:https://neta65.org/event/cpc-committee-meeting-26-2-2-2-2-2/2028-04-15/
LOCATION:https://zoom.us/j/91621767662?pwd=Gg2HZXV3VOGNChfX385j1DVZk6HH4k.1
END:VEVENT
BEGIN:VEVENT
DTSTART;TZID=America/Chicago:20280520T100000
DTEND;TZID=America/Chicago:20280520T110000
DTSTAMP:20260422T064039
CREATED:20260110T180634Z
LAST-MODIFIED:20260110T180634Z
UID:10001308-1842429600-1842433200@neta65.org
SUMMARY:NETA65 CPC Committee Monthly Meeting
DESCRIPTION:Monthly CPC Committee meeting:\nNormally 3rd Saturday of the month at 10am via zoom; changed this month to accommodate for Assembly\n\nJoin Zoom Meeting or select Link:\nMeeting ID: 916 2176 7662Passcode: 645587
URL:https://neta65.org/event/cpc-committee-meeting-26-2-2-2-2-2/2028-05-20/
LOCATION:https://zoom.us/j/91621767662?pwd=Gg2HZXV3VOGNChfX385j1DVZk6HH4k.1
END:VEVENT
BEGIN:VEVENT
DTSTART;TZID=America/Chicago:20280617T100000
DTEND;TZID=America/Chicago:20280617T110000
DTSTAMP:20260422T064039
CREATED:20260110T180634Z
LAST-MODIFIED:20260110T180634Z
UID:10001309-1844848800-1844852400@neta65.org
SUMMARY:NETA65 CPC Committee Monthly Meeting
DESCRIPTION:Monthly CPC Committee meeting:\nNormally 3rd Saturday of the month at 10am via zoom; changed this month to accommodate for Assembly\n\nJoin Zoom Meeting or select Link:\nMeeting ID: 916 2176 7662Passcode: 645587
URL:https://neta65.org/event/cpc-committee-meeting-26-2-2-2-2-2/2028-06-17/
LOCATION:https://zoom.us/j/91621767662?pwd=Gg2HZXV3VOGNChfX385j1DVZk6HH4k.1
END:VEVENT
BEGIN:VEVENT
DTSTART;TZID=America/Chicago:20280715T100000
DTEND;TZID=America/Chicago:20280715T110000
DTSTAMP:20260422T064039
CREATED:20260110T180634Z
LAST-MODIFIED:20260110T180634Z
UID:10001310-1847268000-1847271600@neta65.org
SUMMARY:NETA65 CPC Committee Monthly Meeting
DESCRIPTION:Monthly CPC Committee meeting:\nNormally 3rd Saturday of the month at 10am via zoom; changed this month to accommodate for Assembly\n\nJoin Zoom Meeting or select Link:\nMeeting ID: 916 2176 7662Passcode: 645587
URL:https://neta65.org/event/cpc-committee-meeting-26-2-2-2-2-2/2028-07-15/
LOCATION:https://zoom.us/j/91621767662?pwd=Gg2HZXV3VOGNChfX385j1DVZk6HH4k.1
END:VEVENT
BEGIN:VEVENT
DTSTART;TZID=America/Chicago:20280819T100000
DTEND;TZID=America/Chicago:20280819T110000
DTSTAMP:20260422T064039
CREATED:20260110T180634Z
LAST-MODIFIED:20260110T180634Z
UID:10001311-1850292000-1850295600@neta65.org
SUMMARY:NETA65 CPC Committee Monthly Meeting
DESCRIPTION:Monthly CPC Committee meeting:\nNormally 3rd Saturday of the month at 10am via zoom; changed this month to accommodate for Assembly\n\nJoin Zoom Meeting or select Link:\nMeeting ID: 916 2176 7662Passcode: 645587
URL:https://neta65.org/event/cpc-committee-meeting-26-2-2-2-2-2/2028-08-19/
LOCATION:https://zoom.us/j/91621767662?pwd=Gg2HZXV3VOGNChfX385j1DVZk6HH4k.1
END:VEVENT
BEGIN:VEVENT
DTSTART;TZID=America/Chicago:20280916T100000
DTEND;TZID=America/Chicago:20280916T110000
DTSTAMP:20260422T064039
CREATED:20260110T180634Z
LAST-MODIFIED:20260110T180634Z
UID:10001312-1852711200-1852714800@neta65.org
SUMMARY:NETA65 CPC Committee Monthly Meeting
DESCRIPTION:Monthly CPC Committee meeting:\nNormally 3rd Saturday of the month at 10am via zoom; changed this month to accommodate for Assembly\n\nJoin Zoom Meeting or select Link:\nMeeting ID: 916 2176 7662Passcode: 645587
URL:https://neta65.org/event/cpc-committee-meeting-26-2-2-2-2-2/2028-09-16/
LOCATION:https://zoom.us/j/91621767662?pwd=Gg2HZXV3VOGNChfX385j1DVZk6HH4k.1
END:VEVENT
BEGIN:VEVENT
DTSTART;TZID=America/Chicago:20281021T100000
DTEND;TZID=America/Chicago:20281021T110000
DTSTAMP:20260422T064039
CREATED:20260110T180634Z
LAST-MODIFIED:20260110T180634Z
UID:10001313-1855735200-1855738800@neta65.org
SUMMARY:NETA65 CPC Committee Monthly Meeting
DESCRIPTION:Monthly CPC Committee meeting:\nNormally 3rd Saturday of the month at 10am via zoom; changed this month to accommodate for Assembly\n\nJoin Zoom Meeting or select Link:\nMeeting ID: 916 2176 7662Passcode: 645587
URL:https://neta65.org/event/cpc-committee-meeting-26-2-2-2-2-2/2028-10-21/
LOCATION:https://zoom.us/j/91621767662?pwd=Gg2HZXV3VOGNChfX385j1DVZk6HH4k.1
END:VEVENT
END:VCALENDAR