BEGIN:VCALENDAR
VERSION:2.0
PRODID:-// - ECPv6.15.20//NONSGML v1.0//EN
CALSCALE:GREGORIAN
METHOD:PUBLISH
X-ORIGINAL-URL:https://neta65.org
X-WR-CALDESC:Events for 
REFRESH-INTERVAL;VALUE=DURATION:PT1H
X-Robots-Tag:noindex
X-PUBLISHED-TTL:PT1H
BEGIN:VTIMEZONE
TZID:America/Chicago
BEGIN:DAYLIGHT
TZOFFSETFROM:-0600
TZOFFSETTO:-0500
TZNAME:CDT
DTSTART:20230312T080000
END:DAYLIGHT
BEGIN:STANDARD
TZOFFSETFROM:-0500
TZOFFSETTO:-0600
TZNAME:CST
DTSTART:20231105T070000
END:STANDARD
BEGIN:DAYLIGHT
TZOFFSETFROM:-0600
TZOFFSETTO:-0500
TZNAME:CDT
DTSTART:20240310T080000
END:DAYLIGHT
BEGIN:STANDARD
TZOFFSETFROM:-0500
TZOFFSETTO:-0600
TZNAME:CST
DTSTART:20241103T070000
END:STANDARD
BEGIN:DAYLIGHT
TZOFFSETFROM:-0600
TZOFFSETTO:-0500
TZNAME:CDT
DTSTART:20250309T080000
END:DAYLIGHT
BEGIN:STANDARD
TZOFFSETFROM:-0500
TZOFFSETTO:-0600
TZNAME:CST
DTSTART:20251102T070000
END:STANDARD
BEGIN:DAYLIGHT
TZOFFSETFROM:-0600
TZOFFSETTO:-0500
TZNAME:CDT
DTSTART:20260308T080000
END:DAYLIGHT
BEGIN:STANDARD
TZOFFSETFROM:-0500
TZOFFSETTO:-0600
TZNAME:CST
DTSTART:20261101T070000
END:STANDARD
END:VTIMEZONE
BEGIN:VEVENT
DTSTART;TZID=America/Chicago:20250719T133000
DTEND;TZID=America/Chicago:20250719T133000
DTSTAMP:20260422T170440
CREATED:20250713T201641Z
LAST-MODIFIED:20250713T201733Z
UID:10001193-1752931800-1752931800@neta65.org
SUMMARY:CPC & PI Combined Workshop
DESCRIPTION:Please join us for a Cooperation with the Professional Community and Public Information Workshop
URL:https://neta65.org/event/cpc-pi-combined-workshop/
LOCATION:Arlington Group\, 1226 S Bowen Rd\, Arlington\, TX\, 76013\, United States
CATEGORIES:Workshop
ATTACH;FMTTYPE=image/png:https://neta65.org/wp-content/uploads/2025/07/CPC-PI-Workshop.png
END:VEVENT
BEGIN:VEVENT
DTSTART;TZID=America/Chicago:20250712T090000
DTEND;TZID=America/Chicago:20250712T160000
DTSTAMP:20260422T170440
CREATED:20250530T004115Z
LAST-MODIFIED:20250530T004115Z
UID:10001181-1752310800-1752336000@neta65.org
SUMMARY:NETA 65 Corrections Conference
DESCRIPTION:Please Join us at the NETA65 2025 Corrections Conference\nTime to make the connection through those working within our corrections system.
URL:https://neta65.org/event/neta-65-corrections-conference-2/
LOCATION:Arlington Group\, 1226 S Bowen Rd\, Arlington\, TX\, 76013\, United States
CATEGORIES:Corrections
ATTACH;FMTTYPE=image/png:https://neta65.org/wp-content/uploads/2025/05/2025-Corrections-Conference.png
END:VEVENT
BEGIN:VEVENT
DTSTART;TZID=America/Chicago:20240713T083000
DTEND;TZID=America/Chicago:20240713T153000
DTSTAMP:20260422T170440
CREATED:20240615T135750Z
LAST-MODIFIED:20240615T135750Z
UID:10000172-1720859400-1720884600@neta65.org
SUMMARY:Corrections Convention Summer 2024
DESCRIPTION:
URL:https://neta65.org/event/corrections-convention-summer-2024/
LOCATION:Arlington Group\, 1226 S Bowen Rd\, Arlington\, TX\, 76013\, United States
CATEGORIES:Convention
ATTACH;FMTTYPE=image/jpeg:https://neta65.org/wp-content/uploads/2024/06/Corrections-Conference-2024.jpg
END:VEVENT
END:VCALENDAR