BEGIN:VCALENDAR
VERSION:2.0
PRODID:-// - ECPv6.15.20//NONSGML v1.0//EN
CALSCALE:GREGORIAN
METHOD:PUBLISH
X-ORIGINAL-URL:https://neta65.org
X-WR-CALDESC:Events for 
REFRESH-INTERVAL;VALUE=DURATION:PT1H
X-Robots-Tag:noindex
X-PUBLISHED-TTL:PT1H
BEGIN:VTIMEZONE
TZID:America/Chicago
BEGIN:DAYLIGHT
TZOFFSETFROM:-0600
TZOFFSETTO:-0500
TZNAME:CDT
DTSTART:20240310T080000
END:DAYLIGHT
BEGIN:STANDARD
TZOFFSETFROM:-0500
TZOFFSETTO:-0600
TZNAME:CST
DTSTART:20241103T070000
END:STANDARD
BEGIN:DAYLIGHT
TZOFFSETFROM:-0600
TZOFFSETTO:-0500
TZNAME:CDT
DTSTART:20250309T080000
END:DAYLIGHT
BEGIN:STANDARD
TZOFFSETFROM:-0500
TZOFFSETTO:-0600
TZNAME:CST
DTSTART:20251102T070000
END:STANDARD
BEGIN:DAYLIGHT
TZOFFSETFROM:-0600
TZOFFSETTO:-0500
TZNAME:CDT
DTSTART:20260308T080000
END:DAYLIGHT
BEGIN:STANDARD
TZOFFSETFROM:-0500
TZOFFSETTO:-0600
TZNAME:CST
DTSTART:20261101T070000
END:STANDARD
END:VTIMEZONE
BEGIN:VEVENT
DTSTART;TZID=America/Chicago:20250112T130000
DTEND;TZID=America/Chicago:20250112T173000
DTSTAMP:20260422T213400
CREATED:20241215T134211Z
LAST-MODIFIED:20250108T023957Z
UID:10000805-1736686800-1736703000@neta65.org
SUMMARY:Area 65 Central GSR/DCM Orientation
DESCRIPTION:Enjoy the atmosphere of fellow area trusted servants while finding support and learning the structure and procedures of our Area 65 organization. We want to thank you for your serve in AA and  help you integrate into your new position. We will have materials and presentation to help you navigate through uncertainty. We will also have food:)\nOrientation Agenda\, Agenda Esp\nZoom:\nMeeting ID: 835 7419 9044\nPasscode: 611189
URL:https://neta65.org/event/area-65-central-gsr-dcm-orientation/
LOCATION:Clear Cut Directions Group\, 185 S White Chapel Blvd\, Southlake\, TX\, 76092\, United States
CATEGORIES:Orientation
END:VEVENT
END:VCALENDAR