BEGIN:VCALENDAR
VERSION:2.0
PRODID:-// - ECPv6.15.20//NONSGML v1.0//EN
CALSCALE:GREGORIAN
METHOD:PUBLISH
X-ORIGINAL-URL:https://neta65.org
X-WR-CALDESC:Events for 
REFRESH-INTERVAL;VALUE=DURATION:PT1H
X-Robots-Tag:noindex
X-PUBLISHED-TTL:PT1H
BEGIN:VTIMEZONE
TZID:America/Chicago
BEGIN:DAYLIGHT
TZOFFSETFROM:-0600
TZOFFSETTO:-0500
TZNAME:CDT
DTSTART:20240310T080000
END:DAYLIGHT
BEGIN:STANDARD
TZOFFSETFROM:-0500
TZOFFSETTO:-0600
TZNAME:CST
DTSTART:20241103T070000
END:STANDARD
BEGIN:DAYLIGHT
TZOFFSETFROM:-0600
TZOFFSETTO:-0500
TZNAME:CDT
DTSTART:20250309T080000
END:DAYLIGHT
BEGIN:STANDARD
TZOFFSETFROM:-0500
TZOFFSETTO:-0600
TZNAME:CST
DTSTART:20251102T070000
END:STANDARD
BEGIN:DAYLIGHT
TZOFFSETFROM:-0600
TZOFFSETTO:-0500
TZNAME:CDT
DTSTART:20260308T080000
END:DAYLIGHT
BEGIN:STANDARD
TZOFFSETFROM:-0500
TZOFFSETTO:-0600
TZNAME:CST
DTSTART:20261101T070000
END:STANDARD
END:VTIMEZONE
BEGIN:VEVENT
DTSTART;VALUE=DATE:20251010
DTEND;VALUE=DATE:20251012
DTSTAMP:20260422T172228
CREATED:20250629T145728Z
LAST-MODIFIED:20250629T154723Z
UID:10001186-1760054400-1760227199@neta65.org
SUMMARY:40th Heart of Texas Conference
DESCRIPTION:Experience the fellowship in full glory at the 40th annual Heart of Texas Conference!\n\n\nhttps://heartoftexasconference.com \n  \nHeart of Texas Conference Registration\n\n\nDon’t miss out on the Heart of Texas Conference! Register now\, pay your registration fee online\, and skip the money exchange hassle at the door! \n\n\nRegister & Pay ($25)\n\nLocation:\nCrestview Church of Christ\n129 Delhi Road\, Waco\, TX 76712 \n\nHeart of Texas Conference Registration\n\n\nDon’t miss out on the Heart of Texas Conference! Register now\, pay your registration fee online\, and skip the money exchange hassle at the door! \n\n\nRegister & Pay
URL:https://neta65.org/event/40th-heart-of-texas-conference/
LOCATION:Crestview Church of Christ\, 129 Delhi Road\, Waco\, TX\, 76712\, United States
ATTACH;FMTTYPE=image/webp:https://neta65.org/wp-content/uploads/2025/06/rsw_1280h_1707.webp
END:VEVENT
END:VCALENDAR