BEGIN:VCALENDAR
VERSION:2.0
PRODID:-// - ECPv6.15.20//NONSGML v1.0//EN
CALSCALE:GREGORIAN
METHOD:PUBLISH
X-ORIGINAL-URL:https://neta65.org
X-WR-CALDESC:Events for 
REFRESH-INTERVAL;VALUE=DURATION:PT1H
X-Robots-Tag:noindex
X-PUBLISHED-TTL:PT1H
BEGIN:VTIMEZONE
TZID:America/Chicago
BEGIN:DAYLIGHT
TZOFFSETFROM:-0600
TZOFFSETTO:-0500
TZNAME:CDT
DTSTART:20240310T080000
END:DAYLIGHT
BEGIN:STANDARD
TZOFFSETFROM:-0500
TZOFFSETTO:-0600
TZNAME:CST
DTSTART:20241103T070000
END:STANDARD
BEGIN:DAYLIGHT
TZOFFSETFROM:-0600
TZOFFSETTO:-0500
TZNAME:CDT
DTSTART:20250309T080000
END:DAYLIGHT
BEGIN:STANDARD
TZOFFSETFROM:-0500
TZOFFSETTO:-0600
TZNAME:CST
DTSTART:20251102T070000
END:STANDARD
BEGIN:DAYLIGHT
TZOFFSETFROM:-0600
TZOFFSETTO:-0500
TZNAME:CDT
DTSTART:20260308T080000
END:DAYLIGHT
BEGIN:STANDARD
TZOFFSETFROM:-0500
TZOFFSETTO:-0600
TZNAME:CST
DTSTART:20261101T070000
END:STANDARD
END:VTIMEZONE
BEGIN:VEVENT
DTSTART;TZID=America/Chicago:20251206T080000
DTEND;TZID=America/Chicago:20251206T100000
DTSTAMP:20260422T170746
CREATED:20251106T220827Z
LAST-MODIFIED:20251106T221415Z
UID:10001269-1765008000-1765015200@neta65.org
SUMMARY:Grapevine/LaVina Workshop
DESCRIPTION:Come share your experience\, strength\, and hope\, with the opportunity for your story to be eligible for publication in La Vina magazine and do the twelfth step work with alcoholics anywhere in the world.
URL:https://neta65.org/event/grapevine-lavina-workshop-2/
LOCATION:El Grupo Comenzando Una Neuva Vida\, 3014 E Main st\, Grand Prairie\, TX\, 75050\, United States
ATTACH;FMTTYPE=image/jpeg:https://neta65.org/wp-content/uploads/2025/11/cd4d8814-86ae-458c-8ce6-b78aa86824cc.jpg
END:VEVENT
END:VCALENDAR