BEGIN:VCALENDAR
VERSION:2.0
PRODID:-// - ECPv6.15.20//NONSGML v1.0//EN
CALSCALE:GREGORIAN
METHOD:PUBLISH
X-ORIGINAL-URL:https://neta65.org
X-WR-CALDESC:Events for 
REFRESH-INTERVAL;VALUE=DURATION:PT1H
X-Robots-Tag:noindex
X-PUBLISHED-TTL:PT1H
BEGIN:VTIMEZONE
TZID:America/Chicago
BEGIN:DAYLIGHT
TZOFFSETFROM:-0600
TZOFFSETTO:-0500
TZNAME:CDT
DTSTART:20230312T080000
END:DAYLIGHT
BEGIN:STANDARD
TZOFFSETFROM:-0500
TZOFFSETTO:-0600
TZNAME:CST
DTSTART:20231105T070000
END:STANDARD
BEGIN:DAYLIGHT
TZOFFSETFROM:-0600
TZOFFSETTO:-0500
TZNAME:CDT
DTSTART:20240310T080000
END:DAYLIGHT
BEGIN:STANDARD
TZOFFSETFROM:-0500
TZOFFSETTO:-0600
TZNAME:CST
DTSTART:20241103T070000
END:STANDARD
BEGIN:DAYLIGHT
TZOFFSETFROM:-0600
TZOFFSETTO:-0500
TZNAME:CDT
DTSTART:20250309T080000
END:DAYLIGHT
BEGIN:STANDARD
TZOFFSETFROM:-0500
TZOFFSETTO:-0600
TZNAME:CST
DTSTART:20251102T070000
END:STANDARD
END:VTIMEZONE
BEGIN:VEVENT
DTSTART;TZID=America/Chicago:20240713T150000
DTEND;TZID=America/Chicago:20240713T173000
DTSTAMP:20260422T170439
CREATED:20240620T162314Z
LAST-MODIFIED:20240620T162314Z
UID:10000179-1720882800-1720891800@neta65.org
SUMMARY:SWRAASA YPAA 12 Traditions Workshop & Trivia
DESCRIPTION:
URL:https://neta65.org/event/swraasa-ypaa-12-traditions-workshop-trivia/
LOCATION:Granbury Serenity\, 1205 Lipan Hwy\, Brazos Bend\, TX\, 75048\, United States
CATEGORIES:Workshop
ATTACH;FMTTYPE=image/png:https://neta65.org/wp-content/uploads/2024/06/YPAA-SWRAASA-July-2024.png
END:VEVENT
END:VCALENDAR