BEGIN:VCALENDAR
VERSION:2.0
PRODID:-// - ECPv6.15.20//NONSGML v1.0//EN
CALSCALE:GREGORIAN
METHOD:PUBLISH
X-ORIGINAL-URL:https://neta65.org
X-WR-CALDESC:Events for 
REFRESH-INTERVAL;VALUE=DURATION:PT1H
X-Robots-Tag:noindex
X-PUBLISHED-TTL:PT1H
BEGIN:VTIMEZONE
TZID:America/Chicago
BEGIN:DAYLIGHT
TZOFFSETFROM:-0600
TZOFFSETTO:-0500
TZNAME:CDT
DTSTART:20240310T080000
END:DAYLIGHT
BEGIN:STANDARD
TZOFFSETFROM:-0500
TZOFFSETTO:-0600
TZNAME:CST
DTSTART:20241103T070000
END:STANDARD
BEGIN:DAYLIGHT
TZOFFSETFROM:-0600
TZOFFSETTO:-0500
TZNAME:CDT
DTSTART:20250309T080000
END:DAYLIGHT
BEGIN:STANDARD
TZOFFSETFROM:-0500
TZOFFSETTO:-0600
TZNAME:CST
DTSTART:20251102T070000
END:STANDARD
BEGIN:DAYLIGHT
TZOFFSETFROM:-0600
TZOFFSETTO:-0500
TZNAME:CDT
DTSTART:20260308T080000
END:DAYLIGHT
BEGIN:STANDARD
TZOFFSETFROM:-0500
TZOFFSETTO:-0600
TZNAME:CST
DTSTART:20261101T070000
END:STANDARD
END:VTIMEZONE
BEGIN:VEVENT
DTSTART;VALUE=DATE:20251024
DTEND;VALUE=DATE:20251027
DTSTAMP:20260422T214030
CREATED:20250629T154636Z
LAST-MODIFIED:20250629T154636Z
UID:10001188-1761264000-1761523199@neta65.org
SUMMARY:44th Annual Texas State Young People in AA Convention
DESCRIPTION:TXSCYPAA 44 – “Hang Together or Die Separately”\nOctober 24 – 26\, 2025 |$20\nhttps://www.txscypaa.org\nLocation – Houston\, TX\nMarriott South at Hobby Airport\n9100 Gulf Freeway\, Houston\, TX 77017\n$110 per night
URL:https://neta65.org/event/44th-annual-texas-state-young-people-in-aa-convention/
LOCATION:Marriott South at Hobby Airport\, 9100 Gulf Freeway\, Houston\, TX\, 77017\, United States
ATTACH;FMTTYPE=image/png:https://neta65.org/wp-content/uploads/2025/06/Screenshot_20250629_104326.png
END:VEVENT
END:VCALENDAR