BEGIN:VCALENDAR
VERSION:2.0
PRODID:-// - ECPv6.15.20//NONSGML v1.0//EN
CALSCALE:GREGORIAN
METHOD:PUBLISH
X-ORIGINAL-URL:https://neta65.org
X-WR-CALDESC:Events for 
REFRESH-INTERVAL;VALUE=DURATION:PT1H
X-Robots-Tag:noindex
X-PUBLISHED-TTL:PT1H
BEGIN:VTIMEZONE
TZID:America/Chicago
BEGIN:DAYLIGHT
TZOFFSETFROM:-0600
TZOFFSETTO:-0500
TZNAME:CDT
DTSTART:20240310T080000
END:DAYLIGHT
BEGIN:STANDARD
TZOFFSETFROM:-0500
TZOFFSETTO:-0600
TZNAME:CST
DTSTART:20241103T070000
END:STANDARD
BEGIN:DAYLIGHT
TZOFFSETFROM:-0600
TZOFFSETTO:-0500
TZNAME:CDT
DTSTART:20250309T080000
END:DAYLIGHT
BEGIN:STANDARD
TZOFFSETFROM:-0500
TZOFFSETTO:-0600
TZNAME:CST
DTSTART:20251102T070000
END:STANDARD
BEGIN:DAYLIGHT
TZOFFSETFROM:-0600
TZOFFSETTO:-0500
TZNAME:CDT
DTSTART:20260308T080000
END:DAYLIGHT
BEGIN:STANDARD
TZOFFSETFROM:-0500
TZOFFSETTO:-0600
TZNAME:CST
DTSTART:20261101T070000
END:STANDARD
END:VTIMEZONE
BEGIN:VEVENT
DTSTART;VALUE=DATE:20250815
DTEND;VALUE=DATE:20250818
DTSTAMP:20260422T184237
CREATED:20250628T141247Z
LAST-MODIFIED:20250628T141653Z
UID:10001183-1755216000-1755475199@neta65.org
SUMMARY:78th Texas State Convention (2025)
DESCRIPTION:78th Texas State AA Convention\nAugust 15 – 17\, 2025\nHouston\, TX \nService is love in action. \nRoyal Sonesta Hotel\nHouston Galleria Area\n2222 W. Loop South\nHouston\, TX 77027\n713-627-7600 \n$149 per night\nHotel Booking Information\nCut-off for $149 rate is 7/18/2025 \nRegister Now for the Convention\nPre-Registration ends 8/1/2025\nIf you experience issues reserving a room or getting the correct room rate\nemail us at info.HoustonTSC@gmail.com\n\n \n\n\nDownload English Flyer\nDownload Spanish Flyer\n\n  \nConvention Attractions\n– 1st Timer Contest\n– AA Meetings\n– Archives Room\n– Hospitality Suite\n– Spanish Speakers & Workshop\n– Spanish Translation (Bring your own earbuds)
URL:https://neta65.org/event/78th-texas-state-convention-2025/
LOCATION:Royal Sonesta Hotel\, 2222 W. Loop South\, Houston\, 77027\, United States
END:VEVENT
END:VCALENDAR