BEGIN:VCALENDAR
VERSION:2.0
PRODID:-// - ECPv6.15.20//NONSGML v1.0//EN
CALSCALE:GREGORIAN
METHOD:PUBLISH
X-ORIGINAL-URL:https://neta65.org
X-WR-CALDESC:Events for 
REFRESH-INTERVAL;VALUE=DURATION:PT1H
X-Robots-Tag:noindex
X-PUBLISHED-TTL:PT1H
BEGIN:VTIMEZONE
TZID:America/Chicago
BEGIN:DAYLIGHT
TZOFFSETFROM:-0600
TZOFFSETTO:-0500
TZNAME:CDT
DTSTART:20230312T080000
END:DAYLIGHT
BEGIN:STANDARD
TZOFFSETFROM:-0500
TZOFFSETTO:-0600
TZNAME:CST
DTSTART:20231105T070000
END:STANDARD
BEGIN:DAYLIGHT
TZOFFSETFROM:-0600
TZOFFSETTO:-0500
TZNAME:CDT
DTSTART:20240310T080000
END:DAYLIGHT
BEGIN:STANDARD
TZOFFSETFROM:-0500
TZOFFSETTO:-0600
TZNAME:CST
DTSTART:20241103T070000
END:STANDARD
BEGIN:DAYLIGHT
TZOFFSETFROM:-0600
TZOFFSETTO:-0500
TZNAME:CDT
DTSTART:20250309T080000
END:DAYLIGHT
BEGIN:STANDARD
TZOFFSETFROM:-0500
TZOFFSETTO:-0600
TZNAME:CST
DTSTART:20251102T070000
END:STANDARD
END:VTIMEZONE
BEGIN:VEVENT
DTSTART;TZID=America/Chicago:20240608T143000
DTEND;TZID=America/Chicago:20240608T170000
DTSTAMP:20260422T200530
CREATED:20240426T141948Z
LAST-MODIFIED:20240426T142432Z
UID:10000169-1717857000-1717866000@neta65.org
SUMMARY:What is General Service - Karaoke
DESCRIPTION:THE SWRAASA 2024 YOUNG PEOPLE’S\nSUBCOMMITTEE PRESENTS… What is General Service Karaoke Day Party
URL:https://neta65.org/event/what-is-general-service-karaoke/
LOCATION:Southwest Group\, 3145 Townsend Drive\, Ft. Worth\, TX\, 76110\, United States
ATTACH;FMTTYPE=image/jpeg:https://neta65.org/wp-content/uploads/2024/04/SWRAASA-Karaoke-Flyer.jpg
END:VEVENT
END:VCALENDAR