BEGIN:VCALENDAR
VERSION:2.0
PRODID:-// - ECPv6.15.20//NONSGML v1.0//EN
CALSCALE:GREGORIAN
METHOD:PUBLISH
X-ORIGINAL-URL:https://neta65.org
X-WR-CALDESC:Events for 
REFRESH-INTERVAL;VALUE=DURATION:PT1H
X-Robots-Tag:noindex
X-PUBLISHED-TTL:PT1H
BEGIN:VTIMEZONE
TZID:America/Chicago
BEGIN:DAYLIGHT
TZOFFSETFROM:-0600
TZOFFSETTO:-0500
TZNAME:CDT
DTSTART:20270314T080000
END:DAYLIGHT
BEGIN:STANDARD
TZOFFSETFROM:-0500
TZOFFSETTO:-0600
TZNAME:CST
DTSTART:20271107T070000
END:STANDARD
BEGIN:DAYLIGHT
TZOFFSETFROM:-0600
TZOFFSETTO:-0500
TZNAME:CDT
DTSTART:20280312T080000
END:DAYLIGHT
BEGIN:STANDARD
TZOFFSETFROM:-0500
TZOFFSETTO:-0600
TZNAME:CST
DTSTART:20281105T070000
END:STANDARD
BEGIN:DAYLIGHT
TZOFFSETFROM:-0600
TZOFFSETTO:-0500
TZNAME:CDT
DTSTART:20290311T080000
END:DAYLIGHT
BEGIN:STANDARD
TZOFFSETFROM:-0500
TZOFFSETTO:-0600
TZNAME:CST
DTSTART:20291104T070000
END:STANDARD
BEGIN:DAYLIGHT
TZOFFSETFROM:-0600
TZOFFSETTO:-0500
TZNAME:CDT
DTSTART:20300310T080000
END:DAYLIGHT
BEGIN:STANDARD
TZOFFSETFROM:-0500
TZOFFSETTO:-0600
TZNAME:CST
DTSTART:20301103T070000
END:STANDARD
END:VTIMEZONE
BEGIN:VEVENT
DTSTART;TZID=America/Chicago:20281024T190000
DTEND;TZID=America/Chicago:20281024T200000
DTSTAMP:20260422T231047
CREATED:20241010T145049Z
LAST-MODIFIED:20250825T193635Z
UID:10000604-1856026800-1856030400@neta65.org
SUMMARY:Treatment Committee Meeting
DESCRIPTION:NETA 65 Treatment Committee Meetings\n4th TUESDAY OF EVERY MONTH\n7:00 PM \nJoin Zoom Meeting\nhttps://us02web.zoom.us/j/2123241524?pwd=TWFhaVhOUjd1Rk5uL3hJVXhtOWlKUT09 \nMeeting ID: 212 324 1524\nPasscode: 057892
URL:https://neta65.org/event/treatment-committee-meeting-03-2023-2/2028-10-24/
LOCATION:Virtual Meeting via Zoom
CATEGORIES:Committee Meeting,Treatment Committee Meeting
ATTACH;FMTTYPE=image/png:https://neta65.org/wp-content/uploads/2023/07/2023-07_TREATMENT-COMMITTEE.png
END:VEVENT
BEGIN:VEVENT
DTSTART;TZID=America/Chicago:20281115T190000
DTEND;TZID=America/Chicago:20281115T200000
DTSTAMP:20260422T231047
CREATED:20230919T022750Z
LAST-MODIFIED:20260120T155356Z
UID:10000412-1857927600-1857931200@neta65.org
SUMMARY:AA Grapevine / La Viña Committee Meeting
DESCRIPTION:3rd Wednesday of every Month 7pm – 8pm \nZoom Info:\nID 949 476 7497\nPasscode neta65
URL:https://neta65.org/event/aa-grapevine-la-vina-committee-meeting-2024-09/2028-11-15/
LOCATION:Virtual Meeting via Zoom
CATEGORIES:Committee Meeting,Grapevine-LaViña
ATTACH;FMTTYPE=image/png:https://neta65.org/wp-content/uploads/2023/09/GV-LV_Committee_Meeting.png
END:VEVENT
BEGIN:VEVENT
DTSTART;TZID=America/Chicago:20281115T200000
DTEND;TZID=America/Chicago:20281115T210000
DTSTAMP:20260422T231047
CREATED:20231008T215318Z
LAST-MODIFIED:20250825T194356Z
UID:10000294-1857931200-1857934800@neta65.org
SUMMARY:Corrections Committee Meeting
DESCRIPTION:
URL:https://neta65.org/event/corrections-committee-meeting-24-09/2028-11-15/
LOCATION:Virtual Meeting via Zoom
CATEGORIES:Committee Meeting,Corrections
ATTACH;FMTTYPE=image/png:https://neta65.org/wp-content/uploads/2023/10/2023-10-CORRECTIONS-COMMITTEE.png
END:VEVENT
BEGIN:VEVENT
DTSTART;TZID=America/Chicago:20281128T190000
DTEND;TZID=America/Chicago:20281128T200000
DTSTAMP:20260422T231047
CREATED:20241010T145049Z
LAST-MODIFIED:20250825T193635Z
UID:10000605-1859050800-1859054400@neta65.org
SUMMARY:Treatment Committee Meeting
DESCRIPTION:NETA 65 Treatment Committee Meetings\n4th TUESDAY OF EVERY MONTH\n7:00 PM \nJoin Zoom Meeting\nhttps://us02web.zoom.us/j/2123241524?pwd=TWFhaVhOUjd1Rk5uL3hJVXhtOWlKUT09 \nMeeting ID: 212 324 1524\nPasscode: 057892
URL:https://neta65.org/event/treatment-committee-meeting-03-2023-2/2028-11-28/
LOCATION:Virtual Meeting via Zoom
CATEGORIES:Committee Meeting,Treatment Committee Meeting
ATTACH;FMTTYPE=image/png:https://neta65.org/wp-content/uploads/2023/07/2023-07_TREATMENT-COMMITTEE.png
END:VEVENT
BEGIN:VEVENT
DTSTART;TZID=America/Chicago:20281220T190000
DTEND;TZID=America/Chicago:20281220T200000
DTSTAMP:20260422T231047
CREATED:20230919T022750Z
LAST-MODIFIED:20260120T155356Z
UID:10000413-1860951600-1860955200@neta65.org
SUMMARY:AA Grapevine / La Viña Committee Meeting
DESCRIPTION:3rd Wednesday of every Month 7pm – 8pm \nZoom Info:\nID 949 476 7497\nPasscode neta65
URL:https://neta65.org/event/aa-grapevine-la-vina-committee-meeting-2024-09/2028-12-20/
LOCATION:Virtual Meeting via Zoom
CATEGORIES:Committee Meeting,Grapevine-LaViña
ATTACH;FMTTYPE=image/png:https://neta65.org/wp-content/uploads/2023/09/GV-LV_Committee_Meeting.png
END:VEVENT
BEGIN:VEVENT
DTSTART;TZID=America/Chicago:20281220T200000
DTEND;TZID=America/Chicago:20281220T210000
DTSTAMP:20260422T231047
CREATED:20231008T215318Z
LAST-MODIFIED:20250825T194356Z
UID:10000295-1860955200-1860958800@neta65.org
SUMMARY:Corrections Committee Meeting
DESCRIPTION:
URL:https://neta65.org/event/corrections-committee-meeting-24-09/2028-12-20/
LOCATION:Virtual Meeting via Zoom
CATEGORIES:Committee Meeting,Corrections
ATTACH;FMTTYPE=image/png:https://neta65.org/wp-content/uploads/2023/10/2023-10-CORRECTIONS-COMMITTEE.png
END:VEVENT
BEGIN:VEVENT
DTSTART;TZID=America/Chicago:20281226T190000
DTEND;TZID=America/Chicago:20281226T200000
DTSTAMP:20260422T231047
CREATED:20241010T145049Z
LAST-MODIFIED:20250825T193635Z
UID:10000606-1861470000-1861473600@neta65.org
SUMMARY:Treatment Committee Meeting
DESCRIPTION:NETA 65 Treatment Committee Meetings\n4th TUESDAY OF EVERY MONTH\n7:00 PM \nJoin Zoom Meeting\nhttps://us02web.zoom.us/j/2123241524?pwd=TWFhaVhOUjd1Rk5uL3hJVXhtOWlKUT09 \nMeeting ID: 212 324 1524\nPasscode: 057892
URL:https://neta65.org/event/treatment-committee-meeting-03-2023-2/2028-12-26/
LOCATION:Virtual Meeting via Zoom
CATEGORIES:Committee Meeting,Treatment Committee Meeting
ATTACH;FMTTYPE=image/png:https://neta65.org/wp-content/uploads/2023/07/2023-07_TREATMENT-COMMITTEE.png
END:VEVENT
BEGIN:VEVENT
DTSTART;TZID=America/Chicago:20290117T190000
DTEND;TZID=America/Chicago:20290117T200000
DTSTAMP:20260422T231047
CREATED:20230919T022750Z
LAST-MODIFIED:20260120T155356Z
UID:10000414-1863370800-1863374400@neta65.org
SUMMARY:AA Grapevine / La Viña Committee Meeting
DESCRIPTION:3rd Wednesday of every Month 7pm – 8pm \nZoom Info:\nID 949 476 7497\nPasscode neta65
URL:https://neta65.org/event/aa-grapevine-la-vina-committee-meeting-2024-09/2029-01-17/
LOCATION:Virtual Meeting via Zoom
CATEGORIES:Committee Meeting,Grapevine-LaViña
ATTACH;FMTTYPE=image/png:https://neta65.org/wp-content/uploads/2023/09/GV-LV_Committee_Meeting.png
END:VEVENT
BEGIN:VEVENT
DTSTART;TZID=America/Chicago:20290117T200000
DTEND;TZID=America/Chicago:20290117T210000
DTSTAMP:20260422T231047
CREATED:20231008T215318Z
LAST-MODIFIED:20250825T194356Z
UID:10000296-1863374400-1863378000@neta65.org
SUMMARY:Corrections Committee Meeting
DESCRIPTION:
URL:https://neta65.org/event/corrections-committee-meeting-24-09/2029-01-17/
LOCATION:Virtual Meeting via Zoom
CATEGORIES:Committee Meeting,Corrections
ATTACH;FMTTYPE=image/png:https://neta65.org/wp-content/uploads/2023/10/2023-10-CORRECTIONS-COMMITTEE.png
END:VEVENT
BEGIN:VEVENT
DTSTART;TZID=America/Chicago:20290123T190000
DTEND;TZID=America/Chicago:20290123T200000
DTSTAMP:20260422T231047
CREATED:20241010T145049Z
LAST-MODIFIED:20250825T193635Z
UID:10000607-1863889200-1863892800@neta65.org
SUMMARY:Treatment Committee Meeting
DESCRIPTION:NETA 65 Treatment Committee Meetings\n4th TUESDAY OF EVERY MONTH\n7:00 PM \nJoin Zoom Meeting\nhttps://us02web.zoom.us/j/2123241524?pwd=TWFhaVhOUjd1Rk5uL3hJVXhtOWlKUT09 \nMeeting ID: 212 324 1524\nPasscode: 057892
URL:https://neta65.org/event/treatment-committee-meeting-03-2023-2/2029-01-23/
LOCATION:Virtual Meeting via Zoom
CATEGORIES:Committee Meeting,Treatment Committee Meeting
ATTACH;FMTTYPE=image/png:https://neta65.org/wp-content/uploads/2023/07/2023-07_TREATMENT-COMMITTEE.png
END:VEVENT
BEGIN:VEVENT
DTSTART;TZID=America/Chicago:20290221T190000
DTEND;TZID=America/Chicago:20290221T200000
DTSTAMP:20260422T231047
CREATED:20230919T022750Z
LAST-MODIFIED:20260120T155356Z
UID:10000415-1866394800-1866398400@neta65.org
SUMMARY:AA Grapevine / La Viña Committee Meeting
DESCRIPTION:3rd Wednesday of every Month 7pm – 8pm \nZoom Info:\nID 949 476 7497\nPasscode neta65
URL:https://neta65.org/event/aa-grapevine-la-vina-committee-meeting-2024-09/2029-02-21/
LOCATION:Virtual Meeting via Zoom
CATEGORIES:Committee Meeting,Grapevine-LaViña
ATTACH;FMTTYPE=image/png:https://neta65.org/wp-content/uploads/2023/09/GV-LV_Committee_Meeting.png
END:VEVENT
BEGIN:VEVENT
DTSTART;TZID=America/Chicago:20290221T200000
DTEND;TZID=America/Chicago:20290221T210000
DTSTAMP:20260422T231047
CREATED:20231008T215318Z
LAST-MODIFIED:20250825T194356Z
UID:10000297-1866398400-1866402000@neta65.org
SUMMARY:Corrections Committee Meeting
DESCRIPTION:
URL:https://neta65.org/event/corrections-committee-meeting-24-09/2029-02-21/
LOCATION:Virtual Meeting via Zoom
CATEGORIES:Committee Meeting,Corrections
ATTACH;FMTTYPE=image/png:https://neta65.org/wp-content/uploads/2023/10/2023-10-CORRECTIONS-COMMITTEE.png
END:VEVENT
BEGIN:VEVENT
DTSTART;TZID=America/Chicago:20290227T190000
DTEND;TZID=America/Chicago:20290227T200000
DTSTAMP:20260422T231047
CREATED:20241010T145049Z
LAST-MODIFIED:20250825T193635Z
UID:10000608-1866913200-1866916800@neta65.org
SUMMARY:Treatment Committee Meeting
DESCRIPTION:NETA 65 Treatment Committee Meetings\n4th TUESDAY OF EVERY MONTH\n7:00 PM \nJoin Zoom Meeting\nhttps://us02web.zoom.us/j/2123241524?pwd=TWFhaVhOUjd1Rk5uL3hJVXhtOWlKUT09 \nMeeting ID: 212 324 1524\nPasscode: 057892
URL:https://neta65.org/event/treatment-committee-meeting-03-2023-2/2029-02-27/
LOCATION:Virtual Meeting via Zoom
CATEGORIES:Committee Meeting,Treatment Committee Meeting
ATTACH;FMTTYPE=image/png:https://neta65.org/wp-content/uploads/2023/07/2023-07_TREATMENT-COMMITTEE.png
END:VEVENT
BEGIN:VEVENT
DTSTART;TZID=America/Chicago:20290321T190000
DTEND;TZID=America/Chicago:20290321T200000
DTSTAMP:20260422T231047
CREATED:20230919T022750Z
LAST-MODIFIED:20260120T155356Z
UID:10000416-1868814000-1868817600@neta65.org
SUMMARY:AA Grapevine / La Viña Committee Meeting
DESCRIPTION:3rd Wednesday of every Month 7pm – 8pm \nZoom Info:\nID 949 476 7497\nPasscode neta65
URL:https://neta65.org/event/aa-grapevine-la-vina-committee-meeting-2024-09/2029-03-21/
LOCATION:Virtual Meeting via Zoom
CATEGORIES:Committee Meeting,Grapevine-LaViña
ATTACH;FMTTYPE=image/png:https://neta65.org/wp-content/uploads/2023/09/GV-LV_Committee_Meeting.png
END:VEVENT
BEGIN:VEVENT
DTSTART;TZID=America/Chicago:20290321T200000
DTEND;TZID=America/Chicago:20290321T210000
DTSTAMP:20260422T231047
CREATED:20231008T215318Z
LAST-MODIFIED:20250825T194356Z
UID:10000298-1868817600-1868821200@neta65.org
SUMMARY:Corrections Committee Meeting
DESCRIPTION:
URL:https://neta65.org/event/corrections-committee-meeting-24-09/2029-03-21/
LOCATION:Virtual Meeting via Zoom
CATEGORIES:Committee Meeting,Corrections
ATTACH;FMTTYPE=image/png:https://neta65.org/wp-content/uploads/2023/10/2023-10-CORRECTIONS-COMMITTEE.png
END:VEVENT
BEGIN:VEVENT
DTSTART;TZID=America/Chicago:20290327T190000
DTEND;TZID=America/Chicago:20290327T200000
DTSTAMP:20260422T231047
CREATED:20241010T145049Z
LAST-MODIFIED:20250825T193635Z
UID:10000609-1869332400-1869336000@neta65.org
SUMMARY:Treatment Committee Meeting
DESCRIPTION:NETA 65 Treatment Committee Meetings\n4th TUESDAY OF EVERY MONTH\n7:00 PM \nJoin Zoom Meeting\nhttps://us02web.zoom.us/j/2123241524?pwd=TWFhaVhOUjd1Rk5uL3hJVXhtOWlKUT09 \nMeeting ID: 212 324 1524\nPasscode: 057892
URL:https://neta65.org/event/treatment-committee-meeting-03-2023-2/2029-03-27/
LOCATION:Virtual Meeting via Zoom
CATEGORIES:Committee Meeting,Treatment Committee Meeting
ATTACH;FMTTYPE=image/png:https://neta65.org/wp-content/uploads/2023/07/2023-07_TREATMENT-COMMITTEE.png
END:VEVENT
BEGIN:VEVENT
DTSTART;TZID=America/Chicago:20290418T190000
DTEND;TZID=America/Chicago:20290418T200000
DTSTAMP:20260422T231047
CREATED:20230919T022750Z
LAST-MODIFIED:20260120T155356Z
UID:10000417-1871233200-1871236800@neta65.org
SUMMARY:AA Grapevine / La Viña Committee Meeting
DESCRIPTION:3rd Wednesday of every Month 7pm – 8pm \nZoom Info:\nID 949 476 7497\nPasscode neta65
URL:https://neta65.org/event/aa-grapevine-la-vina-committee-meeting-2024-09/2029-04-18/
LOCATION:Virtual Meeting via Zoom
CATEGORIES:Committee Meeting,Grapevine-LaViña
ATTACH;FMTTYPE=image/png:https://neta65.org/wp-content/uploads/2023/09/GV-LV_Committee_Meeting.png
END:VEVENT
BEGIN:VEVENT
DTSTART;TZID=America/Chicago:20290418T200000
DTEND;TZID=America/Chicago:20290418T210000
DTSTAMP:20260422T231047
CREATED:20231008T215318Z
LAST-MODIFIED:20250825T194356Z
UID:10000299-1871236800-1871240400@neta65.org
SUMMARY:Corrections Committee Meeting
DESCRIPTION:
URL:https://neta65.org/event/corrections-committee-meeting-24-09/2029-04-18/
LOCATION:Virtual Meeting via Zoom
CATEGORIES:Committee Meeting,Corrections
ATTACH;FMTTYPE=image/png:https://neta65.org/wp-content/uploads/2023/10/2023-10-CORRECTIONS-COMMITTEE.png
END:VEVENT
BEGIN:VEVENT
DTSTART;TZID=America/Chicago:20290424T190000
DTEND;TZID=America/Chicago:20290424T200000
DTSTAMP:20260422T231047
CREATED:20241010T145049Z
LAST-MODIFIED:20250825T193635Z
UID:10000610-1871751600-1871755200@neta65.org
SUMMARY:Treatment Committee Meeting
DESCRIPTION:NETA 65 Treatment Committee Meetings\n4th TUESDAY OF EVERY MONTH\n7:00 PM \nJoin Zoom Meeting\nhttps://us02web.zoom.us/j/2123241524?pwd=TWFhaVhOUjd1Rk5uL3hJVXhtOWlKUT09 \nMeeting ID: 212 324 1524\nPasscode: 057892
URL:https://neta65.org/event/treatment-committee-meeting-03-2023-2/2029-04-24/
LOCATION:Virtual Meeting via Zoom
CATEGORIES:Committee Meeting,Treatment Committee Meeting
ATTACH;FMTTYPE=image/png:https://neta65.org/wp-content/uploads/2023/07/2023-07_TREATMENT-COMMITTEE.png
END:VEVENT
BEGIN:VEVENT
DTSTART;TZID=America/Chicago:20290516T190000
DTEND;TZID=America/Chicago:20290516T200000
DTSTAMP:20260422T231047
CREATED:20230919T022750Z
LAST-MODIFIED:20260120T155356Z
UID:10000418-1873652400-1873656000@neta65.org
SUMMARY:AA Grapevine / La Viña Committee Meeting
DESCRIPTION:3rd Wednesday of every Month 7pm – 8pm \nZoom Info:\nID 949 476 7497\nPasscode neta65
URL:https://neta65.org/event/aa-grapevine-la-vina-committee-meeting-2024-09/2029-05-16/
LOCATION:Virtual Meeting via Zoom
CATEGORIES:Committee Meeting,Grapevine-LaViña
ATTACH;FMTTYPE=image/png:https://neta65.org/wp-content/uploads/2023/09/GV-LV_Committee_Meeting.png
END:VEVENT
BEGIN:VEVENT
DTSTART;TZID=America/Chicago:20290516T200000
DTEND;TZID=America/Chicago:20290516T210000
DTSTAMP:20260422T231047
CREATED:20231008T215318Z
LAST-MODIFIED:20250825T194356Z
UID:10000300-1873656000-1873659600@neta65.org
SUMMARY:Corrections Committee Meeting
DESCRIPTION:
URL:https://neta65.org/event/corrections-committee-meeting-24-09/2029-05-16/
LOCATION:Virtual Meeting via Zoom
CATEGORIES:Committee Meeting,Corrections
ATTACH;FMTTYPE=image/png:https://neta65.org/wp-content/uploads/2023/10/2023-10-CORRECTIONS-COMMITTEE.png
END:VEVENT
BEGIN:VEVENT
DTSTART;TZID=America/Chicago:20290522T190000
DTEND;TZID=America/Chicago:20290522T200000
DTSTAMP:20260422T231047
CREATED:20241010T145049Z
LAST-MODIFIED:20250825T193635Z
UID:10000611-1874170800-1874174400@neta65.org
SUMMARY:Treatment Committee Meeting
DESCRIPTION:NETA 65 Treatment Committee Meetings\n4th TUESDAY OF EVERY MONTH\n7:00 PM \nJoin Zoom Meeting\nhttps://us02web.zoom.us/j/2123241524?pwd=TWFhaVhOUjd1Rk5uL3hJVXhtOWlKUT09 \nMeeting ID: 212 324 1524\nPasscode: 057892
URL:https://neta65.org/event/treatment-committee-meeting-03-2023-2/2029-05-22/
LOCATION:Virtual Meeting via Zoom
CATEGORIES:Committee Meeting,Treatment Committee Meeting
ATTACH;FMTTYPE=image/png:https://neta65.org/wp-content/uploads/2023/07/2023-07_TREATMENT-COMMITTEE.png
END:VEVENT
BEGIN:VEVENT
DTSTART;TZID=America/Chicago:20290620T190000
DTEND;TZID=America/Chicago:20290620T200000
DTSTAMP:20260422T231047
CREATED:20230919T022750Z
LAST-MODIFIED:20260120T155356Z
UID:10000419-1876676400-1876680000@neta65.org
SUMMARY:AA Grapevine / La Viña Committee Meeting
DESCRIPTION:3rd Wednesday of every Month 7pm – 8pm \nZoom Info:\nID 949 476 7497\nPasscode neta65
URL:https://neta65.org/event/aa-grapevine-la-vina-committee-meeting-2024-09/2029-06-20/
LOCATION:Virtual Meeting via Zoom
CATEGORIES:Committee Meeting,Grapevine-LaViña
ATTACH;FMTTYPE=image/png:https://neta65.org/wp-content/uploads/2023/09/GV-LV_Committee_Meeting.png
END:VEVENT
BEGIN:VEVENT
DTSTART;TZID=America/Chicago:20290620T200000
DTEND;TZID=America/Chicago:20290620T210000
DTSTAMP:20260422T231047
CREATED:20231008T215318Z
LAST-MODIFIED:20250825T194356Z
UID:10000301-1876680000-1876683600@neta65.org
SUMMARY:Corrections Committee Meeting
DESCRIPTION:
URL:https://neta65.org/event/corrections-committee-meeting-24-09/2029-06-20/
LOCATION:Virtual Meeting via Zoom
CATEGORIES:Committee Meeting,Corrections
ATTACH;FMTTYPE=image/png:https://neta65.org/wp-content/uploads/2023/10/2023-10-CORRECTIONS-COMMITTEE.png
END:VEVENT
BEGIN:VEVENT
DTSTART;TZID=America/Chicago:20290626T190000
DTEND;TZID=America/Chicago:20290626T200000
DTSTAMP:20260422T231047
CREATED:20241010T145049Z
LAST-MODIFIED:20250825T193635Z
UID:10000612-1877194800-1877198400@neta65.org
SUMMARY:Treatment Committee Meeting
DESCRIPTION:NETA 65 Treatment Committee Meetings\n4th TUESDAY OF EVERY MONTH\n7:00 PM \nJoin Zoom Meeting\nhttps://us02web.zoom.us/j/2123241524?pwd=TWFhaVhOUjd1Rk5uL3hJVXhtOWlKUT09 \nMeeting ID: 212 324 1524\nPasscode: 057892
URL:https://neta65.org/event/treatment-committee-meeting-03-2023-2/2029-06-26/
LOCATION:Virtual Meeting via Zoom
CATEGORIES:Committee Meeting,Treatment Committee Meeting
ATTACH;FMTTYPE=image/png:https://neta65.org/wp-content/uploads/2023/07/2023-07_TREATMENT-COMMITTEE.png
END:VEVENT
BEGIN:VEVENT
DTSTART;TZID=America/Chicago:20290718T190000
DTEND;TZID=America/Chicago:20290718T200000
DTSTAMP:20260422T231047
CREATED:20230919T022750Z
LAST-MODIFIED:20260120T155356Z
UID:10000420-1879095600-1879099200@neta65.org
SUMMARY:AA Grapevine / La Viña Committee Meeting
DESCRIPTION:3rd Wednesday of every Month 7pm – 8pm \nZoom Info:\nID 949 476 7497\nPasscode neta65
URL:https://neta65.org/event/aa-grapevine-la-vina-committee-meeting-2024-09/2029-07-18/
LOCATION:Virtual Meeting via Zoom
CATEGORIES:Committee Meeting,Grapevine-LaViña
ATTACH;FMTTYPE=image/png:https://neta65.org/wp-content/uploads/2023/09/GV-LV_Committee_Meeting.png
END:VEVENT
BEGIN:VEVENT
DTSTART;TZID=America/Chicago:20290718T200000
DTEND;TZID=America/Chicago:20290718T210000
DTSTAMP:20260422T231047
CREATED:20231008T215318Z
LAST-MODIFIED:20250825T194356Z
UID:10000302-1879099200-1879102800@neta65.org
SUMMARY:Corrections Committee Meeting
DESCRIPTION:
URL:https://neta65.org/event/corrections-committee-meeting-24-09/2029-07-18/
LOCATION:Virtual Meeting via Zoom
CATEGORIES:Committee Meeting,Corrections
ATTACH;FMTTYPE=image/png:https://neta65.org/wp-content/uploads/2023/10/2023-10-CORRECTIONS-COMMITTEE.png
END:VEVENT
BEGIN:VEVENT
DTSTART;TZID=America/Chicago:20290724T190000
DTEND;TZID=America/Chicago:20290724T200000
DTSTAMP:20260422T231047
CREATED:20241010T145049Z
LAST-MODIFIED:20250825T193635Z
UID:10000613-1879614000-1879617600@neta65.org
SUMMARY:Treatment Committee Meeting
DESCRIPTION:NETA 65 Treatment Committee Meetings\n4th TUESDAY OF EVERY MONTH\n7:00 PM \nJoin Zoom Meeting\nhttps://us02web.zoom.us/j/2123241524?pwd=TWFhaVhOUjd1Rk5uL3hJVXhtOWlKUT09 \nMeeting ID: 212 324 1524\nPasscode: 057892
URL:https://neta65.org/event/treatment-committee-meeting-03-2023-2/2029-07-24/
LOCATION:Virtual Meeting via Zoom
CATEGORIES:Committee Meeting,Treatment Committee Meeting
ATTACH;FMTTYPE=image/png:https://neta65.org/wp-content/uploads/2023/07/2023-07_TREATMENT-COMMITTEE.png
END:VEVENT
BEGIN:VEVENT
DTSTART;TZID=America/Chicago:20290815T190000
DTEND;TZID=America/Chicago:20290815T200000
DTSTAMP:20260422T231047
CREATED:20230919T022750Z
LAST-MODIFIED:20260120T155356Z
UID:10000421-1881514800-1881518400@neta65.org
SUMMARY:AA Grapevine / La Viña Committee Meeting
DESCRIPTION:3rd Wednesday of every Month 7pm – 8pm \nZoom Info:\nID 949 476 7497\nPasscode neta65
URL:https://neta65.org/event/aa-grapevine-la-vina-committee-meeting-2024-09/2029-08-15/
LOCATION:Virtual Meeting via Zoom
CATEGORIES:Committee Meeting,Grapevine-LaViña
ATTACH;FMTTYPE=image/png:https://neta65.org/wp-content/uploads/2023/09/GV-LV_Committee_Meeting.png
END:VEVENT
BEGIN:VEVENT
DTSTART;TZID=America/Chicago:20290815T200000
DTEND;TZID=America/Chicago:20290815T210000
DTSTAMP:20260422T231047
CREATED:20231008T215318Z
LAST-MODIFIED:20250825T194356Z
UID:10000303-1881518400-1881522000@neta65.org
SUMMARY:Corrections Committee Meeting
DESCRIPTION:
URL:https://neta65.org/event/corrections-committee-meeting-24-09/2029-08-15/
LOCATION:Virtual Meeting via Zoom
CATEGORIES:Committee Meeting,Corrections
ATTACH;FMTTYPE=image/png:https://neta65.org/wp-content/uploads/2023/10/2023-10-CORRECTIONS-COMMITTEE.png
END:VEVENT
END:VCALENDAR